BEGIN:VCALENDAR
VERSION:2.0
PRODID:-//La Voz de Klamath - ECPv6.15.20//NONSGML v1.0//EN
CALSCALE:GREGORIAN
METHOD:PUBLISH
X-ORIGINAL-URL:https://lavozdeklamath.com
X-WR-CALDESC:Events for La Voz de Klamath
REFRESH-INTERVAL;VALUE=DURATION:PT1H
X-Robots-Tag:noindex
X-PUBLISHED-TTL:PT1H
BEGIN:VTIMEZONE
TZID:America/Los_Angeles
BEGIN:DAYLIGHT
TZOFFSETFROM:-0800
TZOFFSETTO:-0700
TZNAME:PDT
DTSTART:20250309T100000
END:DAYLIGHT
BEGIN:STANDARD
TZOFFSETFROM:-0700
TZOFFSETTO:-0800
TZNAME:PST
DTSTART:20251102T090000
END:STANDARD
BEGIN:DAYLIGHT
TZOFFSETFROM:-0800
TZOFFSETTO:-0700
TZNAME:PDT
DTSTART:20260308T100000
END:DAYLIGHT
BEGIN:STANDARD
TZOFFSETFROM:-0700
TZOFFSETTO:-0800
TZNAME:PST
DTSTART:20261101T090000
END:STANDARD
BEGIN:DAYLIGHT
TZOFFSETFROM:-0800
TZOFFSETTO:-0700
TZNAME:PDT
DTSTART:20270314T100000
END:DAYLIGHT
BEGIN:STANDARD
TZOFFSETFROM:-0700
TZOFFSETTO:-0800
TZNAME:PST
DTSTART:20271107T090000
END:STANDARD
END:VTIMEZONE
BEGIN:VEVENT
DTSTART;TZID=America/Los_Angeles:20260208T130000
DTEND;TZID=America/Los_Angeles:20260208T190000
DTSTAMP:20260424T182110
CREATED:20260205T184940Z
LAST-MODIFIED:20260205T185043Z
UID:10002010-1770555600-1770577200@lavozdeklamath.com
SUMMARY:¡Fiesta para ver el Super Bowl en Lake of the Woods!
DESCRIPTION: ¡Fiesta para ver el Super Bowl en Lake of the Woods! \nÚnase a nosotros en nuestro salón del piso superior para disfrutar de la mejor experiencia del día del juego con ofertas especiales de cerveza y bebidas y alimentos especiales del Super Bowl disponibles durante el juego.\n ¡Hora de la rifa!Consigue un boleto de rifa por cada bebida que compres para tener la oportunidad de ganar regalos de Lake of the Woods durante toda la noche.\nVen a ver el juego\, quédate para divertirte y\, si quieres pasar una noche inolvidable\, llama hoy mismo a nuestro equipo de reservas para reservar una cabaña y continuar la fiesta después del pitido final.\n ¡Nos vemos el día del partido!\n\n\n\nhttps://www.facebook.com/events/918360860716379/\n\nPara cerrar la semana\, el  domingo  invita a tus amigos y dirígete al  Lake of the Woods Resort  para una  fiesta para ver el Super Bowl  . Por cada bebida que compres recibirás un boleto para participar en una rifa con la oportunidad de ganar premios durante toda la tarde. El evento comienza a la  1:00 p.m.
URL:https://lavozdeklamath.com/event/super-bowl-watch-party-at-lake-of-the-woods/
LOCATION:Lake of the Woods Resort General Store\, 950 Harriman Route\, Klamath Falsl\, OR\, 97601\, United States
CATEGORIES:Family Friendly Event,Klamath County Event,Klamath Falls Community Event,Klamath Falls Event
ATTACH;FMTTYPE=image/png:https://lavozdeklamath.com/wp-content/uploads/2026/02/bb-1-2.png
END:VEVENT
END:VCALENDAR