BEGIN:VCALENDAR
VERSION:2.0
PRODID:-//La Voz de Klamath - ECPv6.15.20//NONSGML v1.0//EN
CALSCALE:GREGORIAN
METHOD:PUBLISH
X-WR-CALNAME:La Voz de Klamath
X-ORIGINAL-URL:https://lavozdeklamath.com
X-WR-CALDESC:Events for La Voz de Klamath
REFRESH-INTERVAL;VALUE=DURATION:PT1H
X-Robots-Tag:noindex
X-PUBLISHED-TTL:PT1H
BEGIN:VTIMEZONE
TZID:America/Los_Angeles
BEGIN:DAYLIGHT
TZOFFSETFROM:-0800
TZOFFSETTO:-0700
TZNAME:PDT
DTSTART:20250309T100000
END:DAYLIGHT
BEGIN:STANDARD
TZOFFSETFROM:-0700
TZOFFSETTO:-0800
TZNAME:PST
DTSTART:20251102T090000
END:STANDARD
BEGIN:DAYLIGHT
TZOFFSETFROM:-0800
TZOFFSETTO:-0700
TZNAME:PDT
DTSTART:20260308T100000
END:DAYLIGHT
BEGIN:STANDARD
TZOFFSETFROM:-0700
TZOFFSETTO:-0800
TZNAME:PST
DTSTART:20261101T090000
END:STANDARD
BEGIN:DAYLIGHT
TZOFFSETFROM:-0800
TZOFFSETTO:-0700
TZNAME:PDT
DTSTART:20270314T100000
END:DAYLIGHT
BEGIN:STANDARD
TZOFFSETFROM:-0700
TZOFFSETTO:-0800
TZNAME:PST
DTSTART:20271107T090000
END:STANDARD
END:VTIMEZONE
BEGIN:VEVENT
DTSTART;TZID=America/Los_Angeles:20260221T120000
DTEND;TZID=America/Los_Angeles:20260221T160000
DTSTAMP:20260424T184000
CREATED:20260210T203546Z
LAST-MODIFIED:20260210T203546Z
UID:10002015-1771675200-1771689600@lavozdeklamath.com
SUMMARY:¡El DÍA DE DIVERSIÓN FAMILIAR en Malin\, Oregón\, es el 21 de febrero de 2026! ¡Es gratis!
DESCRIPTION:¡Día de Diversión Familiar en Malin\, Oregón! ¡21 de febrero de 2026! ¡Es gratis!\nTraiga a su familia y disfrute de un día gratis de actividades divertidas y comida gratis. Además\, reciba información y recursos gratuitos sobre opciones disponibles para usted y su familia en cuanto a atención médica\, empleos y capacitación. Esto es especialmente para nuestra comunidad hispana.\n\n-Comida gratis\n-Artículos para la rifa\n-Castillo inflable para los niños (si el clima lo permite)\nSábado 21 de febrero\, de 12 p. m. a 4 p. m.\nen el Gimnasio de la Escuela Primaria Malin\n2153 3rd Street Malin\, Oregón 97632\nLlame al 541-883-2947 para obtener información sobre el evento. ¡Esperamos verlos allí!
URL:https://lavozdeklamath.com/event/el-dia-de-diversion-familiar-en-malin-oregon-es-el-21-de-febrero-de-2026-es-gratis/
LOCATION:Malin Elementary School\, 2153 3rd Street\, Malin\, OR\, 97632\, United States
CATEGORIES:Family Friendly Event,Klamath County Event,Klamath Falls Community Event,Klamath Falls Event
ATTACH;FMTTYPE=image/png:https://lavozdeklamath.com/wp-content/uploads/2026/02/malin.png
END:VEVENT
BEGIN:VEVENT
DTSTART;TZID=America/Los_Angeles:20260221T130000
DTEND;TZID=America/Los_Angeles:20260221T150000
DTSTAMP:20260424T184000
CREATED:20260212T170944Z
LAST-MODIFIED:20260212T170944Z
UID:10002017-1771678800-1771686000@lavozdeklamath.com
SUMMARY:¡Celebre el Año Nuevo Chino con nosotros en la Biblioteca del Condado de Klamath el 21 de febrero!
DESCRIPTION:Acompáñenos en la Biblioteca del Condado de Klamath\, en el centro de la ciudad\, para celebrar el Año del Caballo de Fuego de este Año Nuevo Lunar.\nEl evento tendrá lugar el sábado 21 de febrero de 2026\, de 13:00 a 15:00 h.\n¡Esperamos verlos a usted y a su familia allí para disfrutar de juegos\, manualidades y cuentos!
URL:https://lavozdeklamath.com/event/celebre-el-ano-nuevo-chino-con-nosotros-en-la-biblioteca-del-condado-de-klamath-el-21-de-febrero/
LOCATION:Klamath County Library\, 126 S 3rd St\, Klamath Falls\, OR\, 97601\, United States
CATEGORIES:Family Friendly Event,Holiday Event,Klamath County Event,Klamath Falls Community Event,Klamath Falls Event
ATTACH;FMTTYPE=image/png:https://lavozdeklamath.com/wp-content/uploads/2026/02/nuevo-lunar.png
END:VEVENT
END:VCALENDAR