BEGIN:VCALENDAR
VERSION:2.0
PRODID:-//La Voz de Klamath - ECPv6.15.20//NONSGML v1.0//EN
CALSCALE:GREGORIAN
METHOD:PUBLISH
X-ORIGINAL-URL:https://lavozdeklamath.com
X-WR-CALDESC:Events for La Voz de Klamath
REFRESH-INTERVAL;VALUE=DURATION:PT1H
X-Robots-Tag:noindex
X-PUBLISHED-TTL:PT1H
BEGIN:VTIMEZONE
TZID:America/Los_Angeles
BEGIN:DAYLIGHT
TZOFFSETFROM:-0800
TZOFFSETTO:-0700
TZNAME:PDT
DTSTART:20250309T100000
END:DAYLIGHT
BEGIN:STANDARD
TZOFFSETFROM:-0700
TZOFFSETTO:-0800
TZNAME:PST
DTSTART:20251102T090000
END:STANDARD
BEGIN:DAYLIGHT
TZOFFSETFROM:-0800
TZOFFSETTO:-0700
TZNAME:PDT
DTSTART:20260308T100000
END:DAYLIGHT
BEGIN:STANDARD
TZOFFSETFROM:-0700
TZOFFSETTO:-0800
TZNAME:PST
DTSTART:20261101T090000
END:STANDARD
BEGIN:DAYLIGHT
TZOFFSETFROM:-0800
TZOFFSETTO:-0700
TZNAME:PDT
DTSTART:20270314T100000
END:DAYLIGHT
BEGIN:STANDARD
TZOFFSETFROM:-0700
TZOFFSETTO:-0800
TZNAME:PST
DTSTART:20271107T090000
END:STANDARD
END:VTIMEZONE
BEGIN:VEVENT
DTSTART;TZID=America/Los_Angeles:20260319T160000
DTEND;TZID=America/Los_Angeles:20260319T173000
DTSTAMP:20260424T182201
CREATED:20260304T032717Z
LAST-MODIFIED:20260304T170617Z
UID:10002061-1773936000-1773941400@lavozdeklamath.com
SUMMARY:Hora del cuento y cómo hacer un comedero para pájaros. Únase a nosotros el jueves 19 de marzo en la Biblioteca South Suburban.
DESCRIPTION:Tus amigos de la Biblioteca South Suburban y Take Root\, el programa de apoyo para padres del condado de Klamath\, presentan actividades divertidas para niños acompañados de un adulto.\n  \nAcércate a la biblioteca ubicada en Summers Lane 3625 el jueves 19 de marzo de 2026\, de 16:00 a 17:30 h. \n  \nEs necesario registrarse para saber cuántos asistirán. \n  \nPatrocinado en parte por Sage Credit Union. \n  \nPara más información\, llama a Laura al 541-670-6123 o envíale un correo electrónico a LBarajas@DESD.K12.OR.US \n 
URL:https://lavozdeklamath.com/event/hora-del-cuento-y-como-hacer-un-comedero-para-pajaros-unase-a-nosotros-el-jueves-19-de-marzo-en-la-biblioteca-south-suburban/
LOCATION:South Suburban Library\, 3635 Summers Lane\, Klamath Falls\, OR\, 97601\, United States
CATEGORIES:Family Friendly Event,Klamath County Event,Klamath Falls Community Event,Klamath Falls Event
ATTACH;FMTTYPE=image/png:https://lavozdeklamath.com/wp-content/uploads/2026/03/f-bid.png
END:VEVENT
END:VCALENDAR