BEGIN:VCALENDAR
VERSION:2.0
PRODID:-//La Voz de Klamath - ECPv6.15.20//NONSGML v1.0//EN
CALSCALE:GREGORIAN
METHOD:PUBLISH
X-WR-CALNAME:La Voz de Klamath
X-ORIGINAL-URL:https://lavozdeklamath.com
X-WR-CALDESC:Events for La Voz de Klamath
REFRESH-INTERVAL;VALUE=DURATION:PT1H
X-Robots-Tag:noindex
X-PUBLISHED-TTL:PT1H
BEGIN:VTIMEZONE
TZID:America/Los_Angeles
BEGIN:DAYLIGHT
TZOFFSETFROM:-0800
TZOFFSETTO:-0700
TZNAME:PDT
DTSTART:20250309T100000
END:DAYLIGHT
BEGIN:STANDARD
TZOFFSETFROM:-0700
TZOFFSETTO:-0800
TZNAME:PST
DTSTART:20251102T090000
END:STANDARD
BEGIN:DAYLIGHT
TZOFFSETFROM:-0800
TZOFFSETTO:-0700
TZNAME:PDT
DTSTART:20260308T100000
END:DAYLIGHT
BEGIN:STANDARD
TZOFFSETFROM:-0700
TZOFFSETTO:-0800
TZNAME:PST
DTSTART:20261101T090000
END:STANDARD
BEGIN:DAYLIGHT
TZOFFSETFROM:-0800
TZOFFSETTO:-0700
TZNAME:PDT
DTSTART:20270314T100000
END:DAYLIGHT
BEGIN:STANDARD
TZOFFSETFROM:-0700
TZOFFSETTO:-0800
TZNAME:PST
DTSTART:20271107T090000
END:STANDARD
END:VTIMEZONE
BEGIN:VEVENT
DTSTART;TZID=America/Los_Angeles:20260523T100000
DTEND;TZID=America/Los_Angeles:20260523T150000
DTSTAMP:20260424T150627
CREATED:20260423T170934Z
LAST-MODIFIED:20260423T171144Z
UID:10002103-1779530400-1779548400@lavozdeklamath.com
SUMMARY:DÍA DE LAS AVES MIGRATORIAS + RECAUDACIÓN DE FONDOS IYS
DESCRIPTION:Integral Youth Services estará presente en el Día de las Aves Migratorias… ¡y llevaremos la barbacoa! \n\n\n\n\n\nÚnase a nosotros en la 26.ª Celebración Anual del Día de las Aves Migratorias de Klamath Falls el:\n\n\n23 de mayo | 10:00 – 15:00\nParque Conmemorativo de los Veteranos\n\n\n\n\nEste evento gratuito y familiar está repleto de:\n¡Pájaros\, pájaros y más pájaros!\nArtes y manualidades\nMúsica en vivo\nEspectáculos de marionetas\nActividades interactivas para todas las edades.\n\n\n\n\nY… ven con hambre\n\n\nIntegral Youth Services se ha asociado con Squeals on Wheels para servir una barbacoa realmente deliciosa (créannos… ¡está buenísima!).\n\n\nAlerta de artículo especial del menú:\nTendremos un artículo destacado cuyas ganancias se destinarán directamente a IYS para ayudarnos a reparar y restaurar una casa que nos permitirá ampliar nuestros programas para jóvenes y adultos jóvenes.\n\n\n\n\nEsta casa creará más espacio y ampliará nuestra capacidad para ofrecer:\n• Vivienda segura\n• Estabilidad\n• Apoyo a los jóvenes de nuestra comunidad\n\n\n\n\nEn estos momentos\, la casa necesita muchas reparaciones\, y cada comida que se compra nos ayuda a estar un paso más cerca de terminarla.\n\n\nAsí que ven a disfrutar del día\, apoya a los negocios locales y llévate un plato con el que contribuirás a una buena causa.\n\n\nCome bien. Haz el bien. Ayuda a construir un futuro para los jóvenes.
URL:https://lavozdeklamath.com/event/migratory-bird-day-iys-fundraiser/
LOCATION:Veterans Park\, 10 George Nurse Wy\, Klamath Falls\, OR\, 97601\, United States
CATEGORIES:Family Friendly Event,Fundraiser,Klamath County Event,Klamath Falls Community Event,Klamath Falls Event
ATTACH;FMTTYPE=image/png:https://lavozdeklamath.com/wp-content/uploads/2026/04/mig-bird-kf.png
ORGANIZER;CN="Integral Youth Services":MAILTO:iys@iyskfalls.org
END:VEVENT
END:VCALENDAR