BEGIN:VCALENDAR
VERSION:2.0
PRODID:-//La Voz de Klamath - ECPv6.15.20//NONSGML v1.0//EN
CALSCALE:GREGORIAN
METHOD:PUBLISH
X-ORIGINAL-URL:https://lavozdeklamath.com
X-WR-CALDESC:Events for La Voz de Klamath
REFRESH-INTERVAL;VALUE=DURATION:PT1H
X-Robots-Tag:noindex
X-PUBLISHED-TTL:PT1H
BEGIN:VTIMEZONE
TZID:America/Los_Angeles
BEGIN:DAYLIGHT
TZOFFSETFROM:-0800
TZOFFSETTO:-0700
TZNAME:PDT
DTSTART:20250309T100000
END:DAYLIGHT
BEGIN:STANDARD
TZOFFSETFROM:-0700
TZOFFSETTO:-0800
TZNAME:PST
DTSTART:20251102T090000
END:STANDARD
BEGIN:DAYLIGHT
TZOFFSETFROM:-0800
TZOFFSETTO:-0700
TZNAME:PDT
DTSTART:20260308T100000
END:DAYLIGHT
BEGIN:STANDARD
TZOFFSETFROM:-0700
TZOFFSETTO:-0800
TZNAME:PST
DTSTART:20261101T090000
END:STANDARD
BEGIN:DAYLIGHT
TZOFFSETFROM:-0800
TZOFFSETTO:-0700
TZNAME:PDT
DTSTART:20270314T100000
END:DAYLIGHT
BEGIN:STANDARD
TZOFFSETFROM:-0700
TZOFFSETTO:-0800
TZNAME:PST
DTSTART:20271107T090000
END:STANDARD
END:VTIMEZONE
BEGIN:VEVENT
DTSTART;TZID=America/Los_Angeles:20260301T160000
DTEND;TZID=America/Los_Angeles:20260301T170000
DTSTAMP:20260424T132216
CREATED:20260121T020356Z
LAST-MODIFIED:20260121T020810Z
UID:10001520-1772380800-1772384400@lavozdeklamath.com
SUMMARY:Aprenda cómo dejar de fumar\, vapear o masticar tabaco en la sesión en línea de Zoom organizada por el Departamento de Salud del Condado de Klamath y la Asociación Estadounidense del Pulmón.
DESCRIPTION:Aprenda a dejar de fumar\, vapear o masticar cigarrillos electrónicos con la sesión en línea de Zoom de Klamath County Health y la Asociación Estadounidense del Pulmón.\n\n1 de febrero a las 16:00 – 17:00 horas\n\n\n\n\n¿Estás buscando dejar de fumar\, vapear o masticar?\nPuedes dejarlo. Podemos ayudarte.\nCuándo: A partir del 1 de febrero de 2026. Todos los domingos a las 16:00 horas.\n \nESCANEE EL CÓDIGO QR para registrarse o recibir más información. \n  \nAquí tienes ayuda para dejar de fumar\, vapear o masticar tabaco. Mira este evento especial en línea por Zoom con esta información:\n-Cómo saber si realmente estás listo para dejarlo\n-Medicamentos que pueden aumentar su éxito\n-Cambios en el estilo de vida para que dejar de fumar sea más fácil.\n-Cómo prepararse para el día en que dejará de fumar\n-Estrategias de afrontamiento para controlar el estrés y evitar el aumento de peso.\n-Cómo mantenerse libre de humo para siempre\n\nESCANEE EL CÓDIGO QR PARA MÁS INFORMACIÓN\nRecibirá el enlace de Zoom EN LÍNEA que se enviará cuando se registre para la clase.\nDurante el curso de 8 semanas dirigido por un facilitador certificado de la Asociación Americana del Pulmón\, aprenderá las últimas formas de dejar de fumar.\nPara obtener más información\, comuníquese con: Amy Slay aslay@klamathcountyor.gov o Kelsey Box Kelsey@oregonsci.org
URL:https://lavozdeklamath.com/event/image-default-learn-how-to-quit-smoking-vaping-or-chewing-from-klamath-county-health-and-the-american-lung-association-zoom-online-session/2026-03-01/
CATEGORIES:Health and Wellness,Klamath County Event,Klamath Falls Community Event,Klamath Falls Event
ATTACH;FMTTYPE=image/png:https://lavozdeklamath.com/wp-content/uploads/2026/01/ffffffffffffffffffff.png
END:VEVENT
BEGIN:VEVENT
DTSTART;TZID=America/Los_Angeles:20260307T103000
DTEND;TZID=America/Los_Angeles:20260307T120000
DTSTAMP:20260424T132216
CREATED:20260212T173429Z
LAST-MODIFIED:20260212T173516Z
UID:10002018-1772879400-1772884800@lavozdeklamath.com
SUMMARY:YOGA FAMILIAR Clase Para Principiantes  ¡Únete a nosotros!
DESCRIPTION:YOGA FAMILIAR\nClase Para Principiantes \n¡Únete a nosotros! \n¡Diversión\nfamiliar gratis! \nLos niños deben estar acompañados\npor un adulto para participar. \nPor favor\, traiga una esterilla de yoga.\nTendremos algunas colchonetas\nadicionales. \nSábado 7 de marzo de 2026\n10:30 a. m. a 12:00 p. m. En el\nedificio 6 de Klamath\nCommunity College\nhttps://tinyurl.com/29hjb4sd
URL:https://lavozdeklamath.com/event/14796/
LOCATION:Klamath Community College\, 7390 South 6th Street\, Klamath Falls\, OR\, 97603\, United States
CATEGORIES:Family Friendly Event,Health and Wellness,Kids,Klamath County Event,Klamath Falls Community Event,Klamath Falls Event
ATTACH;FMTTYPE=image/jpeg:https://lavozdeklamath.com/wp-content/uploads/2026/02/YOGA-KIDS-images-1-spanish-1.jpg
END:VEVENT
BEGIN:VEVENT
DTSTART;TZID=America/Los_Angeles:20260308T160000
DTEND;TZID=America/Los_Angeles:20260308T170000
DTSTAMP:20260424T132216
CREATED:20260121T020356Z
LAST-MODIFIED:20260121T020810Z
UID:10001521-1772985600-1772989200@lavozdeklamath.com
SUMMARY:Aprenda cómo dejar de fumar\, vapear o masticar tabaco en la sesión en línea de Zoom organizada por el Departamento de Salud del Condado de Klamath y la Asociación Estadounidense del Pulmón.
DESCRIPTION:Aprenda a dejar de fumar\, vapear o masticar cigarrillos electrónicos con la sesión en línea de Zoom de Klamath County Health y la Asociación Estadounidense del Pulmón.\n\n1 de febrero a las 16:00 – 17:00 horas\n\n\n\n\n¿Estás buscando dejar de fumar\, vapear o masticar?\nPuedes dejarlo. Podemos ayudarte.\nCuándo: A partir del 1 de febrero de 2026. Todos los domingos a las 16:00 horas.\n \nESCANEE EL CÓDIGO QR para registrarse o recibir más información. \n  \nAquí tienes ayuda para dejar de fumar\, vapear o masticar tabaco. Mira este evento especial en línea por Zoom con esta información:\n-Cómo saber si realmente estás listo para dejarlo\n-Medicamentos que pueden aumentar su éxito\n-Cambios en el estilo de vida para que dejar de fumar sea más fácil.\n-Cómo prepararse para el día en que dejará de fumar\n-Estrategias de afrontamiento para controlar el estrés y evitar el aumento de peso.\n-Cómo mantenerse libre de humo para siempre\n\nESCANEE EL CÓDIGO QR PARA MÁS INFORMACIÓN\nRecibirá el enlace de Zoom EN LÍNEA que se enviará cuando se registre para la clase.\nDurante el curso de 8 semanas dirigido por un facilitador certificado de la Asociación Americana del Pulmón\, aprenderá las últimas formas de dejar de fumar.\nPara obtener más información\, comuníquese con: Amy Slay aslay@klamathcountyor.gov o Kelsey Box Kelsey@oregonsci.org
URL:https://lavozdeklamath.com/event/image-default-learn-how-to-quit-smoking-vaping-or-chewing-from-klamath-county-health-and-the-american-lung-association-zoom-online-session/2026-03-08/
CATEGORIES:Health and Wellness,Klamath County Event,Klamath Falls Community Event,Klamath Falls Event
ATTACH;FMTTYPE=image/png:https://lavozdeklamath.com/wp-content/uploads/2026/01/ffffffffffffffffffff.png
END:VEVENT
BEGIN:VEVENT
DTSTART;TZID=America/Los_Angeles:20260310T100000
DTEND;TZID=America/Los_Angeles:20260310T120000
DTSTAMP:20260424T132216
CREATED:20260305T181459Z
LAST-MODIFIED:20260305T182207Z
UID:10002062-1773136800-1773144000@lavozdeklamath.com
SUMMARY:Usar juegos para generar conexión y confianza Sesión virtual con Scott Novis\, orador\, innovador y fundador de GameTruck
DESCRIPTION:¿Qué pasaría si los videojuegos pudieran ser un momento de conexión en las familias?\nÚnase a Scott Novis en la Academia de Capacitación de la OPEP del 10 de marzo para aprender sobre:\nCómo encontrar y seleccionar juegos apropiados para la edad según objetivos de conexión específicos\nTécnicas de conversación que convierten las sesiones de juego en una conexión real\nEstrategias para gestionar el tiempo de juego\n\n\n\n\n\n10 de marzo de 2026\, 10:00 a. m. a 11:30 a. m. (Virtual)\n\n\n\n\n\n\nLos videojuegos no son una sola cosa. Algunos aíslan a los niños. Otros pueden convertirse en la herramienta de conexión más poderosa de tu casa\, si sabes cómo usarla. \nEn este taller práctico\, aprenderás a ayudar a las familias a integrar los videojuegos: tomar algo que ya atrae a los niños y convertirlo en un puente para la conversación\, la confianza y la conexión. Escucharás a alguien que dedicó más de 20 años a desarrollar los juegos que juegan los niños y que ahora ayuda a padres y educadores a usarlos con propósito. \nSaldrás con herramientas prácticas que podrás compartir con las familias a las que sirves: \n\nCómo diferenciar entre juegos que aíslan y juegos que conectan\nCómo encontrar y seleccionar juegos apropiados para la edad según objetivos de conexión específicos\nTécnicas de conversación que convierten las sesiones de juego en una conexión real\nEstrategias para gestionar el tiempo de juego sin iniciar una guerra\n\nUn marco para utilizar videojuegos para apoyar el crecimiento social y emocional de un niño \nEsto no es una conferencia. Participarás en actividades\, trabajarás en grupos pequeños y te llevarás recursos que podrás usar de inmediato. \nHay interpretación al español disponible durante el evento en vivo.  \nScott lleva más de dos décadas en la industria de los videojuegos\, con créditos en 15 juegos para PlayStation\, Xbox y Nintendo\, y un periodo como vicepresidente de The Walt Disney Company\, donde lanzó estudios de videojuegos para dar vida a las historias de Pixar de forma interactiva. En 2006\, creó GameTruck\, la franquicia de fiestas de videojuegos para móviles que ya ha entretenido a más de 14 millones de niños. Tiene dos títulos de ingeniería y 11 patentes. Hoy\, la misión de Scott es sencilla: ayudar a las familias a usar el juego\, incluidos los videojuegos\, para construir una verdadera conexión humana y sentido de pertenencia. \n\nRegístrate hoy en: https://beav.es/training-academy\n\n¡En Zoom\, gratis y con interpretación al español en vivo!\n  \n 
URL:https://lavozdeklamath.com/event/15093/
LOCATION:VIRTUAL
CATEGORIES:Health and Wellness,Kids,Klamath Falls Community Event,Virtual
ATTACH;FMTTYPE=image/png:https://lavozdeklamath.com/wp-content/uploads/2026/03/vir-sem.png
END:VEVENT
BEGIN:VEVENT
DTSTART;TZID=America/Los_Angeles:20260315T160000
DTEND;TZID=America/Los_Angeles:20260315T170000
DTSTAMP:20260424T132216
CREATED:20260121T020356Z
LAST-MODIFIED:20260121T020810Z
UID:10001522-1773590400-1773594000@lavozdeklamath.com
SUMMARY:Aprenda cómo dejar de fumar\, vapear o masticar tabaco en la sesión en línea de Zoom organizada por el Departamento de Salud del Condado de Klamath y la Asociación Estadounidense del Pulmón.
DESCRIPTION:Aprenda a dejar de fumar\, vapear o masticar cigarrillos electrónicos con la sesión en línea de Zoom de Klamath County Health y la Asociación Estadounidense del Pulmón.\n\n1 de febrero a las 16:00 – 17:00 horas\n\n\n\n\n¿Estás buscando dejar de fumar\, vapear o masticar?\nPuedes dejarlo. Podemos ayudarte.\nCuándo: A partir del 1 de febrero de 2026. Todos los domingos a las 16:00 horas.\n \nESCANEE EL CÓDIGO QR para registrarse o recibir más información. \n  \nAquí tienes ayuda para dejar de fumar\, vapear o masticar tabaco. Mira este evento especial en línea por Zoom con esta información:\n-Cómo saber si realmente estás listo para dejarlo\n-Medicamentos que pueden aumentar su éxito\n-Cambios en el estilo de vida para que dejar de fumar sea más fácil.\n-Cómo prepararse para el día en que dejará de fumar\n-Estrategias de afrontamiento para controlar el estrés y evitar el aumento de peso.\n-Cómo mantenerse libre de humo para siempre\n\nESCANEE EL CÓDIGO QR PARA MÁS INFORMACIÓN\nRecibirá el enlace de Zoom EN LÍNEA que se enviará cuando se registre para la clase.\nDurante el curso de 8 semanas dirigido por un facilitador certificado de la Asociación Americana del Pulmón\, aprenderá las últimas formas de dejar de fumar.\nPara obtener más información\, comuníquese con: Amy Slay aslay@klamathcountyor.gov o Kelsey Box Kelsey@oregonsci.org
URL:https://lavozdeklamath.com/event/image-default-learn-how-to-quit-smoking-vaping-or-chewing-from-klamath-county-health-and-the-american-lung-association-zoom-online-session/2026-03-15/
CATEGORIES:Health and Wellness,Klamath County Event,Klamath Falls Community Event,Klamath Falls Event
ATTACH;FMTTYPE=image/png:https://lavozdeklamath.com/wp-content/uploads/2026/01/ffffffffffffffffffff.png
END:VEVENT
BEGIN:VEVENT
DTSTART;TZID=America/Los_Angeles:20260322T160000
DTEND;TZID=America/Los_Angeles:20260322T170000
DTSTAMP:20260424T132216
CREATED:20260121T020356Z
LAST-MODIFIED:20260121T020810Z
UID:10001523-1774195200-1774198800@lavozdeklamath.com
SUMMARY:Aprenda cómo dejar de fumar\, vapear o masticar tabaco en la sesión en línea de Zoom organizada por el Departamento de Salud del Condado de Klamath y la Asociación Estadounidense del Pulmón.
DESCRIPTION:Aprenda a dejar de fumar\, vapear o masticar cigarrillos electrónicos con la sesión en línea de Zoom de Klamath County Health y la Asociación Estadounidense del Pulmón.\n\n1 de febrero a las 16:00 – 17:00 horas\n\n\n\n\n¿Estás buscando dejar de fumar\, vapear o masticar?\nPuedes dejarlo. Podemos ayudarte.\nCuándo: A partir del 1 de febrero de 2026. Todos los domingos a las 16:00 horas.\n \nESCANEE EL CÓDIGO QR para registrarse o recibir más información. \n  \nAquí tienes ayuda para dejar de fumar\, vapear o masticar tabaco. Mira este evento especial en línea por Zoom con esta información:\n-Cómo saber si realmente estás listo para dejarlo\n-Medicamentos que pueden aumentar su éxito\n-Cambios en el estilo de vida para que dejar de fumar sea más fácil.\n-Cómo prepararse para el día en que dejará de fumar\n-Estrategias de afrontamiento para controlar el estrés y evitar el aumento de peso.\n-Cómo mantenerse libre de humo para siempre\n\nESCANEE EL CÓDIGO QR PARA MÁS INFORMACIÓN\nRecibirá el enlace de Zoom EN LÍNEA que se enviará cuando se registre para la clase.\nDurante el curso de 8 semanas dirigido por un facilitador certificado de la Asociación Americana del Pulmón\, aprenderá las últimas formas de dejar de fumar.\nPara obtener más información\, comuníquese con: Amy Slay aslay@klamathcountyor.gov o Kelsey Box Kelsey@oregonsci.org
URL:https://lavozdeklamath.com/event/image-default-learn-how-to-quit-smoking-vaping-or-chewing-from-klamath-county-health-and-the-american-lung-association-zoom-online-session/2026-03-22/
CATEGORIES:Health and Wellness,Klamath County Event,Klamath Falls Community Event,Klamath Falls Event
ATTACH;FMTTYPE=image/png:https://lavozdeklamath.com/wp-content/uploads/2026/01/ffffffffffffffffffff.png
END:VEVENT
BEGIN:VEVENT
DTSTART;TZID=America/Los_Angeles:20260329T160000
DTEND;TZID=America/Los_Angeles:20260329T170000
DTSTAMP:20260424T132216
CREATED:20260121T020356Z
LAST-MODIFIED:20260121T020810Z
UID:10001524-1774800000-1774803600@lavozdeklamath.com
SUMMARY:Aprenda cómo dejar de fumar\, vapear o masticar tabaco en la sesión en línea de Zoom organizada por el Departamento de Salud del Condado de Klamath y la Asociación Estadounidense del Pulmón.
DESCRIPTION:Aprenda a dejar de fumar\, vapear o masticar cigarrillos electrónicos con la sesión en línea de Zoom de Klamath County Health y la Asociación Estadounidense del Pulmón.\n\n1 de febrero a las 16:00 – 17:00 horas\n\n\n\n\n¿Estás buscando dejar de fumar\, vapear o masticar?\nPuedes dejarlo. Podemos ayudarte.\nCuándo: A partir del 1 de febrero de 2026. Todos los domingos a las 16:00 horas.\n \nESCANEE EL CÓDIGO QR para registrarse o recibir más información. \n  \nAquí tienes ayuda para dejar de fumar\, vapear o masticar tabaco. Mira este evento especial en línea por Zoom con esta información:\n-Cómo saber si realmente estás listo para dejarlo\n-Medicamentos que pueden aumentar su éxito\n-Cambios en el estilo de vida para que dejar de fumar sea más fácil.\n-Cómo prepararse para el día en que dejará de fumar\n-Estrategias de afrontamiento para controlar el estrés y evitar el aumento de peso.\n-Cómo mantenerse libre de humo para siempre\n\nESCANEE EL CÓDIGO QR PARA MÁS INFORMACIÓN\nRecibirá el enlace de Zoom EN LÍNEA que se enviará cuando se registre para la clase.\nDurante el curso de 8 semanas dirigido por un facilitador certificado de la Asociación Americana del Pulmón\, aprenderá las últimas formas de dejar de fumar.\nPara obtener más información\, comuníquese con: Amy Slay aslay@klamathcountyor.gov o Kelsey Box Kelsey@oregonsci.org
URL:https://lavozdeklamath.com/event/image-default-learn-how-to-quit-smoking-vaping-or-chewing-from-klamath-county-health-and-the-american-lung-association-zoom-online-session/2026-03-29/
CATEGORIES:Health and Wellness,Klamath County Event,Klamath Falls Community Event,Klamath Falls Event
ATTACH;FMTTYPE=image/png:https://lavozdeklamath.com/wp-content/uploads/2026/01/ffffffffffffffffffff.png
END:VEVENT
END:VCALENDAR