BEGIN:VCALENDAR
VERSION:2.0
PRODID:-//La Voz de Klamath - ECPv6.15.20//NONSGML v1.0//EN
CALSCALE:GREGORIAN
METHOD:PUBLISH
X-WR-CALNAME:La Voz de Klamath
X-ORIGINAL-URL:https://lavozdeklamath.com
X-WR-CALDESC:Events for La Voz de Klamath
REFRESH-INTERVAL;VALUE=DURATION:PT1H
X-Robots-Tag:noindex
X-PUBLISHED-TTL:PT1H
BEGIN:VTIMEZONE
TZID:America/Los_Angeles
BEGIN:DAYLIGHT
TZOFFSETFROM:-0800
TZOFFSETTO:-0700
TZNAME:PDT
DTSTART:20230312T100000
END:DAYLIGHT
BEGIN:STANDARD
TZOFFSETFROM:-0700
TZOFFSETTO:-0800
TZNAME:PST
DTSTART:20231105T090000
END:STANDARD
BEGIN:DAYLIGHT
TZOFFSETFROM:-0800
TZOFFSETTO:-0700
TZNAME:PDT
DTSTART:20240310T100000
END:DAYLIGHT
BEGIN:STANDARD
TZOFFSETFROM:-0700
TZOFFSETTO:-0800
TZNAME:PST
DTSTART:20241103T090000
END:STANDARD
BEGIN:DAYLIGHT
TZOFFSETFROM:-0800
TZOFFSETTO:-0700
TZNAME:PDT
DTSTART:20250309T100000
END:DAYLIGHT
BEGIN:STANDARD
TZOFFSETFROM:-0700
TZOFFSETTO:-0800
TZNAME:PST
DTSTART:20251102T090000
END:STANDARD
END:VTIMEZONE
BEGIN:VEVENT
DTSTART;TZID=America/Los_Angeles:20240620T070000
DTEND;TZID=America/Los_Angeles:20240620T150000
DTSTAMP:20260424T153954
CREATED:20240516T170540Z
LAST-MODIFIED:20240516T170540Z
UID:10001234-1718866800-1718895600@lavozdeklamath.com
SUMMARY:Caminata en Moore *Entrada Gratis*
DESCRIPTION:Este evento gratis es solo para jovenes edades 12-18 tendra premios\, comida\, busqueda de tesoros\, y arte de rocas. \nLocalizado en el Parque Moore de 7am-3pm.  \n*Evento libre de Tabaco*
URL:https://lavozdeklamath.com/event/caminata-en-moore-entrada-gratis/
LOCATION:Parque Moore\, 740 Lakeshore Dr\, Klamath Falls\, OR\, 97601\, United States
CATEGORIES:Health and Wellness
ATTACH;FMTTYPE=image/png:https://lavozdeklamath.com/wp-content/uploads/2024/05/hike.png
END:VEVENT
BEGIN:VEVENT
DTSTART;TZID=America/Los_Angeles:20240609T100000
DTEND;TZID=America/Los_Angeles:20240609T120000
DTSTAMP:20260424T153954
CREATED:20240522T223032Z
LAST-MODIFIED:20240522T223032Z
UID:10001239-1717927200-1717934400@lavozdeklamath.com
SUMMARY:Aprenda cómo prepararse para desastres en estos eventos gratuitos en línea de organizaciones que prestan servicios a las comunidades de habla hispana
DESCRIPTION:¡Estos son EVENTOS GRATUITOS y TODOS SON BIENVENIDOS! \nEl primer evento tendrá lugar el 11 de junio de 10 a. m. a 12 p. m. del mediodía.\n\nHAGA CLIC AQUÍ PARA REGISTRARSE PARA EL PRIMER EVENTO Y APRENDER GRATIS\n  \nEl segundo evento tendrá lugar el 9 de julio\, de 10 a. m. a 12 p. m. del mediodía. \nHAGA CLIC AQUÍ PARA REGISTRARSE PARA EL SEGUNDO EVENTO Y APRENDER GRATIS\n\nEstos eventos se ofrecerán en línea\, principalmente en español\, con traducción al inglés e interpretación de ASL. Ambas sesiones serán grabadas y puestas a disposición de quienes no puedan asistir.\nLos asistentes escucharán a organizaciones comunitarias sobre cómo prepararse para desastres\, programas y recursos de preparación para emergencias\, y cómo las organizaciones comunitarias pueden ayudar cuando ocurre un desastre.\nLos presentadores incluyen representantes de Únete\, Rogue Valley Food Unites\, la Cruz Roja Estadounidense\, el Departamento de Geología e Industrias Minerales de Oregón (DOGAMI)\, agencias locales de manejo de emergencias y otras organizaciones comunitarias. Esperamos que asista a estos eventos en línea.
URL:https://lavozdeklamath.com/event/aprenda-como-prepararse-para-desastres-en-estos-eventos-gratuitos-en-linea-de-organizaciones-que-prestan-servicios-a-las-comunidades-de-habla-hispana/
CATEGORIES:Family Friendly Event,Health and Wellness,Klamath County Event,Klamath Falls Community Event,Klamath Falls Event
ATTACH;FMTTYPE=image/jpeg:https://lavozdeklamath.com/wp-content/uploads/2024/05/oem-event-in-june-spanish-1.jpg
END:VEVENT
BEGIN:VEVENT
DTSTART;TZID=America/Los_Angeles:20240604T180000
DTEND;TZID=America/Los_Angeles:20240604T193000
DTSTAMP:20260424T153954
CREATED:20240520T221721Z
LAST-MODIFIED:20240520T221721Z
UID:10001236-1717524000-1717529400@lavozdeklamath.com
SUMMARY:Clase "Cómo cuidarnos en nuestro papel de padres" - 4 de junio
DESCRIPTION:¡Le invitamos a unirse a nosotros para obtener algunos consejos sobre cómo manejar el estrés!\n4 de junio de 6 a 7:30 pm \nInscríbete aquí: https://tinyurl.com/3y94t453 \nDonde: Klamath Community College – Edificio 2 Sala 206\n7390 South 6th Street\, Klamath Falls 4 de junio de 6 a 7:30 pm \n 
URL:https://lavozdeklamath.com/event/clase-como-cuidarnos-en-nuestro-papel-de-padres-4-de-junio/
LOCATION:Klamath Community College\, 7390 South 6th Street\, Klamath Falls\, OR\, 97603\, United States
CATEGORIES:Family Friendly Event,Health and Wellness,Klamath County Event,Klamath Falls Community Event,Klamath Falls Event
ATTACH;FMTTYPE=image/png:https://lavozdeklamath.com/wp-content/uploads/2024/05/Nuestro-Rol-de-padres-pic-spanish.png
END:VEVENT
BEGIN:VEVENT
DTSTART;TZID=America/Los_Angeles:20240522T100000
DTEND;TZID=America/Los_Angeles:20240522T140000
DTSTAMP:20260424T153954
CREATED:20240424T213241Z
LAST-MODIFIED:20240424T213241Z
UID:10001222-1716372000-1716386400@lavozdeklamath.com
SUMMARY:Feria de sensibilización para personas mayores 2024 – 22 de mayo
DESCRIPTION:Feria de sensibilización para personas mayores 2024 – 22 de mayo\n22 de mayo: de 10 a 14 h.\n2751 Washburn Way\, Klamath Falls\n  \n \n 
URL:https://lavozdeklamath.com/event/feria-de-sensibilizacion-para-personas-mayores-2024-22-de-mayo/
LOCATION:Klamath Hospice and Palliative Care\, 2751 Washburn Way\, Klamath Falls\, OR\, 97601\, United States
CATEGORIES:Family Friendly Event,Health and Wellness,Klamath County Event,Klamath Falls Event
ATTACH;FMTTYPE=image/jpeg:https://lavozdeklamath.com/wp-content/uploads/2024/04/Senior-spanish-AwarenessFairCommunityFlyerSpanish1-scaled.jpg
END:VEVENT
BEGIN:VEVENT
DTSTART;TZID=America/Los_Angeles:20240511T100000
DTEND;TZID=America/Los_Angeles:20240511T140000
DTSTAMP:20260424T153954
CREATED:20240405T214935Z
LAST-MODIFIED:20240405T214935Z
UID:10001203-1715421600-1715436000@lavozdeklamath.com
SUMMARY:HUSTLERS FRAUDSTERS & SHYSTERS - Consumer Protection Event  May 11th
DESCRIPTION:  \n  \n  \n  \n  \n  \nConsumer Protecton Spanish
URL:https://lavozdeklamath.com/event/hustlers-fraudsters-shysters-consumer-protection-event-may-11th/
LOCATION:Running Y Resort\, 5500 Running Y Road\, Klamath Falls\, OR\, 97601\, United States
CATEGORIES:Health and Wellness,Klamath County Event,Klamath Falls Community Event,Klamath Falls Event
ATTACH;FMTTYPE=image/png:https://lavozdeklamath.com/wp-content/uploads/2024/04/consumer-protection-event.png
END:VEVENT
BEGIN:VEVENT
DTSTART;TZID=America/Los_Angeles:20240504T090000
DTEND;TZID=America/Los_Angeles:20240504T160000
DTSTAMP:20260424T153954
CREATED:20240408T163340Z
LAST-MODIFIED:20240408T163340Z
UID:10001208-1714813200-1714838400@lavozdeklamath.com
SUMMARY:Días de clínica dental gratuita - 3 y 4 de mayo de 2024
DESCRIPTION:Días de Clínica Dental Gratuita — 3 y 4 de Mayo\, 2024 \nViernes\, 3 de Mayo\, 9AM-4PM en el Centro Cívico de Merrill\nSabado\, 4 de Mayo\, 9AM-4PM en el Centro Comunitario de Malin\nTodos son bienvenidos. No se requiere identificación. El primero en llegar\, primero servido. \nHabrá limpiezas dentales\, empastes\, extracciones y servicios de sellado dental para niños. \nPatrocinado por: Klamath Health Patnership\, Konnect Dental Kare\, Klamath Basin Oral Health Coalition\, Medical Teams International\, y Oregon Tech Dental.
URL:https://lavozdeklamath.com/event/dias-de-clinica-dental-gratuita-3-y-4-de-mayo-de-2024/2024-05-04/
CATEGORIES:Family Friendly Event,Health and Wellness,Klamath County Event
ATTACH;FMTTYPE=image/png:https://lavozdeklamath.com/wp-content/uploads/2024/04/free-dental-days.png
END:VEVENT
BEGIN:VEVENT
DTSTART;TZID=America/Los_Angeles:20240503T090000
DTEND;TZID=America/Los_Angeles:20240503T160000
DTSTAMP:20260424T153954
CREATED:20240408T163340Z
LAST-MODIFIED:20240408T163340Z
UID:10001207-1714726800-1714752000@lavozdeklamath.com
SUMMARY:Días de clínica dental gratuita - 3 y 4 de mayo de 2024
DESCRIPTION:Días de Clínica Dental Gratuita — 3 y 4 de Mayo\, 2024 \nViernes\, 3 de Mayo\, 9AM-4PM en el Centro Cívico de Merrill\nSabado\, 4 de Mayo\, 9AM-4PM en el Centro Comunitario de Malin\nTodos son bienvenidos. No se requiere identificación. El primero en llegar\, primero servido. \nHabrá limpiezas dentales\, empastes\, extracciones y servicios de sellado dental para niños. \nPatrocinado por: Klamath Health Patnership\, Konnect Dental Kare\, Klamath Basin Oral Health Coalition\, Medical Teams International\, y Oregon Tech Dental.
URL:https://lavozdeklamath.com/event/dias-de-clinica-dental-gratuita-3-y-4-de-mayo-de-2024/2024-05-03/
CATEGORIES:Family Friendly Event,Health and Wellness,Klamath County Event
ATTACH;FMTTYPE=image/png:https://lavozdeklamath.com/wp-content/uploads/2024/04/free-dental-days.png
END:VEVENT
BEGIN:VEVENT
DTSTART;TZID=America/Los_Angeles:20240419T110000
DTEND;TZID=America/Los_Angeles:20240419T130000
DTSTAMP:20260424T153954
CREATED:20240406T032624Z
LAST-MODIFIED:20240406T032624Z
UID:10001206-1713524400-1713531600@lavozdeklamath.com
SUMMARY:Capacitación en Salud Pública Comunitaria: Capacitación ACEs (Experiencias Adversas en la Infancia) – 18 y 19 de abril
DESCRIPTION:La biblioteca del centro del condado de Klamath y la salud pública del condado de Klamath se están uniendo para ayudar a nuestra comunidad a comprender mejor las experiencias adversas en la infancia (ACE).\nCuantas más ACE experimente una persona cuando sea niño (como negligencia\, abuso\, crecer rodeado de abuso de sustancias y otras)\, más probabilidades tendrá de experimentar problemas de salud en el futuro\, incluidos cáncer\, enfermedades cardíacas y presión arterial alta. Sin embargo\, los expertos también descubrieron que un solo adulto estable y afectuoso puede compensar el impacto de las ACE\, y que este adulto puede ser un miembro no relacionado de la comunidad\, como un maestro\, mentor o entrenador. Lo que significa que todos podemos ayudar a los jóvenes que enfrentan estas luchas. \nEl jueves 18 de abril de 4:30 p. m. a 6:30 p. m. y el viernes 19 de abril de 11 a. m. a 1 p. m.\, organizaremos una capacitación para miembros de la comunidad sobre cómo prevenir\, intervenir y sanar el trauma continuo que representan las ACE. . Al reducir el estigma en torno a este problema tan común (más del 60 % de los adultos en 25 estados informaron haber experimentado al menos una experiencia infantil adversa antes de cumplir 18 años)\, podemos evitar una variedad de impactos negativos para la salud tanto de las personas como de la comunidad de Klamath Basin en general. \nEl entrenamiento es el mismo ambos días\, así que elige el que mejor se adapte a tu horario. \nPara obtener más información\, llame al 541-882-8894. Para conocer más iniciativas de Salud Pública del Condado de Klamath\, visite su sitio web en www.klamathcounty.org/378/Public-Health. \njueves 18 de abril \n16:30-18:30 \nviernes 19 de abril \n11:00-13:00 \nUBICACIÓN: Biblioteca pública del condado de Klamath 126 S 3rd St\, Klamath Falls
URL:https://lavozdeklamath.com/event/capacitacion-en-salud-publica-comunitaria-capacitacion-aces-experiencias-adversas-en-la-infancia-18-y-19-de-abril-2/2024-04-19/
LOCATION:Klamath County Library\, 126 S 3rd St\, Klamath Falls\, OR\, 97601\, United States
CATEGORIES:Health and Wellness,Klamath County Event,Klamath Falls Community Event,Klamath Falls Event
ATTACH;FMTTYPE=image/png:https://lavozdeklamath.com/wp-content/uploads/2024/04/aces-spanish-1.png
END:VEVENT
BEGIN:VEVENT
DTSTART;TZID=America/Los_Angeles:20240418T163000
DTEND;TZID=America/Los_Angeles:20240418T183000
DTSTAMP:20260424T153954
CREATED:20240406T032624Z
LAST-MODIFIED:20240406T032624Z
UID:10001205-1713457800-1713465000@lavozdeklamath.com
SUMMARY:Capacitación en Salud Pública Comunitaria: Capacitación ACEs (Experiencias Adversas en la Infancia) – 18 y 19 de abril
DESCRIPTION:La biblioteca del centro del condado de Klamath y la salud pública del condado de Klamath se están uniendo para ayudar a nuestra comunidad a comprender mejor las experiencias adversas en la infancia (ACE).\nCuantas más ACE experimente una persona cuando sea niño (como negligencia\, abuso\, crecer rodeado de abuso de sustancias y otras)\, más probabilidades tendrá de experimentar problemas de salud en el futuro\, incluidos cáncer\, enfermedades cardíacas y presión arterial alta. Sin embargo\, los expertos también descubrieron que un solo adulto estable y afectuoso puede compensar el impacto de las ACE\, y que este adulto puede ser un miembro no relacionado de la comunidad\, como un maestro\, mentor o entrenador. Lo que significa que todos podemos ayudar a los jóvenes que enfrentan estas luchas. \nEl jueves 18 de abril de 4:30 p. m. a 6:30 p. m. y el viernes 19 de abril de 11 a. m. a 1 p. m.\, organizaremos una capacitación para miembros de la comunidad sobre cómo prevenir\, intervenir y sanar el trauma continuo que representan las ACE. . Al reducir el estigma en torno a este problema tan común (más del 60 % de los adultos en 25 estados informaron haber experimentado al menos una experiencia infantil adversa antes de cumplir 18 años)\, podemos evitar una variedad de impactos negativos para la salud tanto de las personas como de la comunidad de Klamath Basin en general. \nEl entrenamiento es el mismo ambos días\, así que elige el que mejor se adapte a tu horario. \nPara obtener más información\, llame al 541-882-8894. Para conocer más iniciativas de Salud Pública del Condado de Klamath\, visite su sitio web en www.klamathcounty.org/378/Public-Health. \njueves 18 de abril \n16:30-18:30 \nviernes 19 de abril \n11:00-13:00 \nUBICACIÓN: Biblioteca pública del condado de Klamath 126 S 3rd St\, Klamath Falls
URL:https://lavozdeklamath.com/event/capacitacion-en-salud-publica-comunitaria-capacitacion-aces-experiencias-adversas-en-la-infancia-18-y-19-de-abril-2/2024-04-18/
LOCATION:Klamath County Library\, 126 S 3rd St\, Klamath Falls\, OR\, 97601\, United States
CATEGORIES:Health and Wellness,Klamath County Event,Klamath Falls Community Event,Klamath Falls Event
ATTACH;FMTTYPE=image/png:https://lavozdeklamath.com/wp-content/uploads/2024/04/aces-spanish-1.png
END:VEVENT
BEGIN:VEVENT
DTSTART;TZID=America/Los_Angeles:20240405T080000
DTEND;TZID=America/Los_Angeles:20240405T170000
DTSTAMP:20260424T153954
CREATED:20240406T031559Z
LAST-MODIFIED:20240406T031559Z
UID:10001204-1712304000-1712336400@lavozdeklamath.com
SUMMARY:Capacitación en Salud Pública Comunitaria: Capacitación ACEs (Experiencias Adversas en la Infancia) - 18 y 19 de abril
DESCRIPTION:La biblioteca del centro del condado de Klamath y la salud pública del condado de Klamath se están uniendo para ayudar a nuestra comunidad a comprender mejor las experiencias adversas en la infancia (ACE).\nCuantas más ACE experimente una persona cuando sea niño (como negligencia\, abuso\, crecer rodeado de abuso de sustancias y otras)\, más probabilidades tendrá de experimentar problemas de salud en el futuro\, incluidos cáncer\, enfermedades cardíacas y presión arterial alta. Sin embargo\, los expertos también descubrieron que un solo adulto estable y afectuoso puede compensar el impacto de las ACE\, y que este adulto puede ser un miembro no relacionado de la comunidad\, como un maestro\, mentor o entrenador. Lo que significa que todos podemos ayudar a los jóvenes que enfrentan estas luchas. \nEl jueves 18 de abril de 4:30 p. m. a 6:30 p. m. y el viernes 19 de abril de 11 a. m. a 1 p. m.\, organizaremos una capacitación para miembros de la comunidad sobre cómo prevenir\, intervenir y sanar el trauma continuo que representan las ACE. . Al reducir el estigma en torno a este problema tan común (más del 60 % de los adultos en 25 estados informaron haber experimentado al menos una experiencia infantil adversa antes de cumplir 18 años)\, podemos evitar una variedad de impactos negativos para la salud tanto de las personas como de la comunidad de Klamath Basin en general. \nEl entrenamiento es el mismo ambos días\, así que elige el que mejor se adapte a tu horario. \nPara obtener más información\, llame al 541-882-8894. Para conocer más iniciativas de Salud Pública del Condado de Klamath\, visite su sitio web en www.klamathcounty.org/378/Public-Health.
URL:https://lavozdeklamath.com/event/capacitacion-en-salud-publica-comunitaria-capacitacion-aces-experiencias-adversas-en-la-infancia-18-y-19-de-abril/
CATEGORIES:Health and Wellness,Klamath County Event,Klamath Falls Community Event
ATTACH;FMTTYPE=image/png:https://lavozdeklamath.com/wp-content/uploads/2024/04/aces-spanish.png
END:VEVENT
BEGIN:VEVENT
DTSTART;TZID=America/Los_Angeles:20240308T173000
DTEND;TZID=America/Los_Angeles:20240308T200000
DTSTAMP:20260424T153954
CREATED:20240223T202910Z
LAST-MODIFIED:20240223T202910Z
UID:10000951-1709919000-1709928000@lavozdeklamath.com
SUMMARY:Lactancia materna 101
DESCRIPTION:Lactancia materna 101 \nVen a aprender algunos consejos sobre la lactancia materna con la enfermera local Aubriana Miranda. \nEl evento tendrá lugar el 8 de marzo de 2024 de 5:30PM-8PM en Klamath Community College (KCC)\, 7390 So. 6th St.\, Klamath Falls\, Or\, 97603. Edificio 2\, Sala 206 \nSe servirá una comida y habrá servicio de guardería. \nRegístrese aquí: http://tinyurl.com/kctrbf \n  \n 
URL:https://lavozdeklamath.com/event/lactancia-materna-101/
LOCATION:Klamath Community College\, 7390 South 6th Street\, Klamath Falls\, OR\, 97603\, United States
CATEGORIES:Health and Wellness,Klamath Falls Community Event
ATTACH;FMTTYPE=image/jpeg:https://lavozdeklamath.com/wp-content/uploads/2024/02/Breast-Feeding-101-Spanish-scaled.jpg
END:VEVENT
END:VCALENDAR