BEGIN:VCALENDAR
VERSION:2.0
PRODID:-//La Voz de Klamath - ECPv6.15.20//NONSGML v1.0//EN
CALSCALE:GREGORIAN
METHOD:PUBLISH
X-ORIGINAL-URL:https://lavozdeklamath.com
X-WR-CALDESC:Events for La Voz de Klamath
REFRESH-INTERVAL;VALUE=DURATION:PT1H
X-Robots-Tag:noindex
X-PUBLISHED-TTL:PT1H
BEGIN:VTIMEZONE
TZID:America/Los_Angeles
BEGIN:DAYLIGHT
TZOFFSETFROM:-0800
TZOFFSETTO:-0700
TZNAME:PDT
DTSTART:20240310T100000
END:DAYLIGHT
BEGIN:STANDARD
TZOFFSETFROM:-0700
TZOFFSETTO:-0800
TZNAME:PST
DTSTART:20241103T090000
END:STANDARD
BEGIN:DAYLIGHT
TZOFFSETFROM:-0800
TZOFFSETTO:-0700
TZNAME:PDT
DTSTART:20250309T100000
END:DAYLIGHT
BEGIN:STANDARD
TZOFFSETFROM:-0700
TZOFFSETTO:-0800
TZNAME:PST
DTSTART:20251102T090000
END:STANDARD
BEGIN:DAYLIGHT
TZOFFSETFROM:-0800
TZOFFSETTO:-0700
TZNAME:PDT
DTSTART:20260308T100000
END:DAYLIGHT
BEGIN:STANDARD
TZOFFSETFROM:-0700
TZOFFSETTO:-0800
TZNAME:PST
DTSTART:20261101T090000
END:STANDARD
BEGIN:DAYLIGHT
TZOFFSETFROM:-0800
TZOFFSETTO:-0700
TZNAME:PDT
DTSTART:20270314T100000
END:DAYLIGHT
BEGIN:STANDARD
TZOFFSETFROM:-0700
TZOFFSETTO:-0800
TZNAME:PST
DTSTART:20271107T090000
END:STANDARD
END:VTIMEZONE
BEGIN:VEVENT
DTSTART;TZID=America/Los_Angeles:20251231T190000
DTEND;TZID=America/Los_Angeles:20260101T010000
DTSTAMP:20260424T190852
CREATED:20251220T035003Z
LAST-MODIFIED:20251220T035003Z
UID:10001511-1767207600-1767229200@lavozdeklamath.com
SUMMARY: RING IN THE NEW YEAR AT SIZZLIN’ DOWNTOWN!
DESCRIPTION: RING IN THE NEW YEAR AT SIZZLIN’ DOWNTOWN!  NEW YEAR’S EVE CELEBRATION  Come take the New Year in with us!Celebrate with great food\, amazing vibes\, and LOTS of drink specials  BALLOON DROP AT MIDNIGHT!  Fun • Festive • Downtown Vibes Toast the New Year with friends & family Drink Specials All Night Full 8-Page Menu Available Sizzling Favorites You Love Sizzlin’ Downtown – Authentic Mexican Restaurant601 Main Street\, Klamath Falls 541-205-3657\n 
URL:https://lavozdeklamath.com/event/ring-in-the-new-year-at-sizzlin-downtown/
LOCATION:Sizzlin Downtown Mexican Restaurant\, 601 Main Street\, Klamath Falls\, OR
CATEGORIES:Holiday Event,Klamath Falls Event,Music
ATTACH;FMTTYPE=image/jpeg:https://lavozdeklamath.com/wp-content/uploads/2025/12/577039361_122217109292264534_5058407485511786752_n.jpg
END:VEVENT
END:VCALENDAR