BEGIN:VCALENDAR
VERSION:2.0
PRODID:-//La Voz de Klamath - ECPv6.15.20//NONSGML v1.0//EN
CALSCALE:GREGORIAN
METHOD:PUBLISH
X-WR-CALNAME:La Voz de Klamath
X-ORIGINAL-URL:https://lavozdeklamath.com
X-WR-CALDESC:Events for La Voz de Klamath
REFRESH-INTERVAL;VALUE=DURATION:PT1H
X-Robots-Tag:noindex
X-PUBLISHED-TTL:PT1H
BEGIN:VTIMEZONE
TZID:America/Los_Angeles
BEGIN:DAYLIGHT
TZOFFSETFROM:-0800
TZOFFSETTO:-0700
TZNAME:PDT
DTSTART:20220313T100000
END:DAYLIGHT
BEGIN:STANDARD
TZOFFSETFROM:-0700
TZOFFSETTO:-0800
TZNAME:PST
DTSTART:20221106T090000
END:STANDARD
BEGIN:DAYLIGHT
TZOFFSETFROM:-0800
TZOFFSETTO:-0700
TZNAME:PDT
DTSTART:20230312T100000
END:DAYLIGHT
BEGIN:STANDARD
TZOFFSETFROM:-0700
TZOFFSETTO:-0800
TZNAME:PST
DTSTART:20231105T090000
END:STANDARD
BEGIN:DAYLIGHT
TZOFFSETFROM:-0800
TZOFFSETTO:-0700
TZNAME:PDT
DTSTART:20240310T100000
END:DAYLIGHT
BEGIN:STANDARD
TZOFFSETFROM:-0700
TZOFFSETTO:-0800
TZNAME:PST
DTSTART:20241103T090000
END:STANDARD
END:VTIMEZONE
BEGIN:VEVENT
DTSTART;TZID=America/Los_Angeles:20231217T140000
DTEND;TZID=America/Los_Angeles:20231217T160000
DTSTAMP:20260424T150845
CREATED:20231130T183431Z
LAST-MODIFIED:20231130T183536Z
UID:10000515-1702821600-1702828800@lavozdeklamath.com
SUMMARY:CONOCE A SANTA EN EL RAGLAND
DESCRIPTION:Conozca a Papá Noel\, hágase una foto con él\, disfrute de refrescos\, golosinas\, cacao caliente y bolsas de golosinas. Se aceptan donativos y todo el mundo es bienvenido. \nENTRADAS:\nGRATIS (con una donación sugerida de 5 $) \nDomingo\, 17 de diciembre de 2023\n2:00 PM 4:00 PM \nTeatro Ross Ragland\n218 N. 7th Klamath Falls \nCualquier recaudación de este evento ayuda a financiar nuestro programa de becas para nuestra educación y la programación de divulgación. Gracias por ayudarnos a asegurar que los niños de todos los orígenes sigan teniendo acceso a las artes.
URL:https://lavozdeklamath.com/event/conoce-a-santa-en-el-ragland/
LOCATION:The Ross Ragland Theatre\, 218 N 7th Street\, Klamath Falls\, OR\, 97603\, United States
CATEGORIES:Family Friendly Event,Holiday Event
ATTACH;FMTTYPE=image/png:https://lavozdeklamath.com/wp-content/uploads/2023/11/meet-santa.png
END:VEVENT
BEGIN:VEVENT
DTSTART;TZID=America/Los_Angeles:20231213T160000
DTEND;TZID=America/Los_Angeles:20231213T190000
DTSTAMP:20260424T150845
CREATED:20231205T221447Z
LAST-MODIFIED:20231205T221447Z
UID:10000516-1702483200-1702494000@lavozdeklamath.com
SUMMARY:Visita a Papá Noel
DESCRIPTION:Las fiestas están a la vuelta de la esquina y no hay mejor persona para ayudar a difundir la alegría navideña que el mismísimo gran hombre.\nAsí es: Santa está programado para hacer una parada en Sky Lakes Medical Center. \nLas visitas con Papá Noel son gratuitas. ¡Traiga su cámara y una sonrisa! Nosotros nos encargamos del resto. \nEvento de Sky Lakes Medical Center\nCentro Médico Sky Lakes
URL:https://lavozdeklamath.com/event/visita-a-papa-noel/
LOCATION:Sky Lakes Medical Center\, 3190 Campus Dr\, 97601\, United States
CATEGORIES:Family Friendly Event,Holiday Event
ATTACH;FMTTYPE=image/jpeg:https://lavozdeklamath.com/wp-content/uploads/2023/12/405404925_904333935029065_6516547382900101739_n.jpg
END:VEVENT
BEGIN:VEVENT
DTSTART;TZID=America/Los_Angeles:20231210T100000
DTEND;TZID=America/Los_Angeles:20231210T130000
DTSTAMP:20260424T150845
CREATED:20231205T222139Z
LAST-MODIFIED:20231205T222139Z
UID:10000517-1702202400-1702213200@lavozdeklamath.com
SUMMARY:Galletas con Papá Noel
DESCRIPTION:¡Sky Lakes Diagnostic Imaging/Interventional Services está organizando Galletas con Santa! Únase a nosotros el domingo\, 10 de diciembre de 2023\, de 10 AM a 1 PM en el Centro de Educación Comunitaria. \nEl costo es de $ 5 por niño\, que incluye una foto digital con Santa y la decoración de galletas de azúcar. \nEvento por Sky Lakes Medical Center\nCentro Educativo Comunitario \n2200 N Eldorado Ave
URL:https://lavozdeklamath.com/event/galletas-con-papa-noel/
LOCATION:Community Health Education Center\, 2200 N Eldorado Ave\, Klamath Falls\, OR\, 97601\, United States
CATEGORIES:Family Friendly Event,Holiday Event
ATTACH;FMTTYPE=image/jpeg:https://lavozdeklamath.com/wp-content/uploads/2023/12/397920265_886877193441406_1136044000379859859_n.jpg
END:VEVENT
END:VCALENDAR