BEGIN:VCALENDAR
VERSION:2.0
PRODID:-//La Voz de Klamath - ECPv6.15.20//NONSGML v1.0//EN
CALSCALE:GREGORIAN
METHOD:PUBLISH
X-WR-CALNAME:La Voz de Klamath
X-ORIGINAL-URL:https://lavozdeklamath.com
X-WR-CALDESC:Events for La Voz de Klamath
REFRESH-INTERVAL;VALUE=DURATION:PT1H
X-Robots-Tag:noindex
X-PUBLISHED-TTL:PT1H
BEGIN:VTIMEZONE
TZID:America/Los_Angeles
BEGIN:DAYLIGHT
TZOFFSETFROM:-0800
TZOFFSETTO:-0700
TZNAME:PDT
DTSTART:20250309T100000
END:DAYLIGHT
BEGIN:STANDARD
TZOFFSETFROM:-0700
TZOFFSETTO:-0800
TZNAME:PST
DTSTART:20251102T090000
END:STANDARD
BEGIN:DAYLIGHT
TZOFFSETFROM:-0800
TZOFFSETTO:-0700
TZNAME:PDT
DTSTART:20260308T100000
END:DAYLIGHT
BEGIN:STANDARD
TZOFFSETFROM:-0700
TZOFFSETTO:-0800
TZNAME:PST
DTSTART:20261101T090000
END:STANDARD
BEGIN:DAYLIGHT
TZOFFSETFROM:-0800
TZOFFSETTO:-0700
TZNAME:PDT
DTSTART:20270314T100000
END:DAYLIGHT
BEGIN:STANDARD
TZOFFSETFROM:-0700
TZOFFSETTO:-0800
TZNAME:PST
DTSTART:20271107T090000
END:STANDARD
END:VTIMEZONE
BEGIN:VEVENT
DTSTART;TZID=America/Los_Angeles:20260307T100000
DTEND;TZID=America/Los_Angeles:20260307T180000
DTSTAMP:20260424T133921
CREATED:20260223T233231Z
LAST-MODIFIED:20260223T233231Z
UID:10002030-1772877600-1772906400@lavozdeklamath.com
SUMMARY:¡Feria del Libro Scholastic!
DESCRIPTION:7 de marzo de 10:00 a.m. a 6:00 p.m.Patrocinada por el Departamento de Educación y Empleo de las Tribus Klamath y el Centro de Primera Infancia en el Centro de Fitness de las Tribus Klamath. ¡Niños de 0 a 10 años! \nPara más información\, llama al 541-783-2219 ext. 159. \nCuándo:Sábado\, 7 de marzo de 2026Domingo\, 8 de marzo de 2026 \nHorario:Sábado: 10 a.m. a 6 p.m.Domingo: 10 a.m. a 2 p.m.
URL:https://lavozdeklamath.com/event/feria-del-libro-scholastic/2026-03-07/
LOCATION:Klamath Tribes\, 320 S Chiloquin Blvd\, Chiloquin\, OR\, 97624\, United States
CATEGORIES:Kids,Klamath County Event
ATTACH;FMTTYPE=image/png:https://lavozdeklamath.com/wp-content/uploads/2026/02/book.png
END:VEVENT
BEGIN:VEVENT
DTSTART;TZID=America/Los_Angeles:20260307T103000
DTEND;TZID=America/Los_Angeles:20260307T120000
DTSTAMP:20260424T133921
CREATED:20260212T173429Z
LAST-MODIFIED:20260212T173516Z
UID:10002018-1772879400-1772884800@lavozdeklamath.com
SUMMARY:YOGA FAMILIAR Clase Para Principiantes  ¡Únete a nosotros!
DESCRIPTION:YOGA FAMILIAR\nClase Para Principiantes \n¡Únete a nosotros! \n¡Diversión\nfamiliar gratis! \nLos niños deben estar acompañados\npor un adulto para participar. \nPor favor\, traiga una esterilla de yoga.\nTendremos algunas colchonetas\nadicionales. \nSábado 7 de marzo de 2026\n10:30 a. m. a 12:00 p. m. En el\nedificio 6 de Klamath\nCommunity College\nhttps://tinyurl.com/29hjb4sd
URL:https://lavozdeklamath.com/event/14796/
LOCATION:Klamath Community College\, 7390 South 6th Street\, Klamath Falls\, OR\, 97603\, United States
CATEGORIES:Family Friendly Event,Health and Wellness,Kids,Klamath County Event,Klamath Falls Community Event,Klamath Falls Event
ATTACH;FMTTYPE=image/jpeg:https://lavozdeklamath.com/wp-content/uploads/2026/02/YOGA-KIDS-images-1-spanish-1.jpg
END:VEVENT
BEGIN:VEVENT
DTSTART;TZID=America/Los_Angeles:20260308T100000
DTEND;TZID=America/Los_Angeles:20260308T180000
DTSTAMP:20260424T133921
CREATED:20260223T233231Z
LAST-MODIFIED:20260223T233231Z
UID:10002031-1772964000-1772992800@lavozdeklamath.com
SUMMARY:¡Feria del Libro Scholastic!
DESCRIPTION:7 de marzo de 10:00 a.m. a 6:00 p.m.Patrocinada por el Departamento de Educación y Empleo de las Tribus Klamath y el Centro de Primera Infancia en el Centro de Fitness de las Tribus Klamath. ¡Niños de 0 a 10 años! \nPara más información\, llama al 541-783-2219 ext. 159. \nCuándo:Sábado\, 7 de marzo de 2026Domingo\, 8 de marzo de 2026 \nHorario:Sábado: 10 a.m. a 6 p.m.Domingo: 10 a.m. a 2 p.m.
URL:https://lavozdeklamath.com/event/feria-del-libro-scholastic/2026-03-08/
LOCATION:Klamath Tribes\, 320 S Chiloquin Blvd\, Chiloquin\, OR\, 97624\, United States
CATEGORIES:Kids,Klamath County Event
ATTACH;FMTTYPE=image/png:https://lavozdeklamath.com/wp-content/uploads/2026/02/book.png
END:VEVENT
BEGIN:VEVENT
DTSTART;TZID=America/Los_Angeles:20260310T100000
DTEND;TZID=America/Los_Angeles:20260310T120000
DTSTAMP:20260424T133921
CREATED:20260305T181459Z
LAST-MODIFIED:20260305T182207Z
UID:10002062-1773136800-1773144000@lavozdeklamath.com
SUMMARY:Usar juegos para generar conexión y confianza Sesión virtual con Scott Novis\, orador\, innovador y fundador de GameTruck
DESCRIPTION:¿Qué pasaría si los videojuegos pudieran ser un momento de conexión en las familias?\nÚnase a Scott Novis en la Academia de Capacitación de la OPEP del 10 de marzo para aprender sobre:\nCómo encontrar y seleccionar juegos apropiados para la edad según objetivos de conexión específicos\nTécnicas de conversación que convierten las sesiones de juego en una conexión real\nEstrategias para gestionar el tiempo de juego\n\n\n\n\n\n10 de marzo de 2026\, 10:00 a. m. a 11:30 a. m. (Virtual)\n\n\n\n\n\n\nLos videojuegos no son una sola cosa. Algunos aíslan a los niños. Otros pueden convertirse en la herramienta de conexión más poderosa de tu casa\, si sabes cómo usarla. \nEn este taller práctico\, aprenderás a ayudar a las familias a integrar los videojuegos: tomar algo que ya atrae a los niños y convertirlo en un puente para la conversación\, la confianza y la conexión. Escucharás a alguien que dedicó más de 20 años a desarrollar los juegos que juegan los niños y que ahora ayuda a padres y educadores a usarlos con propósito. \nSaldrás con herramientas prácticas que podrás compartir con las familias a las que sirves: \n\nCómo diferenciar entre juegos que aíslan y juegos que conectan\nCómo encontrar y seleccionar juegos apropiados para la edad según objetivos de conexión específicos\nTécnicas de conversación que convierten las sesiones de juego en una conexión real\nEstrategias para gestionar el tiempo de juego sin iniciar una guerra\n\nUn marco para utilizar videojuegos para apoyar el crecimiento social y emocional de un niño \nEsto no es una conferencia. Participarás en actividades\, trabajarás en grupos pequeños y te llevarás recursos que podrás usar de inmediato. \nHay interpretación al español disponible durante el evento en vivo.  \nScott lleva más de dos décadas en la industria de los videojuegos\, con créditos en 15 juegos para PlayStation\, Xbox y Nintendo\, y un periodo como vicepresidente de The Walt Disney Company\, donde lanzó estudios de videojuegos para dar vida a las historias de Pixar de forma interactiva. En 2006\, creó GameTruck\, la franquicia de fiestas de videojuegos para móviles que ya ha entretenido a más de 14 millones de niños. Tiene dos títulos de ingeniería y 11 patentes. Hoy\, la misión de Scott es sencilla: ayudar a las familias a usar el juego\, incluidos los videojuegos\, para construir una verdadera conexión humana y sentido de pertenencia. \n\nRegístrate hoy en: https://beav.es/training-academy\n\n¡En Zoom\, gratis y con interpretación al español en vivo!\n  \n 
URL:https://lavozdeklamath.com/event/15093/
LOCATION:VIRTUAL
CATEGORIES:Health and Wellness,Kids,Klamath Falls Community Event,Virtual
ATTACH;FMTTYPE=image/png:https://lavozdeklamath.com/wp-content/uploads/2026/03/vir-sem.png
END:VEVENT
BEGIN:VEVENT
DTSTART;TZID=America/Los_Angeles:20260326T173000
DTEND;TZID=America/Los_Angeles:20260326T183000
DTSTAMP:20260424T133921
CREATED:20260122T181901Z
LAST-MODIFIED:20260122T181901Z
UID:10001580-1774546200-1774549800@lavozdeklamath.com
SUMMARY:Community Story Time - The Fourth Thursday each Month 5:30 to 6:30 - Hosted by The Klamath County Library
DESCRIPTION:Community Story Time\n \nWhen: Fourth Thursday of every month @ 5:30pm-6:30pm\nWhere: Klamath County Library Downtown Branch\nAudience: Children ages 0–5 and their caregivers\nLength: Approximately 15-30 minutes
URL:https://lavozdeklamath.com/event/community-story-time-the-fourth-thursday-each-month-530-to-630-hosted-by-the-klamath-county-library/2026-03-26/
LOCATION:Klamath County Library\, 126 S 3rd St\, Klamath Falls\, OR\, 97601\, United States
CATEGORIES:Family Friendly Event,Kids,Klamath County Event,Klamath Falls Community Event,Klamath Falls Event
ATTACH;FMTTYPE=image/png:https://lavozdeklamath.com/wp-content/uploads/2026/01/klc-presents.png
END:VEVENT
END:VCALENDAR