BEGIN:VCALENDAR
VERSION:2.0
PRODID:-//La Voz de Klamath - ECPv6.15.20//NONSGML v1.0//EN
CALSCALE:GREGORIAN
METHOD:PUBLISH
X-WR-CALNAME:La Voz de Klamath
X-ORIGINAL-URL:https://lavozdeklamath.com
X-WR-CALDESC:Events for La Voz de Klamath
REFRESH-INTERVAL;VALUE=DURATION:PT1H
X-Robots-Tag:noindex
X-PUBLISHED-TTL:PT1H
BEGIN:VTIMEZONE
TZID:America/Los_Angeles
BEGIN:DAYLIGHT
TZOFFSETFROM:-0800
TZOFFSETTO:-0700
TZNAME:PDT
DTSTART:20240310T100000
END:DAYLIGHT
BEGIN:STANDARD
TZOFFSETFROM:-0700
TZOFFSETTO:-0800
TZNAME:PST
DTSTART:20241103T090000
END:STANDARD
BEGIN:DAYLIGHT
TZOFFSETFROM:-0800
TZOFFSETTO:-0700
TZNAME:PDT
DTSTART:20250309T100000
END:DAYLIGHT
BEGIN:STANDARD
TZOFFSETFROM:-0700
TZOFFSETTO:-0800
TZNAME:PST
DTSTART:20251102T090000
END:STANDARD
BEGIN:DAYLIGHT
TZOFFSETFROM:-0800
TZOFFSETTO:-0700
TZNAME:PDT
DTSTART:20260308T100000
END:DAYLIGHT
BEGIN:STANDARD
TZOFFSETFROM:-0700
TZOFFSETTO:-0800
TZNAME:PST
DTSTART:20261101T090000
END:STANDARD
END:VTIMEZONE
BEGIN:VEVENT
DTSTART;TZID=America/Los_Angeles:20251220T160000
DTEND;TZID=America/Los_Angeles:20251220T170000
DTSTAMP:20260424T181354
CREATED:20251219T230111Z
LAST-MODIFIED:20251219T230234Z
UID:10001504-1766246400-1766250000@lavozdeklamath.com
SUMMARY:La hora del cuento con Shuina Sko
DESCRIPTION:La biblioteca del condado de Klamath presenta la hora del cuento con la autora indígena Shuína Skó\, ¡un evento comunitario gratuito!\n\n\nÚnase a nosotros en la Biblioteca del Condado de Klamath el sábado 20 de diciembre a las 4 p.m. para una lectura y firma de libros a cargo de Shuína Skó de su nuevo libro infantil\, “Little Lok Gets Lost”. \nEl invierno es tradicionalmente una temporada de reunión para contar cuentos\, y esperamos honrar este momento estando en comunidad con su familia en la biblioteca para disfrutar de una buena historia. \nObtenga más información sobre Shuína Skó en www.ShuinaSko.com \n\n\n\n\n\n\n\n\n\n\n\n\nBiblioteca del condado de Klamath\n20 de diciembre de 4 p. m. a 5 p. m. PST\n\n\n\n\n\n\n\n\n\nKlamath County Library\nDec 20 from 4pm to 5pm PST
URL:https://lavozdeklamath.com/event/storytime-with-shuina-sko/
LOCATION:Klamath County Library\, 126 S 3rd St\, Klamath Falls\, OR\, 97601\, United States
CATEGORIES:Family Friendly Event,Klamath County Event,Klamath Falls Event
ATTACH;FMTTYPE=image/jpeg:https://lavozdeklamath.com/wp-content/uploads/2025/12/https___cdn.evbuc_.com_images_1172781107_1086277866453_1_original.jpg
END:VEVENT
BEGIN:VEVENT
DTSTART;TZID=America/Los_Angeles:20251222T150000
DTEND;TZID=America/Los_Angeles:20251222T170000
DTSTAMP:20260424T181354
CREATED:20251219T231600Z
LAST-MODIFIED:20251219T231600Z
UID:10001505-1766415600-1766422800@lavozdeklamath.com
SUMMARY:Pictures with Santa at Pacific Crest
DESCRIPTION:Pictures with Santa at Pacific Crest\n\nDecember 22 @ 3:00 pm\nDecember 23 @ 5:00 pm\n\nFOTOS CON SANTA Fotos GRATIS Galletas GRATIS Chocolate caliente GRATIS 2223 Santa Claus en PCFCU Felices fiestas Estás en la lista de los buenos 22 y 23 de diciembre \n2972 ​​WASHBURN WAY 3:00 p. m. a 5:00 p. m. \nPacific Crest FEDERAL CREDIT UNION
URL:https://lavozdeklamath.com/event/pictures-with-santa-at-pacific-crest/2025-12-22/
LOCATION:Pacific Crest Credit Union\, 2972 Washburn Way\, Klamath Falls\, OR\, 97601
CATEGORIES:Family Friendly Event,Holiday Event,Klamath County Event,Klamath Falls Event
ATTACH;FMTTYPE=image/png:https://lavozdeklamath.com/wp-content/uploads/2025/12/pc-sa.png
END:VEVENT
BEGIN:VEVENT
DTSTART;TZID=America/Los_Angeles:20251223T150000
DTEND;TZID=America/Los_Angeles:20251223T170000
DTSTAMP:20260424T181354
CREATED:20251219T231600Z
LAST-MODIFIED:20251219T231600Z
UID:10001506-1766502000-1766509200@lavozdeklamath.com
SUMMARY:Pictures with Santa at Pacific Crest
DESCRIPTION:Pictures with Santa at Pacific Crest\n\nDecember 22 @ 3:00 pm\nDecember 23 @ 5:00 pm\n\nFOTOS CON SANTA Fotos GRATIS Galletas GRATIS Chocolate caliente GRATIS 2223 Santa Claus en PCFCU Felices fiestas Estás en la lista de los buenos 22 y 23 de diciembre \n2972 ​​WASHBURN WAY 3:00 p. m. a 5:00 p. m. \nPacific Crest FEDERAL CREDIT UNION
URL:https://lavozdeklamath.com/event/pictures-with-santa-at-pacific-crest/2025-12-23/
LOCATION:Pacific Crest Credit Union\, 2972 Washburn Way\, Klamath Falls\, OR\, 97601
CATEGORIES:Family Friendly Event,Holiday Event,Klamath County Event,Klamath Falls Event
ATTACH;FMTTYPE=image/png:https://lavozdeklamath.com/wp-content/uploads/2025/12/pc-sa.png
END:VEVENT
END:VCALENDAR