BEGIN:VCALENDAR
VERSION:2.0
PRODID:-//La Voz de Klamath - ECPv6.15.20//NONSGML v1.0//EN
CALSCALE:GREGORIAN
METHOD:PUBLISH
X-ORIGINAL-URL:https://lavozdeklamath.com
X-WR-CALDESC:Events for La Voz de Klamath
REFRESH-INTERVAL;VALUE=DURATION:PT1H
X-Robots-Tag:noindex
X-PUBLISHED-TTL:PT1H
BEGIN:VTIMEZONE
TZID:America/Los_Angeles
BEGIN:DAYLIGHT
TZOFFSETFROM:-0800
TZOFFSETTO:-0700
TZNAME:PDT
DTSTART:20240310T100000
END:DAYLIGHT
BEGIN:STANDARD
TZOFFSETFROM:-0700
TZOFFSETTO:-0800
TZNAME:PST
DTSTART:20241103T090000
END:STANDARD
BEGIN:DAYLIGHT
TZOFFSETFROM:-0800
TZOFFSETTO:-0700
TZNAME:PDT
DTSTART:20250309T100000
END:DAYLIGHT
BEGIN:STANDARD
TZOFFSETFROM:-0700
TZOFFSETTO:-0800
TZNAME:PST
DTSTART:20251102T090000
END:STANDARD
BEGIN:DAYLIGHT
TZOFFSETFROM:-0800
TZOFFSETTO:-0700
TZNAME:PDT
DTSTART:20260308T100000
END:DAYLIGHT
BEGIN:STANDARD
TZOFFSETFROM:-0700
TZOFFSETTO:-0800
TZNAME:PST
DTSTART:20261101T090000
END:STANDARD
END:VTIMEZONE
BEGIN:VEVENT
DTSTART;TZID=America/Los_Angeles:20251201T173000
DTEND;TZID=America/Los_Angeles:20251201T180000
DTSTAMP:20260424T201025
CREATED:20251124T175513Z
LAST-MODIFIED:20251124T175513Z
UID:10001499-1764610200-1764612000@lavozdeklamath.com
SUMMARY:Iluminación anual del árbol de Navidad
DESCRIPTION:¡Comience la temporada navideña en el centro de Klamath Falls! Acompáñenos en la celebración anual del encendido del árbol de Navidad\, con entretenimiento festivo\, delicioso chocolate caliente y la aparición especial de Papá Noel y las princesas del condado de Klamath.  \nEl alcalde Westfall pronunciará unas palabras mientras encendemos el árbol de Navidad de la comunidad y damos la bienvenida oficial a la temporada navideña. \nTraiga a su familia\, amigos y alegría navideña para continuar con esta tradición del centro de Klamath Falls. Es la manera perfecta de comenzar diciembre con una noche llena de la alegría de estar juntos.
URL:https://lavozdeklamath.com/event/iluminacion-anual-del-arbol-de-navidad/
LOCATION:OR
CATEGORIES:Klamath Falls Community Event
ATTACH;FMTTYPE=image/jpeg:https://lavozdeklamath.com/wp-content/uploads/2025/11/qtq80-u3Banf-e1764006860145.jpeg
END:VEVENT
BEGIN:VEVENT
DTSTART;TZID=America/Los_Angeles:20251204T190000
DTEND;TZID=America/Los_Angeles:20251204T190000
DTSTAMP:20260424T201025
CREATED:20251124T190705Z
LAST-MODIFIED:20251124T202125Z
UID:10001502-1764874800-1764874800@lavozdeklamath.com
SUMMARY:Desfile Klamath de los Copos de Nieve
DESCRIPTION:¡Prepárate para una mágica aventura ártica en nuestro espectacular desfile anual! \nÚnete a nosotros en una vibrante procesión de carrozas\, bandas de música y grupos comunitarios que traerán el Polo Norte a nuestras calles. Este año\, estamos encantados de contar con la increíble Debi Leighton como nuestra Gran Mariscal\, liderando el desfile. \nEstén atentos a algunos invitados especiales: ¡quizás incluso vean al travieso Grinch tratando de colarse y\, por supuesto\, la aparición especial del gran hombre\, Papá Noel!\nTraigan a su familia y amigos para experimentar la magia\, sentir la energía de la multitud y animar los deslumbrantes espectáculos mientras recorren Main Street. ¡Es una tradición muy apreciada\, llena de diversión festiva\, unidad y momentos inolvidables para todos!
URL:https://lavozdeklamath.com/event/desfile-klamath-de-los-copos-de-nieve/
LOCATION:1011 Main Street Klamath Falls\, OR 97601\, 1011 Main Street\, Klamath Falls\, OR\, 97601\, United States
CATEGORIES:Klamath Falls Community Event
ATTACH;FMTTYPE=image/jpeg:https://lavozdeklamath.com/wp-content/uploads/2025/11/qtq80-hRXuI7-e1764010861227.jpeg
END:VEVENT
BEGIN:VEVENT
DTSTART;TZID=America/Los_Angeles:20251206T090000
DTEND;TZID=America/Los_Angeles:20251206T120000
DTSTAMP:20260424T201025
CREATED:20251124T181349Z
LAST-MODIFIED:20251124T184923Z
UID:10001501-1765011600-1765022400@lavozdeklamath.com
SUMMARY:12.ª edición anual de la carrera divertida: Suéter feo 5k
DESCRIPTION:La Carrera de los Suéteres Feos es un evento único que reúne a familias\, amigos y miembros de la comunidad para celebrar la temporada navideña con una pizca de humor y mucho corazón. Ponte tu jersey navideño más extravagante y corre o camina por una ruta designada de 5 km\, creando un alegre espectáculo de espíritu navideño. Este evento\, que se celebra llueva o haga sol\, es para todas las edades y habilidades\, ¡e incluso se anima a las mascotas a vestirse para la ocasión! Únete a nosotros el sábado 6 de diciembre a las 9:00 a. m. en Harbor Links.\n0 $ para niños de 0 a 5 años.\n10 $ para niños de 6 a 12 años.\n30 $ para mayores de 13 años. \n¡Todos los participantes recibirán un regalo GRATIS el día de la carrera!
URL:https://lavozdeklamath.com/event/12-a-edicion-anual-de-la-carrera-divertida-sueter-feo-5k/
LOCATION:Harbor Links 601 Harbor Isle Blvd\, 601 Harbor Isle Blvd\, Klamath Falls\, OR\, United States
CATEGORIES:Klamath Falls Community Event
ATTACH;FMTTYPE=image/jpeg:https://lavozdeklamath.com/wp-content/uploads/2025/11/qtq80-h6HPim-e1764007385427.jpeg
END:VEVENT
BEGIN:VEVENT
DTSTART;TZID=America/Los_Angeles:20251220T110000
DTEND;TZID=America/Los_Angeles:20251220T150000
DTSTAMP:20260424T201025
CREATED:20251219T233835Z
LAST-MODIFIED:20251220T023910Z
UID:10001508-1766228400-1766242800@lavozdeklamath.com
SUMMARY:PAPÁ NOEL llega a Treasures UNA TIENDA DE SEGUNDA MANO ÚNICA
DESCRIPTION:PAPÁ NOEL llega a Treasures UNA TIENDA DE SEGUNDA MANO ÚNICA \n20 de diciembre de 2025 11:00 a.m. – 3:00 p.m. \n3226 South 6th Street\n \n 
URL:https://lavozdeklamath.com/event/14268/
LOCATION:Treasures Thrift Store\, 3226 South 6th Street\, Klamath Falls\, 97601\, United States
CATEGORIES:Family Friendly Event,Holiday Event,Klamath Falls Community Event,Klamath Falls Event
ATTACH;FMTTYPE=image/png:https://lavozdeklamath.com/wp-content/uploads/2025/12/ssss.png
END:VEVENT
BEGIN:VEVENT
DTSTART;TZID=America/Los_Angeles:20251221T100000
DTEND;TZID=America/Los_Angeles:20251221T160000
DTSTAMP:20260424T201025
CREATED:20251220T025901Z
LAST-MODIFIED:20251220T030019Z
UID:10001510-1766311200-1766332800@lavozdeklamath.com
SUMMARY:El espíritu del mercado navideño
DESCRIPTION:¡El Spirit of Christmas Market se llevará a cabo el domingo 21 de diciembre de 2025 de 10 a. m. a 4 p. m. en el edificio comercial Coldwell Banker en Klamath Falls!\nVisitas gratuitas de Papá Noel para familias \n3815 S. 6th Street\, Klamath Falls
URL:https://lavozdeklamath.com/event/the-spirit-of-christmas-market/
LOCATION:Coldwell Banker Building\, 3815 S. 6th Street\, Klamath Falls\, OR\, 97601
CATEGORIES:Family Friendly Event,Holiday Event,Klamath Falls Community Event,Klamath Falls Event
ATTACH;FMTTYPE=image/png:https://lavozdeklamath.com/wp-content/uploads/2025/12/sp-of-c.png
END:VEVENT
BEGIN:VEVENT
DTSTART;TZID=America/Los_Angeles:20251221T120000
DTEND;TZID=America/Los_Angeles:20251221T143000
DTSTAMP:20260424T201025
CREATED:20251220T024755Z
LAST-MODIFIED:20251220T024854Z
UID:10001509-1766318400-1766327400@lavozdeklamath.com
SUMMARY:Ven a tomarte una foto con Santa
DESCRIPTION:Ven a tomarte una foto con Santa; cada niño recibirá un juguete de Santa (hasta agotar existencias)\, la familia también se llevará a casa un marco magnético con su foto familiar.\nEste es un evento gratuito organizado por la Familia Farias\, la Familia Briones\, la Familia Nork\, numerosos voluntarios\, miembros de la comunidad que han donado juguetes\, el taller de Adrian y Major Connections Klamath Falls. Cada niño recibirá un juguete de Santa Claus (hasta agotar existencias) y la familia también se llevará a casa un marco magnético con su foto familiar. \nDomingo 21 de diciembre 12-2:30 \nGaraje de Adrian — 6161 S 6th Klamath Falls \n 
URL:https://lavozdeklamath.com/event/come-take-a-picture-with-santa/
LOCATION:Adrian’s Garage\, 6161 S 6th\, Klamath Falls\, OR\, 97601\, United States
CATEGORIES:Family Friendly Event,Holiday Event,Klamath Falls Community Event
ATTACH;FMTTYPE=image/png:https://lavozdeklamath.com/wp-content/uploads/2025/12/ss-bb.png
END:VEVENT
BEGIN:VEVENT
DTSTART;TZID=America/Los_Angeles:20251224T120000
DTEND;TZID=America/Los_Angeles:20251224T130000
DTSTAMP:20260424T201025
CREATED:20251219T232735Z
LAST-MODIFIED:20251219T232842Z
UID:10001507-1766577600-1766581200@lavozdeklamath.com
SUMMARY:Cena de Nochebuena de la Misión Evangélica de Klamath Falls
DESCRIPTION:Klamath Falls Gospel Mission servirá cena navideña\nNochebuena (24/12) de 12:00 a 13:00 horas\nTodos sois bienvenidos\n \n \n1931 Mission Avenue\nKlamath Falls\, Oregon 97601
URL:https://lavozdeklamath.com/event/klamath-falls-gospel-mission-christmas-eve-dinner/
LOCATION:Klamath Falls Gospel Mission\, 1931 Mission Ave\, Klamath Falls\, OR\, 97601\, United States
CATEGORIES:Family Friendly Event,Holiday Event,Klamath Falls Community Event
ATTACH;FMTTYPE=image/png:https://lavozdeklamath.com/wp-content/uploads/2025/12/dddd.png
END:VEVENT
END:VCALENDAR