BEGIN:VCALENDAR
VERSION:2.0
PRODID:-//La Voz de Klamath - ECPv6.15.20//NONSGML v1.0//EN
CALSCALE:GREGORIAN
METHOD:PUBLISH
X-WR-CALNAME:La Voz de Klamath
X-ORIGINAL-URL:https://lavozdeklamath.com
X-WR-CALDESC:Events for La Voz de Klamath
REFRESH-INTERVAL;VALUE=DURATION:PT1H
X-Robots-Tag:noindex
X-PUBLISHED-TTL:PT1H
BEGIN:VTIMEZONE
TZID:America/Los_Angeles
BEGIN:DAYLIGHT
TZOFFSETFROM:-0800
TZOFFSETTO:-0700
TZNAME:PDT
DTSTART:20250309T100000
END:DAYLIGHT
BEGIN:STANDARD
TZOFFSETFROM:-0700
TZOFFSETTO:-0800
TZNAME:PST
DTSTART:20251102T090000
END:STANDARD
BEGIN:DAYLIGHT
TZOFFSETFROM:-0800
TZOFFSETTO:-0700
TZNAME:PDT
DTSTART:20260308T100000
END:DAYLIGHT
BEGIN:STANDARD
TZOFFSETFROM:-0700
TZOFFSETTO:-0800
TZNAME:PST
DTSTART:20261101T090000
END:STANDARD
BEGIN:DAYLIGHT
TZOFFSETFROM:-0800
TZOFFSETTO:-0700
TZNAME:PDT
DTSTART:20270314T100000
END:DAYLIGHT
BEGIN:STANDARD
TZOFFSETFROM:-0700
TZOFFSETTO:-0800
TZNAME:PST
DTSTART:20271107T090000
END:STANDARD
END:VTIMEZONE
BEGIN:VEVENT
DTSTART;TZID=America/Los_Angeles:20260110T100000
DTEND;TZID=America/Los_Angeles:20260110T160000
DTSTAMP:20260424T181503
CREATED:20260105T202307Z
LAST-MODIFIED:20260105T202433Z
UID:10001512-1768039200-1768060800@lavozdeklamath.com
SUMMARY:Primera feria nupcial anual de Klamath
DESCRIPTION:Nos complace anunciar nuestro Primer Premier Bridal Show Anual\, una experiencia boutique curada que reúne a los mejores profesionales de bodas de la región y parejas recién comprometidas\, ¡todo bajo un mismo y elegante techo!\n\n\nÚnase a nosotros en el Klamath Premier Bridal Show el sábado 10 de enero\, permítanos inspirar la boda de sus sueños con nuestros increíbles paquetes de boda y más.\n\nSábado 10 de enero de 2026 (10:00 a. m. a 4:00 p. m.)\n\n\nRecinto ferial del condado de Klamath\n3531 S. 6th St.\nKlamath Falls
URL:https://lavozdeklamath.com/event/klamaths-first-annual-premier-bridal-show/
LOCATION:Klamath County Fairgrounds\, 3531 S.6th Street\, Klamath Falls\, OR\, 97603\, United States
CATEGORIES:Klamath County Event,Klamath Falls Community Event
ATTACH;FMTTYPE=image/png:https://lavozdeklamath.com/wp-content/uploads/2026/01/lv-ev.png
END:VEVENT
BEGIN:VEVENT
DTSTART;TZID=America/Los_Angeles:20260113T183000
DTEND;TZID=America/Los_Angeles:20260113T200000
DTSTAMP:20260424T181503
CREATED:20251219T224706Z
LAST-MODIFIED:20251219T224851Z
UID:10001503-1768329000-1768334400@lavozdeklamath.com
SUMMARY:Aquí está el calendario de eventos de Take Root-Klamath County para el Año Nuevo
DESCRIPTION:¡Aquí está el calendario de eventos de Take Root-Klamath County!\nConsúltelo en Google Calendar: https://tinyurl.com/5ad8zrz3
URL:https://lavozdeklamath.com/event/here-is-the-calendar-of-events-for-take-root-klamath-county-for-the-new-year/
LOCATION:OR
CATEGORIES:Family Friendly Event,Health and Wellness,Klamath County Event,Klamath Falls Community Event
ATTACH;FMTTYPE=image/png:https://lavozdeklamath.com/wp-content/uploads/2025/12/tk-rt.png
END:VEVENT
BEGIN:VEVENT
DTSTART;TZID=America/Los_Angeles:20260117T130000
DTEND;TZID=America/Los_Angeles:20260117T160000
DTSTAMP:20260424T181503
CREATED:20260115T180503Z
LAST-MODIFIED:20260115T180713Z
UID:10001514-1768654800-1768665600@lavozdeklamath.com
SUMMARY:Manualidades para niños sin cita previa
DESCRIPTION:Manualidades para niños sin cita previa\n \n\nSaturday\, January 17\, 2026 1 to 4pm\n\n\n\n¡Ven a visitarnos para un proyecto que puedes hacer a tu propio ritmo y deja que nosotros nos encarguemos de limpiar la brillantina! \nPara niños de 3 a 12 años.\n\n\nBiblioteca principal\n\n\n\n126 South Third Street\nKlamath Falls\, OR 97601 \n\n(541) 882-8894\n\n\n\n\n\n\n\n\n 
URL:https://lavozdeklamath.com/event/drop-in-kids-crafts/
LOCATION:Klamath County Library\, 126 S 3rd St\, Klamath Falls\, OR\, 97601\, United States
CATEGORIES:Family Friendly Event,Klamath Falls Community Event,Klamath Falls Event
ATTACH;FMTTYPE=image/png:https://lavozdeklamath.com/wp-content/uploads/2026/01/kf-d.png
END:VEVENT
BEGIN:VEVENT
DTSTART;TZID=America/Los_Angeles:20260122T173000
DTEND;TZID=America/Los_Angeles:20260122T183000
DTSTAMP:20260424T181503
CREATED:20260122T180348Z
LAST-MODIFIED:20260122T180348Z
UID:10001577-1769103000-1769106600@lavozdeklamath.com
SUMMARY:Community Storytime - Hosted by The Klamath County Library
DESCRIPTION:Directrices para lectores invitados\n\nCuándo: El Cuarto Jueves de Cada Mes (5:30-6:30pm)\nDónde: Biblioteca del Condado de Klamath\, Sucursal del Centro\nDestinatarios: Niños de 0-5 años y sus Cuidadores\nDuración: Aproximadamente de 15-30 minutos
URL:https://lavozdeklamath.com/event/community-storytime-hosted-by-the-klamath-county-library/
LOCATION:Klamath County Library\, 126 S 3rd St\, Klamath Falls\, OR\, 97601\, United States
CATEGORIES:Family Friendly Event,Klamath County Event,Klamath Falls Community Event
ATTACH;FMTTYPE=image/png:https://lavozdeklamath.com/wp-content/uploads/2026/01/read-1.png
END:VEVENT
BEGIN:VEVENT
DTSTART;TZID=America/Los_Angeles:20260122T173000
DTEND;TZID=America/Los_Angeles:20260122T183000
DTSTAMP:20260424T181503
CREATED:20260122T181901Z
LAST-MODIFIED:20260122T181901Z
UID:10001578-1769103000-1769106600@lavozdeklamath.com
SUMMARY:Community Story Time - The Fourth Thursday each Month 5:30 to 6:30 - Hosted by The Klamath County Library
DESCRIPTION:Community Story Time\n \nWhen: Fourth Thursday of every month @ 5:30pm-6:30pm\nWhere: Klamath County Library Downtown Branch\nAudience: Children ages 0–5 and their caregivers\nLength: Approximately 15-30 minutes
URL:https://lavozdeklamath.com/event/community-story-time-the-fourth-thursday-each-month-530-to-630-hosted-by-the-klamath-county-library/2026-01-22/
LOCATION:Klamath County Library\, 126 S 3rd St\, Klamath Falls\, OR\, 97601\, United States
CATEGORIES:Family Friendly Event,Kids,Klamath County Event,Klamath Falls Community Event,Klamath Falls Event
ATTACH;FMTTYPE=image/png:https://lavozdeklamath.com/wp-content/uploads/2026/01/klc-presents.png
END:VEVENT
BEGIN:VEVENT
DTSTART;TZID=America/Los_Angeles:20260129T183000
DTEND;TZID=America/Los_Angeles:20260129T203000
DTSTAMP:20260424T181503
CREATED:20260108T172043Z
LAST-MODIFIED:20260108T172525Z
UID:10001513-1769711400-1769718600@lavozdeklamath.com
SUMMARY:¿Listos para combatir la rivalidad entre hermanos? ¡Únete a nuestro taller en línea! ¡Etiqueta a un amigo que lo necesite!
DESCRIPTION:  \n\n\n\n\nCombatiendo la rivalidad entre hermanos\n\n\n\n\n\n\n\nÚnase a nosotros en línea para aprender sobre medidas prácticas que los cuidadores pueden implementar para combatir la constante rivalidad entre hermanos. Aprenderán a enriquecer y fortalecer las relaciones con sus hijos menores\, a la vez que encuentran la paz que buscan en su hogar. Conozcan algunas de las razones psicológicas por las que los hermanos pueden pelear entre sí y cómo guiar positivamente a los niños hacia acciones más constructivas. ¡Ayuden a fortalecer las relaciones entre hermanos!\n\n\n\n\n\n\n\n\n\n\n\n\n\n\n\n\n\n\n\n\n\n\n\n\n\n\n\n\n\n\n\n\n\n\n\n\n\n\nUbicación virtual \nRecibirá un correo electrónico de confirmación con una URL.    https://lp.constantcontactpages.com/ev/reg/rbkzhyj/lp/4a57a658-7a0a-47d0-9255-e83ff5a9d854\n\n\n\n\n\n\n\n\n\n\n\n\n\n\n\n\n\n\n\n\n\n\n\n29 de enero de 2026\, 18:30 – 29 de enero de 2026\, 20:30\n\n\n\n\n\n\n\n\n\n\n\n\n\n\n\n\n\n\n\n\n\n\n\n\n\n \n  \nhttps://www.facebook.com/photo/?fbid=1287313196762735&set=pcb.1287313256762729\nKlamath County Take Root Parenting Connection
URL:https://lavozdeklamath.com/event/ready-to-tackle-sibling-rivalry-join-our-online-workshop-tag-a-friend-who-needs-this/
LOCATION:OR
CATEGORIES:Family Friendly Event,Klamath County Event,Klamath Falls Community Event,Klamath Falls Event,Virtual
ATTACH;FMTTYPE=image/png:https://lavozdeklamath.com/wp-content/uploads/2026/01/k-fallls-event-1-29.png
END:VEVENT
BEGIN:VEVENT
DTSTART;TZID=America/Los_Angeles:20260131T163000
DTEND;TZID=America/Los_Angeles:20260131T200000
DTSTAMP:20260424T181503
CREATED:20260120T192519Z
LAST-MODIFIED:20260120T192813Z
UID:10001515-1769877000-1769889600@lavozdeklamath.com
SUMMARY:Home Run Crab Feed\, evento recaudador de fondos para el equipo atlético de la escuela secundaria Henley
DESCRIPTION:Comida para cangrejos Home Run \n\nEl 31 de enero de 2026\, las puertas se abrirán a las 4:30 p. m. en el centro de eventos del condado de Klamath.\nLa cena incluye bufé libre de cangrejo\, ensalada César y panecillos. También hay una opción de pizza por $15 que incluye refresco o agua. Los tickets de pizza se compran en la taquilla.\nSe venderá cerveza y vino en el evento.\n$60 por entradas individuales y $420 por una mesa de ocho.\nTambién puedes comprar entradas de tu jugador de béisbol o sóftbol favorito de Henley.\n  \nHenley Crab Feed es una recaudación de fondos anual para  los deportes de la escuela secundaria Henley  (béisbol y sóftbol)\, que se lleva a cabo en el  Centro de eventos del condado de Klamath en Klamath Falls. \n\n\nDetalles clave:\n\n\nDe qué se trata:  Una recaudación de fondos para los equipos deportivos de la escuela secundaria Henley.\n\n\nCuándo: 31 de enero de 2026 –   puertas abren a las 16:30 h\n\n\nDónde:  Centro de eventos del condado de Klamath\, 3531 S 6th St Klamath Falls\, OR.\n\n\nCosto:  Alrededor de $60 por boleto o $420 para una mesa de 8.\n\n\nQué se sirve:  cangrejo\, mantequilla derretida\, ensalada César\, patatas al horno\, panecillos\, refrescos.\n\n\nCómo comprar entradas:  a través de los jugadores\,  Barney’s Family Market (Midland) o  REACH Inc. 
URL:https://lavozdeklamath.com/event/14530/
LOCATION:Klamath County Event Center\, 3531 S 6th St\, OR\, 97601\, United States
CATEGORIES:Family Friendly Event,Fundraiser,Klamath County Event,Klamath Falls Community Event,Klamath Falls Event
ATTACH;FMTTYPE=image/png:https://lavozdeklamath.com/wp-content/uploads/2026/01/crab.png
END:VEVENT
END:VCALENDAR