BEGIN:VCALENDAR
VERSION:2.0
PRODID:-//La Voz de Klamath - ECPv6.15.20//NONSGML v1.0//EN
CALSCALE:GREGORIAN
METHOD:PUBLISH
X-ORIGINAL-URL:https://lavozdeklamath.com
X-WR-CALDESC:Events for La Voz de Klamath
REFRESH-INTERVAL;VALUE=DURATION:PT1H
X-Robots-Tag:noindex
X-PUBLISHED-TTL:PT1H
BEGIN:VTIMEZONE
TZID:America/Los_Angeles
BEGIN:DAYLIGHT
TZOFFSETFROM:-0800
TZOFFSETTO:-0700
TZNAME:PDT
DTSTART:20250309T100000
END:DAYLIGHT
BEGIN:STANDARD
TZOFFSETFROM:-0700
TZOFFSETTO:-0800
TZNAME:PST
DTSTART:20251102T090000
END:STANDARD
BEGIN:DAYLIGHT
TZOFFSETFROM:-0800
TZOFFSETTO:-0700
TZNAME:PDT
DTSTART:20260308T100000
END:DAYLIGHT
BEGIN:STANDARD
TZOFFSETFROM:-0700
TZOFFSETTO:-0800
TZNAME:PST
DTSTART:20261101T090000
END:STANDARD
BEGIN:DAYLIGHT
TZOFFSETFROM:-0800
TZOFFSETTO:-0700
TZNAME:PDT
DTSTART:20270314T100000
END:DAYLIGHT
BEGIN:STANDARD
TZOFFSETFROM:-0700
TZOFFSETTO:-0800
TZNAME:PST
DTSTART:20271107T090000
END:STANDARD
END:VTIMEZONE
BEGIN:VEVENT
DTSTART;TZID=America/Los_Angeles:20260201T160000
DTEND;TZID=America/Los_Angeles:20260201T170000
DTSTAMP:20260424T161552
CREATED:20260121T020356Z
LAST-MODIFIED:20260121T020810Z
UID:10001516-1769961600-1769965200@lavozdeklamath.com
SUMMARY:Aprenda cómo dejar de fumar\, vapear o masticar tabaco en la sesión en línea de Zoom organizada por el Departamento de Salud del Condado de Klamath y la Asociación Estadounidense del Pulmón.
DESCRIPTION:Aprenda a dejar de fumar\, vapear o masticar cigarrillos electrónicos con la sesión en línea de Zoom de Klamath County Health y la Asociación Estadounidense del Pulmón.\n\n1 de febrero a las 16:00 – 17:00 horas\n\n\n\n\n¿Estás buscando dejar de fumar\, vapear o masticar?\nPuedes dejarlo. Podemos ayudarte.\nCuándo: A partir del 1 de febrero de 2026. Todos los domingos a las 16:00 horas.\n \nESCANEE EL CÓDIGO QR para registrarse o recibir más información. \n  \nAquí tienes ayuda para dejar de fumar\, vapear o masticar tabaco. Mira este evento especial en línea por Zoom con esta información:\n-Cómo saber si realmente estás listo para dejarlo\n-Medicamentos que pueden aumentar su éxito\n-Cambios en el estilo de vida para que dejar de fumar sea más fácil.\n-Cómo prepararse para el día en que dejará de fumar\n-Estrategias de afrontamiento para controlar el estrés y evitar el aumento de peso.\n-Cómo mantenerse libre de humo para siempre\n\nESCANEE EL CÓDIGO QR PARA MÁS INFORMACIÓN\nRecibirá el enlace de Zoom EN LÍNEA que se enviará cuando se registre para la clase.\nDurante el curso de 8 semanas dirigido por un facilitador certificado de la Asociación Americana del Pulmón\, aprenderá las últimas formas de dejar de fumar.\nPara obtener más información\, comuníquese con: Amy Slay aslay@klamathcountyor.gov o Kelsey Box Kelsey@oregonsci.org
URL:https://lavozdeklamath.com/event/image-default-learn-how-to-quit-smoking-vaping-or-chewing-from-klamath-county-health-and-the-american-lung-association-zoom-online-session/2026-02-01/
LOCATION:OR
CATEGORIES:Health and Wellness,Klamath County Event,Klamath Falls Community Event,Klamath Falls Event
ATTACH;FMTTYPE=image/png:https://lavozdeklamath.com/wp-content/uploads/2026/01/ffffffffffffffffffff.png
END:VEVENT
BEGIN:VEVENT
DTSTART;TZID=America/Los_Angeles:20260207T130000
DTEND;TZID=America/Los_Angeles:20260207T170000
DTSTAMP:20260424T161552
CREATED:20260205T183524Z
LAST-MODIFIED:20260205T183629Z
UID:10002006-1770469200-1770483600@lavozdeklamath.com
SUMMARY:Recaudación de fondos Bunco de Galentine del condado de Miss Klamath
DESCRIPTION: Recaudación de fondos Bunco de Galentine del condado de Miss Klamath \nReúna a sus damas más afortunadas y vengan a pasar un rato con nosotros en nuestra recaudación de fondos “divertida” de Bunco\, repleta de golosinas y premios\, ¡todo en beneficio de la Organización de Becas Miss Klamath County!\n Sábado 7 de febrero de 2026 a la 1:00 p. m.Centro de conferencias del Washington Federal Bank (detrás del WaFd)\n5215 S 6th St. Klamath Falls\, Oregón\n Entradas | $25/personaCompra tus entradas a través de nuestra cuenta Venmo: @mkcmcos\nAsegúrese de agregar “Galentine’s Bunco” Y su nombre y apellido en la nota para completar la compra de su boleto.\n**Hay una cantidad limitada de asientos disponibles\, así que no te lo pierdas: ¡compra tus entradas ahora!
URL:https://lavozdeklamath.com/event/miss-klamath-county-galentines-bunco-fundraiser/
LOCATION:Washington Federal Bank Conference Center\, 5215 S 6th St\, Klamath Falls\, OR\, 97601\, United States
CATEGORIES:Fundraiser,Klamath County Event,Klamath Falls Community Event,Klamath Falls Event
ATTACH;FMTTYPE=image/png:https://lavozdeklamath.com/wp-content/uploads/2026/02/bunco.png
END:VEVENT
BEGIN:VEVENT
DTSTART;TZID=America/Los_Angeles:20260208T130000
DTEND;TZID=America/Los_Angeles:20260208T190000
DTSTAMP:20260424T161552
CREATED:20260205T184940Z
LAST-MODIFIED:20260205T185043Z
UID:10002010-1770555600-1770577200@lavozdeklamath.com
SUMMARY:¡Fiesta para ver el Super Bowl en Lake of the Woods!
DESCRIPTION: ¡Fiesta para ver el Super Bowl en Lake of the Woods! \nÚnase a nosotros en nuestro salón del piso superior para disfrutar de la mejor experiencia del día del juego con ofertas especiales de cerveza y bebidas y alimentos especiales del Super Bowl disponibles durante el juego.\n ¡Hora de la rifa!Consigue un boleto de rifa por cada bebida que compres para tener la oportunidad de ganar regalos de Lake of the Woods durante toda la noche.\nVen a ver el juego\, quédate para divertirte y\, si quieres pasar una noche inolvidable\, llama hoy mismo a nuestro equipo de reservas para reservar una cabaña y continuar la fiesta después del pitido final.\n ¡Nos vemos el día del partido!\n\n\n\nhttps://www.facebook.com/events/918360860716379/\n\nPara cerrar la semana\, el  domingo  invita a tus amigos y dirígete al  Lake of the Woods Resort  para una  fiesta para ver el Super Bowl  . Por cada bebida que compres recibirás un boleto para participar en una rifa con la oportunidad de ganar premios durante toda la tarde. El evento comienza a la  1:00 p.m.
URL:https://lavozdeklamath.com/event/super-bowl-watch-party-at-lake-of-the-woods/
LOCATION:Lake of the Woods Resort General Store\, 950 Harriman Route\, Klamath Falsl\, OR\, 97601\, United States
CATEGORIES:Family Friendly Event,Klamath County Event,Klamath Falls Community Event,Klamath Falls Event
ATTACH;FMTTYPE=image/png:https://lavozdeklamath.com/wp-content/uploads/2026/02/bb-1-2.png
END:VEVENT
BEGIN:VEVENT
DTSTART;TZID=America/Los_Angeles:20260208T160000
DTEND;TZID=America/Los_Angeles:20260208T170000
DTSTAMP:20260424T161552
CREATED:20260121T020356Z
LAST-MODIFIED:20260121T020810Z
UID:10001517-1770566400-1770570000@lavozdeklamath.com
SUMMARY:Aprenda cómo dejar de fumar\, vapear o masticar tabaco en la sesión en línea de Zoom organizada por el Departamento de Salud del Condado de Klamath y la Asociación Estadounidense del Pulmón.
DESCRIPTION:Aprenda a dejar de fumar\, vapear o masticar cigarrillos electrónicos con la sesión en línea de Zoom de Klamath County Health y la Asociación Estadounidense del Pulmón.\n\n1 de febrero a las 16:00 – 17:00 horas\n\n\n\n\n¿Estás buscando dejar de fumar\, vapear o masticar?\nPuedes dejarlo. Podemos ayudarte.\nCuándo: A partir del 1 de febrero de 2026. Todos los domingos a las 16:00 horas.\n \nESCANEE EL CÓDIGO QR para registrarse o recibir más información. \n  \nAquí tienes ayuda para dejar de fumar\, vapear o masticar tabaco. Mira este evento especial en línea por Zoom con esta información:\n-Cómo saber si realmente estás listo para dejarlo\n-Medicamentos que pueden aumentar su éxito\n-Cambios en el estilo de vida para que dejar de fumar sea más fácil.\n-Cómo prepararse para el día en que dejará de fumar\n-Estrategias de afrontamiento para controlar el estrés y evitar el aumento de peso.\n-Cómo mantenerse libre de humo para siempre\n\nESCANEE EL CÓDIGO QR PARA MÁS INFORMACIÓN\nRecibirá el enlace de Zoom EN LÍNEA que se enviará cuando se registre para la clase.\nDurante el curso de 8 semanas dirigido por un facilitador certificado de la Asociación Americana del Pulmón\, aprenderá las últimas formas de dejar de fumar.\nPara obtener más información\, comuníquese con: Amy Slay aslay@klamathcountyor.gov o Kelsey Box Kelsey@oregonsci.org
URL:https://lavozdeklamath.com/event/image-default-learn-how-to-quit-smoking-vaping-or-chewing-from-klamath-county-health-and-the-american-lung-association-zoom-online-session/2026-02-08/
LOCATION:OR
CATEGORIES:Health and Wellness,Klamath County Event,Klamath Falls Community Event,Klamath Falls Event
ATTACH;FMTTYPE=image/png:https://lavozdeklamath.com/wp-content/uploads/2026/01/ffffffffffffffffffff.png
END:VEVENT
BEGIN:VEVENT
DTSTART;TZID=America/Los_Angeles:20260213T053000
DTEND;TZID=America/Los_Angeles:20260213T140000
DTSTAMP:20260424T161552
CREATED:20260210T180321Z
LAST-MODIFIED:20260210T180442Z
UID:10002014-1770960600-1770991200@lavozdeklamath.com
SUMMARY:Venta de pasteles del día de San Valentín
DESCRIPTION:Klamath Hospice and Palliative Care – ¡Venta anual de pasteles del día de San Valentín!\n \n\n\n\n\n\nAbastécete de dulces y apoya una buena causa. ¡Regálale un capricho a ti o a alguien que amas!\nTodas las ganancias benefician a los pacientes gravemente enfermos de Klamath Hospice & Palliative Care y sus familias.\nPara obtener más información\, llame a Jennifer al 541-882-2902.
URL:https://lavozdeklamath.com/event/valentines-day-bake-sale/
LOCATION:Sky Lakes Medical Center\, 3190 Campus Dr\, 97601\, United States
CATEGORIES:Family Friendly Event,Fundraiser,Klamath County Event,Klamath Falls Community Event,Klamath Falls Event
ATTACH;FMTTYPE=image/png:https://lavozdeklamath.com/wp-content/uploads/2026/02/v-d-ba.png
END:VEVENT
BEGIN:VEVENT
DTSTART;TZID=America/Los_Angeles:20260213T080000
DTEND;TZID=America/Los_Angeles:20260215T230000
DTSTAMP:20260424T161552
CREATED:20260203T181021Z
LAST-MODIFIED:20260205T184218Z
UID:10002007-1770969600-1771196400@lavozdeklamath.com
SUMMARY:LAKE OF THE WOODS WINTER FEST
DESCRIPTION:LAKE OF THE WOODS WINTER FEST \n February 13–15\, 2026\n\n\n\nBundle up and join us for a weekend packed with good food\, great drinks\, and nonstop fun! \nWe’ve got cornhole tournaments\, tastings\, games\, raffles\, live music & more happening all weekend long.\n Kite Festival Weekend at the Lake \n\n\n\n Breakfast Buffet – $18\n Smaller regular menu also available all weekend\n\n\n\nMake it a getaway! \n Buy 2 nights\, get the 3rd FREE is still running\n Cabins are available\, so come for the day or stay the whole weekend and soak it all in\n\n\n\n Don’t forget your special someone for our Valentine’s Dinner Specials featuring Buoy Brewing & Pilot House Distillery\n\n\nCome hungry\, come cozy\, and come ready for a winter weekend full of food & fun \n\n\n\n\n950 Harriman Route\, Klamath Falls\, OR\, United States\, 97601
URL:https://lavozdeklamath.com/event/lake-of-the-woods-winter-fest/2026-02-13/
LOCATION:Lake of the Woods Resort General Store\, 950 Harriman Route\, Klamath Falsl\, OR\, 97601\, United States
CATEGORIES:Family Friendly Event,Klamath County Event,Klamath Falls Community Event,Klamath Falls Event
ATTACH;FMTTYPE=image/png:https://lavozdeklamath.com/wp-content/uploads/2026/02/low-wnter-fest.png
END:VEVENT
BEGIN:VEVENT
DTSTART;TZID=America/Los_Angeles:20260214T080000
DTEND;TZID=America/Los_Angeles:20260214T170000
DTSTAMP:20260424T161552
CREATED:20260203T181021Z
LAST-MODIFIED:20260205T184218Z
UID:10002008-1771056000-1771088400@lavozdeklamath.com
SUMMARY:LAKE OF THE WOODS WINTER FEST
DESCRIPTION:LAKE OF THE WOODS WINTER FEST \n February 13–15\, 2026\n\n\n\nBundle up and join us for a weekend packed with good food\, great drinks\, and nonstop fun! \nWe’ve got cornhole tournaments\, tastings\, games\, raffles\, live music & more happening all weekend long.\n Kite Festival Weekend at the Lake \n\n\n\n Breakfast Buffet – $18\n Smaller regular menu also available all weekend\n\n\n\nMake it a getaway! \n Buy 2 nights\, get the 3rd FREE is still running\n Cabins are available\, so come for the day or stay the whole weekend and soak it all in\n\n\n\n Don’t forget your special someone for our Valentine’s Dinner Specials featuring Buoy Brewing & Pilot House Distillery\n\n\nCome hungry\, come cozy\, and come ready for a winter weekend full of food & fun \n\n\n\n\n950 Harriman Route\, Klamath Falls\, OR\, United States\, 97601
URL:https://lavozdeklamath.com/event/lake-of-the-woods-winter-fest/2026-02-14/
LOCATION:Lake of the Woods Resort General Store\, 950 Harriman Route\, Klamath Falsl\, OR\, 97601\, United States
CATEGORIES:Family Friendly Event,Klamath County Event,Klamath Falls Community Event,Klamath Falls Event
ATTACH;FMTTYPE=image/png:https://lavozdeklamath.com/wp-content/uploads/2026/02/low-wnter-fest.png
END:VEVENT
BEGIN:VEVENT
DTSTART;TZID=America/Los_Angeles:20260215T080000
DTEND;TZID=America/Los_Angeles:20260215T200000
DTSTAMP:20260424T161552
CREATED:20260203T181021Z
LAST-MODIFIED:20260205T184218Z
UID:10002009-1771142400-1771185600@lavozdeklamath.com
SUMMARY:LAKE OF THE WOODS WINTER FEST
DESCRIPTION:LAKE OF THE WOODS WINTER FEST \n February 13–15\, 2026\n\n\n\nBundle up and join us for a weekend packed with good food\, great drinks\, and nonstop fun! \nWe’ve got cornhole tournaments\, tastings\, games\, raffles\, live music & more happening all weekend long.\n Kite Festival Weekend at the Lake \n\n\n\n Breakfast Buffet – $18\n Smaller regular menu also available all weekend\n\n\n\nMake it a getaway! \n Buy 2 nights\, get the 3rd FREE is still running\n Cabins are available\, so come for the day or stay the whole weekend and soak it all in\n\n\n\n Don’t forget your special someone for our Valentine’s Dinner Specials featuring Buoy Brewing & Pilot House Distillery\n\n\nCome hungry\, come cozy\, and come ready for a winter weekend full of food & fun \n\n\n\n\n950 Harriman Route\, Klamath Falls\, OR\, United States\, 97601
URL:https://lavozdeklamath.com/event/lake-of-the-woods-winter-fest/2026-02-15/
LOCATION:Lake of the Woods Resort General Store\, 950 Harriman Route\, Klamath Falsl\, OR\, 97601\, United States
CATEGORIES:Family Friendly Event,Klamath County Event,Klamath Falls Community Event,Klamath Falls Event
ATTACH;FMTTYPE=image/png:https://lavozdeklamath.com/wp-content/uploads/2026/02/low-wnter-fest.png
END:VEVENT
BEGIN:VEVENT
DTSTART;TZID=America/Los_Angeles:20260215T160000
DTEND;TZID=America/Los_Angeles:20260215T170000
DTSTAMP:20260424T161552
CREATED:20260121T020356Z
LAST-MODIFIED:20260121T020810Z
UID:10001518-1771171200-1771174800@lavozdeklamath.com
SUMMARY:Aprenda cómo dejar de fumar\, vapear o masticar tabaco en la sesión en línea de Zoom organizada por el Departamento de Salud del Condado de Klamath y la Asociación Estadounidense del Pulmón.
DESCRIPTION:Aprenda a dejar de fumar\, vapear o masticar cigarrillos electrónicos con la sesión en línea de Zoom de Klamath County Health y la Asociación Estadounidense del Pulmón.\n\n1 de febrero a las 16:00 – 17:00 horas\n\n\n\n\n¿Estás buscando dejar de fumar\, vapear o masticar?\nPuedes dejarlo. Podemos ayudarte.\nCuándo: A partir del 1 de febrero de 2026. Todos los domingos a las 16:00 horas.\n \nESCANEE EL CÓDIGO QR para registrarse o recibir más información. \n  \nAquí tienes ayuda para dejar de fumar\, vapear o masticar tabaco. Mira este evento especial en línea por Zoom con esta información:\n-Cómo saber si realmente estás listo para dejarlo\n-Medicamentos que pueden aumentar su éxito\n-Cambios en el estilo de vida para que dejar de fumar sea más fácil.\n-Cómo prepararse para el día en que dejará de fumar\n-Estrategias de afrontamiento para controlar el estrés y evitar el aumento de peso.\n-Cómo mantenerse libre de humo para siempre\n\nESCANEE EL CÓDIGO QR PARA MÁS INFORMACIÓN\nRecibirá el enlace de Zoom EN LÍNEA que se enviará cuando se registre para la clase.\nDurante el curso de 8 semanas dirigido por un facilitador certificado de la Asociación Americana del Pulmón\, aprenderá las últimas formas de dejar de fumar.\nPara obtener más información\, comuníquese con: Amy Slay aslay@klamathcountyor.gov o Kelsey Box Kelsey@oregonsci.org
URL:https://lavozdeklamath.com/event/image-default-learn-how-to-quit-smoking-vaping-or-chewing-from-klamath-county-health-and-the-american-lung-association-zoom-online-session/2026-02-15/
LOCATION:OR
CATEGORIES:Health and Wellness,Klamath County Event,Klamath Falls Community Event,Klamath Falls Event
ATTACH;FMTTYPE=image/png:https://lavozdeklamath.com/wp-content/uploads/2026/01/ffffffffffffffffffff.png
END:VEVENT
BEGIN:VEVENT
DTSTART;TZID=America/Los_Angeles:20260219T180000
DTEND;TZID=America/Los_Angeles:20260219T203000
DTSTAMP:20260424T161552
CREATED:20260217T171225Z
LAST-MODIFIED:20260217T171428Z
UID:10002022-1771524000-1771533000@lavozdeklamath.com
SUMMARY:Fiesta de las Estrellas de Midwinter – Jueves 19/2
DESCRIPTION:Un evento astronómico planeado para el jueves 19 de febrero ofrecerá a los residentes locales la oportunidad de ver planetas\, nebulosas\, cúmulos de estrellas y otras maravillas del cielo nocturno.\n\nLa fiesta de las estrellas de mediados de invierno\, patrocinada por el Museo del Condado de Klamath\, se llevará a cabo en el estacionamiento de Foothills Christian Fellowship\, 6200 Church Hill Drive\, cerca del extremo norte de Patterson Street.\n\n\n\n\nEl evento comienza puntualmente a las 6 p.m.\, y es gratuito y abierto a cualquier persona interesada.\n\n\nEl planeta Mercurio\, el más cercano al Sol\, será visible\, junto con Venus\, Saturno\, Júpiter y Neptuno. Mercurio y Venus solo se verán brevemente después del atardecer.\nLa luz cenicienta\, que se refiere a la luz solar reflejada desde la Tierra hacia el lado oscuro de la Luna\, también será visible.\n\n\nOtros objetos siempre populares en el cielo nocturno invernal incluyen las Pléyades\, Orión y Sirio.\n\n\nLos telescopios serán proporcionados por astrónomos aficionados locales de la cuenca de Klamath.\nLos participantes deben vestirse para el aire frío de la noche y traer binoculares y sillas de jardín.\n\n\nCualquier persona que desee solicitar ayuda para configurar su telescopio personal puede venir a las 5:00 p. m. para recibir asistencia.\n\n\nPara obtener más información\, comuníquese con el museo al (541) 882-1000.
URL:https://lavozdeklamath.com/event/midwinter-star-party-thursday-2-19/
LOCATION:Foothills Christian Fellowship Parking Lot\, 6200 Church Hill Drive\, Klamath Falls\, OR\, 97603\, United States
CATEGORIES:Family Friendly Event,Klamath County Event,Klamath Falls Community Event,Klamath Falls Event
ATTACH;FMTTYPE=image/png:https://lavozdeklamath.com/wp-content/uploads/2026/02/m-w-s-p.png
END:VEVENT
BEGIN:VEVENT
DTSTART;TZID=America/Los_Angeles:20260221T120000
DTEND;TZID=America/Los_Angeles:20260221T160000
DTSTAMP:20260424T161552
CREATED:20260210T203546Z
LAST-MODIFIED:20260210T203546Z
UID:10002015-1771675200-1771689600@lavozdeklamath.com
SUMMARY:¡El DÍA DE DIVERSIÓN FAMILIAR en Malin\, Oregón\, es el 21 de febrero de 2026! ¡Es gratis!
DESCRIPTION:¡Día de Diversión Familiar en Malin\, Oregón! ¡21 de febrero de 2026! ¡Es gratis!\nTraiga a su familia y disfrute de un día gratis de actividades divertidas y comida gratis. Además\, reciba información y recursos gratuitos sobre opciones disponibles para usted y su familia en cuanto a atención médica\, empleos y capacitación. Esto es especialmente para nuestra comunidad hispana.\n\n-Comida gratis\n-Artículos para la rifa\n-Castillo inflable para los niños (si el clima lo permite)\nSábado 21 de febrero\, de 12 p. m. a 4 p. m.\nen el Gimnasio de la Escuela Primaria Malin\n2153 3rd Street Malin\, Oregón 97632\nLlame al 541-883-2947 para obtener información sobre el evento. ¡Esperamos verlos allí!
URL:https://lavozdeklamath.com/event/el-dia-de-diversion-familiar-en-malin-oregon-es-el-21-de-febrero-de-2026-es-gratis/
LOCATION:Malin Elementary School\, 2153 3rd Street\, Malin\, OR\, 97632\, United States
CATEGORIES:Family Friendly Event,Klamath County Event,Klamath Falls Community Event,Klamath Falls Event
ATTACH;FMTTYPE=image/png:https://lavozdeklamath.com/wp-content/uploads/2026/02/malin.png
END:VEVENT
BEGIN:VEVENT
DTSTART;TZID=America/Los_Angeles:20260221T130000
DTEND;TZID=America/Los_Angeles:20260221T150000
DTSTAMP:20260424T161552
CREATED:20260212T170944Z
LAST-MODIFIED:20260212T170944Z
UID:10002017-1771678800-1771686000@lavozdeklamath.com
SUMMARY:¡Celebre el Año Nuevo Chino con nosotros en la Biblioteca del Condado de Klamath el 21 de febrero!
DESCRIPTION:Acompáñenos en la Biblioteca del Condado de Klamath\, en el centro de la ciudad\, para celebrar el Año del Caballo de Fuego de este Año Nuevo Lunar.\nEl evento tendrá lugar el sábado 21 de febrero de 2026\, de 13:00 a 15:00 h.\n¡Esperamos verlos a usted y a su familia allí para disfrutar de juegos\, manualidades y cuentos!
URL:https://lavozdeklamath.com/event/celebre-el-ano-nuevo-chino-con-nosotros-en-la-biblioteca-del-condado-de-klamath-el-21-de-febrero/
LOCATION:Klamath County Library\, 126 S 3rd St\, Klamath Falls\, OR\, 97601\, United States
CATEGORIES:Family Friendly Event,Holiday Event,Klamath County Event,Klamath Falls Community Event,Klamath Falls Event
ATTACH;FMTTYPE=image/png:https://lavozdeklamath.com/wp-content/uploads/2026/02/nuevo-lunar.png
END:VEVENT
BEGIN:VEVENT
DTSTART;TZID=America/Los_Angeles:20260222T160000
DTEND;TZID=America/Los_Angeles:20260222T170000
DTSTAMP:20260424T161552
CREATED:20260121T020356Z
LAST-MODIFIED:20260121T020810Z
UID:10001519-1771776000-1771779600@lavozdeklamath.com
SUMMARY:Aprenda cómo dejar de fumar\, vapear o masticar tabaco en la sesión en línea de Zoom organizada por el Departamento de Salud del Condado de Klamath y la Asociación Estadounidense del Pulmón.
DESCRIPTION:Aprenda a dejar de fumar\, vapear o masticar cigarrillos electrónicos con la sesión en línea de Zoom de Klamath County Health y la Asociación Estadounidense del Pulmón.\n\n1 de febrero a las 16:00 – 17:00 horas\n\n\n\n\n¿Estás buscando dejar de fumar\, vapear o masticar?\nPuedes dejarlo. Podemos ayudarte.\nCuándo: A partir del 1 de febrero de 2026. Todos los domingos a las 16:00 horas.\n \nESCANEE EL CÓDIGO QR para registrarse o recibir más información. \n  \nAquí tienes ayuda para dejar de fumar\, vapear o masticar tabaco. Mira este evento especial en línea por Zoom con esta información:\n-Cómo saber si realmente estás listo para dejarlo\n-Medicamentos que pueden aumentar su éxito\n-Cambios en el estilo de vida para que dejar de fumar sea más fácil.\n-Cómo prepararse para el día en que dejará de fumar\n-Estrategias de afrontamiento para controlar el estrés y evitar el aumento de peso.\n-Cómo mantenerse libre de humo para siempre\n\nESCANEE EL CÓDIGO QR PARA MÁS INFORMACIÓN\nRecibirá el enlace de Zoom EN LÍNEA que se enviará cuando se registre para la clase.\nDurante el curso de 8 semanas dirigido por un facilitador certificado de la Asociación Americana del Pulmón\, aprenderá las últimas formas de dejar de fumar.\nPara obtener más información\, comuníquese con: Amy Slay aslay@klamathcountyor.gov o Kelsey Box Kelsey@oregonsci.org
URL:https://lavozdeklamath.com/event/image-default-learn-how-to-quit-smoking-vaping-or-chewing-from-klamath-county-health-and-the-american-lung-association-zoom-online-session/2026-02-22/
LOCATION:OR
CATEGORIES:Health and Wellness,Klamath County Event,Klamath Falls Community Event,Klamath Falls Event
ATTACH;FMTTYPE=image/png:https://lavozdeklamath.com/wp-content/uploads/2026/01/ffffffffffffffffffff.png
END:VEVENT
BEGIN:VEVENT
DTSTART;TZID=America/Los_Angeles:20260226T170000
DTEND;TZID=America/Los_Angeles:20260226T180000
DTSTAMP:20260424T161552
CREATED:20260212T165608Z
LAST-MODIFIED:20260212T170238Z
UID:10002016-1772125200-1772128800@lavozdeklamath.com
SUMMARY:Cuentos Comunitario para Niños con Marcus Shepherd\, entrenador de perros\, ¡jueves 26 de febrero!
DESCRIPTION:Usted y su familia están invitados a la Cuento Comunitario de febrero con nuestro invitado\, Marcus Shepherd\, entrenador de perros local.\n \n¡Aprendan un montón de cosas divertidas\, disfruten de los cuentos y conozcan a un invitado peludo especial! \n\nNos vemos el jueves 26 de febrero de 2026 a las 5 p. m. en la Biblioteca del Condado de Klamath\, en el centro de la ciudad\, 126 S. 3rd Street.\n\n¡Nos vemos allí!
URL:https://lavozdeklamath.com/event/cuentos-comunitario-para-ninos-con-marcus-shepherd-entrenador-de-perros-jueves-26-de-febrero/
LOCATION:Klamath County Library\, 126 S 3rd St\, Klamath Falls\, OR\, 97601\, United States
CATEGORIES:Family Friendly Event,Kids,Klamath County Event,Klamath Falls Community Event,Klamath Falls Event
ATTACH;FMTTYPE=image/png:https://lavozdeklamath.com/wp-content/uploads/2026/02/Community-Storytime-SPANISH-feb-1.png
END:VEVENT
BEGIN:VEVENT
DTSTART;TZID=America/Los_Angeles:20260226T173000
DTEND;TZID=America/Los_Angeles:20260226T183000
DTSTAMP:20260424T161552
CREATED:20260122T181901Z
LAST-MODIFIED:20260122T181901Z
UID:10001579-1772127000-1772130600@lavozdeklamath.com
SUMMARY:Community Story Time - The Fourth Thursday each Month 5:30 to 6:30 - Hosted by The Klamath County Library
DESCRIPTION:Community Story Time\n \nWhen: Fourth Thursday of every month @ 5:30pm-6:30pm\nWhere: Klamath County Library Downtown Branch\nAudience: Children ages 0–5 and their caregivers\nLength: Approximately 15-30 minutes
URL:https://lavozdeklamath.com/event/community-story-time-the-fourth-thursday-each-month-530-to-630-hosted-by-the-klamath-county-library/2026-02-26/
LOCATION:Klamath County Library\, 126 S 3rd St\, Klamath Falls\, OR\, 97601\, United States
CATEGORIES:Family Friendly Event,Kids,Klamath County Event,Klamath Falls Community Event,Klamath Falls Event
ATTACH;FMTTYPE=image/png:https://lavozdeklamath.com/wp-content/uploads/2026/01/klc-presents.png
END:VEVENT
BEGIN:VEVENT
DTSTART;TZID=America/Los_Angeles:20260228T170000
DTEND;TZID=America/Los_Angeles:20260228T220000
DTSTAMP:20260424T161552
CREATED:20260223T232715Z
LAST-MODIFIED:20260223T232715Z
UID:10002029-1772298000-1772316000@lavozdeklamath.com
SUMMARY:Recaudación de Fondos Educativos Mascarada Ragland
DESCRIPTION:Únete a nosotros para el Ragland Masquerade Education Fundraiser\, una elegante gala que beneficia la educación artística para estudiantes de K-12 en el Valle de Klamath y el sureste de Oregón. Disfruta de una noche inolvidable con deliciosa comida\, entretenimiento en vivo y emocionantes sorpresas\, todo mientras apoyas nuestros siete programas educativos que ofrecen más de 20\,000 oportunidades de educación artística cada año. \n \nPara comprar boletos: 2026 Ragland Masquerade Education Fundraiser $75.00 por persona
URL:https://lavozdeklamath.com/event/recaudacion-de-fondos-educativos-mascarada-ragland/
LOCATION:The Ross Ragland Theatre\, 218 N 7th Street\, Klamath Falls\, OR\, 97603\, United States
CATEGORIES:Klamath County Event,Klamath Falls Community Event
ATTACH;FMTTYPE=image/png:https://lavozdeklamath.com/wp-content/uploads/2026/02/rag.png
END:VEVENT
END:VCALENDAR