BEGIN:VCALENDAR
VERSION:2.0
PRODID:-//La Voz de Klamath - ECPv6.15.20//NONSGML v1.0//EN
CALSCALE:GREGORIAN
METHOD:PUBLISH
X-WR-CALNAME:La Voz de Klamath
X-ORIGINAL-URL:https://lavozdeklamath.com
X-WR-CALDESC:Events for La Voz de Klamath
REFRESH-INTERVAL;VALUE=DURATION:PT1H
X-Robots-Tag:noindex
X-PUBLISHED-TTL:PT1H
BEGIN:VTIMEZONE
TZID:America/Los_Angeles
BEGIN:DAYLIGHT
TZOFFSETFROM:-0800
TZOFFSETTO:-0700
TZNAME:PDT
DTSTART:20250309T100000
END:DAYLIGHT
BEGIN:STANDARD
TZOFFSETFROM:-0700
TZOFFSETTO:-0800
TZNAME:PST
DTSTART:20251102T090000
END:STANDARD
BEGIN:DAYLIGHT
TZOFFSETFROM:-0800
TZOFFSETTO:-0700
TZNAME:PDT
DTSTART:20260308T100000
END:DAYLIGHT
BEGIN:STANDARD
TZOFFSETFROM:-0700
TZOFFSETTO:-0800
TZNAME:PST
DTSTART:20261101T090000
END:STANDARD
BEGIN:DAYLIGHT
TZOFFSETFROM:-0800
TZOFFSETTO:-0700
TZNAME:PDT
DTSTART:20270314T100000
END:DAYLIGHT
BEGIN:STANDARD
TZOFFSETFROM:-0700
TZOFFSETTO:-0800
TZNAME:PST
DTSTART:20271107T090000
END:STANDARD
END:VTIMEZONE
BEGIN:VEVENT
DTSTART;TZID=America/Los_Angeles:20260129T183000
DTEND;TZID=America/Los_Angeles:20260129T203000
DTSTAMP:20260424T201848
CREATED:20260108T172043Z
LAST-MODIFIED:20260108T172525Z
UID:10001513-1769711400-1769718600@lavozdeklamath.com
SUMMARY:¿Listos para combatir la rivalidad entre hermanos? ¡Únete a nuestro taller en línea! ¡Etiqueta a un amigo que lo necesite!
DESCRIPTION:  \n\n\n\n\nCombatiendo la rivalidad entre hermanos\n\n\n\n\n\n\n\nÚnase a nosotros en línea para aprender sobre medidas prácticas que los cuidadores pueden implementar para combatir la constante rivalidad entre hermanos. Aprenderán a enriquecer y fortalecer las relaciones con sus hijos menores\, a la vez que encuentran la paz que buscan en su hogar. Conozcan algunas de las razones psicológicas por las que los hermanos pueden pelear entre sí y cómo guiar positivamente a los niños hacia acciones más constructivas. ¡Ayuden a fortalecer las relaciones entre hermanos!\n\n\n\n\n\n\n\n\n\n\n\n\n\n\n\n\n\n\n\n\n\n\n\n\n\n\n\n\n\n\n\n\n\n\n\n\n\n\nUbicación virtual \nRecibirá un correo electrónico de confirmación con una URL.    https://lp.constantcontactpages.com/ev/reg/rbkzhyj/lp/4a57a658-7a0a-47d0-9255-e83ff5a9d854\n\n\n\n\n\n\n\n\n\n\n\n\n\n\n\n\n\n\n\n\n\n\n\n29 de enero de 2026\, 18:30 – 29 de enero de 2026\, 20:30\n\n\n\n\n\n\n\n\n\n\n\n\n\n\n\n\n\n\n\n\n\n\n\n\n\n \n  \nhttps://www.facebook.com/photo/?fbid=1287313196762735&set=pcb.1287313256762729\nKlamath County Take Root Parenting Connection
URL:https://lavozdeklamath.com/event/ready-to-tackle-sibling-rivalry-join-our-online-workshop-tag-a-friend-who-needs-this/
LOCATION:OR
CATEGORIES:Family Friendly Event,Klamath County Event,Klamath Falls Community Event,Klamath Falls Event,Virtual
ATTACH;FMTTYPE=image/png:https://lavozdeklamath.com/wp-content/uploads/2026/01/k-fallls-event-1-29.png
END:VEVENT
END:VCALENDAR