BEGIN:VCALENDAR
VERSION:2.0
PRODID:-//La Voz de Klamath - ECPv6.15.20//NONSGML v1.0//EN
CALSCALE:GREGORIAN
METHOD:PUBLISH
X-ORIGINAL-URL:https://lavozdeklamath.com
X-WR-CALDESC:Events for La Voz de Klamath
REFRESH-INTERVAL;VALUE=DURATION:PT1H
X-Robots-Tag:noindex
X-PUBLISHED-TTL:PT1H
BEGIN:VTIMEZONE
TZID:America/Los_Angeles
BEGIN:DAYLIGHT
TZOFFSETFROM:-0800
TZOFFSETTO:-0700
TZNAME:PDT
DTSTART:20250309T100000
END:DAYLIGHT
BEGIN:STANDARD
TZOFFSETFROM:-0700
TZOFFSETTO:-0800
TZNAME:PST
DTSTART:20251102T090000
END:STANDARD
BEGIN:DAYLIGHT
TZOFFSETFROM:-0800
TZOFFSETTO:-0700
TZNAME:PDT
DTSTART:20260308T100000
END:DAYLIGHT
BEGIN:STANDARD
TZOFFSETFROM:-0700
TZOFFSETTO:-0800
TZNAME:PST
DTSTART:20261101T090000
END:STANDARD
BEGIN:DAYLIGHT
TZOFFSETFROM:-0800
TZOFFSETTO:-0700
TZNAME:PDT
DTSTART:20270314T100000
END:DAYLIGHT
BEGIN:STANDARD
TZOFFSETFROM:-0700
TZOFFSETTO:-0800
TZNAME:PST
DTSTART:20271107T090000
END:STANDARD
END:VTIMEZONE
BEGIN:VEVENT
DTSTART;TZID=America/Los_Angeles:20260228T170000
DTEND;TZID=America/Los_Angeles:20260228T220000
DTSTAMP:20260424T182004
CREATED:20260223T232715Z
LAST-MODIFIED:20260223T232715Z
UID:10002029-1772298000-1772316000@lavozdeklamath.com
SUMMARY:Recaudación de Fondos Educativos Mascarada Ragland
DESCRIPTION:Únete a nosotros para el Ragland Masquerade Education Fundraiser\, una elegante gala que beneficia la educación artística para estudiantes de K-12 en el Valle de Klamath y el sureste de Oregón. Disfruta de una noche inolvidable con deliciosa comida\, entretenimiento en vivo y emocionantes sorpresas\, todo mientras apoyas nuestros siete programas educativos que ofrecen más de 20\,000 oportunidades de educación artística cada año. \n \nPara comprar boletos: 2026 Ragland Masquerade Education Fundraiser $75.00 por persona
URL:https://lavozdeklamath.com/event/recaudacion-de-fondos-educativos-mascarada-ragland/
LOCATION:The Ross Ragland Theatre\, 218 N 7th Street\, Klamath Falls\, OR\, 97603\, United States
CATEGORIES:Klamath County Event,Klamath Falls Community Event
ATTACH;FMTTYPE=image/png:https://lavozdeklamath.com/wp-content/uploads/2026/02/rag.png
END:VEVENT
END:VCALENDAR