BEGIN:VCALENDAR
VERSION:2.0
PRODID:-//La Voz de Klamath - ECPv6.15.20//NONSGML v1.0//EN
CALSCALE:GREGORIAN
METHOD:PUBLISH
X-ORIGINAL-URL:https://lavozdeklamath.com
X-WR-CALDESC:Events for La Voz de Klamath
REFRESH-INTERVAL;VALUE=DURATION:PT1H
X-Robots-Tag:noindex
X-PUBLISHED-TTL:PT1H
BEGIN:VTIMEZONE
TZID:America/Los_Angeles
BEGIN:DAYLIGHT
TZOFFSETFROM:-0800
TZOFFSETTO:-0700
TZNAME:PDT
DTSTART:20250309T100000
END:DAYLIGHT
BEGIN:STANDARD
TZOFFSETFROM:-0700
TZOFFSETTO:-0800
TZNAME:PST
DTSTART:20251102T090000
END:STANDARD
BEGIN:DAYLIGHT
TZOFFSETFROM:-0800
TZOFFSETTO:-0700
TZNAME:PDT
DTSTART:20260308T100000
END:DAYLIGHT
BEGIN:STANDARD
TZOFFSETFROM:-0700
TZOFFSETTO:-0800
TZNAME:PST
DTSTART:20261101T090000
END:STANDARD
BEGIN:DAYLIGHT
TZOFFSETFROM:-0800
TZOFFSETTO:-0700
TZNAME:PDT
DTSTART:20270314T100000
END:DAYLIGHT
BEGIN:STANDARD
TZOFFSETFROM:-0700
TZOFFSETTO:-0800
TZNAME:PST
DTSTART:20271107T090000
END:STANDARD
END:VTIMEZONE
BEGIN:VEVENT
DTSTART;TZID=America/Los_Angeles:20260508T163000
DTEND;TZID=America/Los_Angeles:20260508T180000
DTSTAMP:20260424T161947
CREATED:20260423T172100Z
LAST-MODIFIED:20260423T172204Z
UID:10002104-1778257800-1778263200@lavozdeklamath.com
SUMMARY:Taller de preparación para el jardín de infancia – 8 de mayo
DESCRIPTION:¿Le gustaría recibir algunos consejos útiles para ayudar a su hijo a prepararse para el jardín de infancia?\nSi es así\, ¡este taller es para ti! Gloria Rodríguez te explicará cómo preparar mejor a tu pequeño para el jardín de infancia.\nRegístrese aquí: https://tinyurl.com/m2efx8kk o llame al 541-670-6123\n 
URL:https://lavozdeklamath.com/event/getting-ready-for-kindergarten-workshop-may-8/
LOCATION:Klamath Community College Building 2\, 7390 S 6th Street\, Klamath Falls\, OR\, 97603\, United States
CATEGORIES:Klamath County Event,Klamath Falls Community Event,Klamath Falls Event
ATTACH;FMTTYPE=image/png:https://lavozdeklamath.com/wp-content/uploads/2026/04/kdn-g.png
END:VEVENT
END:VCALENDAR