BEGIN:VCALENDAR
VERSION:2.0
PRODID:-//La Voz de Klamath - ECPv6.15.20//NONSGML v1.0//EN
CALSCALE:GREGORIAN
METHOD:PUBLISH
X-WR-CALNAME:La Voz de Klamath
X-ORIGINAL-URL:https://lavozdeklamath.com
X-WR-CALDESC:Events for La Voz de Klamath
REFRESH-INTERVAL;VALUE=DURATION:PT1H
X-Robots-Tag:noindex
X-PUBLISHED-TTL:PT1H
BEGIN:VTIMEZONE
TZID:America/Los_Angeles
BEGIN:DAYLIGHT
TZOFFSETFROM:-0800
TZOFFSETTO:-0700
TZNAME:PDT
DTSTART:20250309T100000
END:DAYLIGHT
BEGIN:STANDARD
TZOFFSETFROM:-0700
TZOFFSETTO:-0800
TZNAME:PST
DTSTART:20251102T090000
END:STANDARD
BEGIN:DAYLIGHT
TZOFFSETFROM:-0800
TZOFFSETTO:-0700
TZNAME:PDT
DTSTART:20260308T100000
END:DAYLIGHT
BEGIN:STANDARD
TZOFFSETFROM:-0700
TZOFFSETTO:-0800
TZNAME:PST
DTSTART:20261101T090000
END:STANDARD
BEGIN:DAYLIGHT
TZOFFSETFROM:-0800
TZOFFSETTO:-0700
TZNAME:PDT
DTSTART:20270314T100000
END:DAYLIGHT
BEGIN:STANDARD
TZOFFSETFROM:-0700
TZOFFSETTO:-0800
TZNAME:PST
DTSTART:20271107T090000
END:STANDARD
END:VTIMEZONE
BEGIN:VEVENT
DTSTART;TZID=America/Los_Angeles:20260428T183000
DTEND;TZID=America/Los_Angeles:20260428T200000
DTSTAMP:20260424T083201
CREATED:20260317T165142Z
LAST-MODIFIED:20260317T165938Z
UID:10002080-1777401000-1777406400@lavozdeklamath.com
SUMMARY:Online Active Parenting of Pre-Teens and Teenagers 6 Week Series on Tuesday Nights
DESCRIPTION:Klamath County Take Root Parenting Connection\nOnline Active Parenting of Pre-Teens and Teenagers 6 Week Series\n\n\n\nOnline on Tuesday nights —  Starting April 14 through May 18\, 2026\n\n\n\n\n\n\n\n\n\n\n\n\n\nActive Parenting Of Pre-Teens & Teenagers\nFacilitated by T Church\nWith Take Root!\n\nJoin us\, and we will explore:\nMethods of respectful discipline\nSkills for clear\, honest communication\nConcrete strategies to prevent risky behaviors\nHow to be an encouraging parent\n\n\n…and much more.\n\n\n\nRegister for free: https://tinyurl.com/TRteens26
URL:https://lavozdeklamath.com/event/online-active-parenting-of-pre-teens-and-teenagers-6-week-series-on-tuesday-nights/2026-04-28/
LOCATION:Online Workshop
CATEGORIES:Klamath County Event,Klamath Falls Community Event,Klamath Falls Event,Virtual
ATTACH;FMTTYPE=image/png:https://lavozdeklamath.com/wp-content/uploads/2026/03/kf-paretning-class.png
END:VEVENT
BEGIN:VEVENT
DTSTART;TZID=America/Los_Angeles:20260505T183000
DTEND;TZID=America/Los_Angeles:20260505T200000
DTSTAMP:20260424T083201
CREATED:20260317T165142Z
LAST-MODIFIED:20260317T165938Z
UID:10002082-1778005800-1778011200@lavozdeklamath.com
SUMMARY:Online Active Parenting of Pre-Teens and Teenagers 6 Week Series on Tuesday Nights
DESCRIPTION:Klamath County Take Root Parenting Connection\nOnline Active Parenting of Pre-Teens and Teenagers 6 Week Series\n\n\n\nOnline on Tuesday nights —  Starting April 14 through May 18\, 2026\n\n\n\n\n\n\n\n\n\n\n\n\n\nActive Parenting Of Pre-Teens & Teenagers\nFacilitated by T Church\nWith Take Root!\n\nJoin us\, and we will explore:\nMethods of respectful discipline\nSkills for clear\, honest communication\nConcrete strategies to prevent risky behaviors\nHow to be an encouraging parent\n\n\n…and much more.\n\n\n\nRegister for free: https://tinyurl.com/TRteens26
URL:https://lavozdeklamath.com/event/online-active-parenting-of-pre-teens-and-teenagers-6-week-series-on-tuesday-nights/2026-05-05/
LOCATION:Online Workshop
CATEGORIES:Klamath County Event,Klamath Falls Community Event,Klamath Falls Event,Virtual
ATTACH;FMTTYPE=image/png:https://lavozdeklamath.com/wp-content/uploads/2026/03/kf-paretning-class.png
END:VEVENT
BEGIN:VEVENT
DTSTART;TZID=America/Los_Angeles:20260512T183000
DTEND;TZID=America/Los_Angeles:20260512T200000
DTSTAMP:20260424T083201
CREATED:20260317T165142Z
LAST-MODIFIED:20260317T165938Z
UID:10002084-1778610600-1778616000@lavozdeklamath.com
SUMMARY:Online Active Parenting of Pre-Teens and Teenagers 6 Week Series on Tuesday Nights
DESCRIPTION:Klamath County Take Root Parenting Connection\nOnline Active Parenting of Pre-Teens and Teenagers 6 Week Series\n\n\n\nOnline on Tuesday nights —  Starting April 14 through May 18\, 2026\n\n\n\n\n\n\n\n\n\n\n\n\n\nActive Parenting Of Pre-Teens & Teenagers\nFacilitated by T Church\nWith Take Root!\n\nJoin us\, and we will explore:\nMethods of respectful discipline\nSkills for clear\, honest communication\nConcrete strategies to prevent risky behaviors\nHow to be an encouraging parent\n\n\n…and much more.\n\n\n\nRegister for free: https://tinyurl.com/TRteens26
URL:https://lavozdeklamath.com/event/online-active-parenting-of-pre-teens-and-teenagers-6-week-series-on-tuesday-nights/2026-05-12/
LOCATION:Online Workshop
CATEGORIES:Klamath County Event,Klamath Falls Community Event,Klamath Falls Event,Virtual
ATTACH;FMTTYPE=image/png:https://lavozdeklamath.com/wp-content/uploads/2026/03/kf-paretning-class.png
END:VEVENT
BEGIN:VEVENT
DTSTART;TZID=America/Los_Angeles:20260519T183000
DTEND;TZID=America/Los_Angeles:20260519T200000
DTSTAMP:20260424T083201
CREATED:20260317T165142Z
LAST-MODIFIED:20260317T165938Z
UID:10002086-1779215400-1779220800@lavozdeklamath.com
SUMMARY:Online Active Parenting of Pre-Teens and Teenagers 6 Week Series on Tuesday Nights
DESCRIPTION:Klamath County Take Root Parenting Connection\nOnline Active Parenting of Pre-Teens and Teenagers 6 Week Series\n\n\n\nOnline on Tuesday nights —  Starting April 14 through May 18\, 2026\n\n\n\n\n\n\n\n\n\n\n\n\n\nActive Parenting Of Pre-Teens & Teenagers\nFacilitated by T Church\nWith Take Root!\n\nJoin us\, and we will explore:\nMethods of respectful discipline\nSkills for clear\, honest communication\nConcrete strategies to prevent risky behaviors\nHow to be an encouraging parent\n\n\n…and much more.\n\n\n\nRegister for free: https://tinyurl.com/TRteens26
URL:https://lavozdeklamath.com/event/online-active-parenting-of-pre-teens-and-teenagers-6-week-series-on-tuesday-nights/2026-05-19/
LOCATION:Online Workshop
CATEGORIES:Klamath County Event,Klamath Falls Community Event,Klamath Falls Event,Virtual
ATTACH;FMTTYPE=image/png:https://lavozdeklamath.com/wp-content/uploads/2026/03/kf-paretning-class.png
END:VEVENT
END:VCALENDAR