BEGIN:VCALENDAR
VERSION:2.0
PRODID:-//La Voz de Klamath - ECPv6.15.20//NONSGML v1.0//EN
CALSCALE:GREGORIAN
METHOD:PUBLISH
X-WR-CALNAME:La Voz de Klamath
X-ORIGINAL-URL:https://lavozdeklamath.com
X-WR-CALDESC:Events for La Voz de Klamath
REFRESH-INTERVAL;VALUE=DURATION:PT1H
X-Robots-Tag:noindex
X-PUBLISHED-TTL:PT1H
BEGIN:VTIMEZONE
TZID:America/Los_Angeles
BEGIN:DAYLIGHT
TZOFFSETFROM:-0800
TZOFFSETTO:-0700
TZNAME:PDT
DTSTART:20250309T100000
END:DAYLIGHT
BEGIN:STANDARD
TZOFFSETFROM:-0700
TZOFFSETTO:-0800
TZNAME:PST
DTSTART:20251102T090000
END:STANDARD
BEGIN:DAYLIGHT
TZOFFSETFROM:-0800
TZOFFSETTO:-0700
TZNAME:PDT
DTSTART:20260308T100000
END:DAYLIGHT
BEGIN:STANDARD
TZOFFSETFROM:-0700
TZOFFSETTO:-0800
TZNAME:PST
DTSTART:20261101T090000
END:STANDARD
BEGIN:DAYLIGHT
TZOFFSETFROM:-0800
TZOFFSETTO:-0700
TZNAME:PDT
DTSTART:20270314T100000
END:DAYLIGHT
BEGIN:STANDARD
TZOFFSETFROM:-0700
TZOFFSETTO:-0800
TZNAME:PST
DTSTART:20271107T090000
END:STANDARD
END:VTIMEZONE
BEGIN:VEVENT
DTSTART;TZID=America/Los_Angeles:20260428T183000
DTEND;TZID=America/Los_Angeles:20260428T200000
DTSTAMP:20260424T105613
CREATED:20260317T165142Z
LAST-MODIFIED:20260317T165938Z
UID:10002080-1777401000-1777406400@lavozdeklamath.com
SUMMARY:Online Active Parenting of Pre-Teens and Teenagers 6 Week Series on Tuesday Nights
DESCRIPTION:Klamath County Take Root Parenting Connection\nOnline Active Parenting of Pre-Teens and Teenagers 6 Week Series\n\n\n\nOnline on Tuesday nights —  Starting April 14 through May 18\, 2026\n\n\n\n\n\n\n\n\n\n\n\n\n\nActive Parenting Of Pre-Teens & Teenagers\nFacilitated by T Church\nWith Take Root!\n\nJoin us\, and we will explore:\nMethods of respectful discipline\nSkills for clear\, honest communication\nConcrete strategies to prevent risky behaviors\nHow to be an encouraging parent\n\n\n…and much more.\n\n\n\nRegister for free: https://tinyurl.com/TRteens26
URL:https://lavozdeklamath.com/event/online-active-parenting-of-pre-teens-and-teenagers-6-week-series-on-tuesday-nights/2026-04-28/
LOCATION:Online Workshop
CATEGORIES:Klamath County Event,Klamath Falls Community Event,Klamath Falls Event,Virtual
ATTACH;FMTTYPE=image/png:https://lavozdeklamath.com/wp-content/uploads/2026/03/kf-paretning-class.png
END:VEVENT
BEGIN:VEVENT
DTSTART;TZID=America/Los_Angeles:20260505T183000
DTEND;TZID=America/Los_Angeles:20260505T200000
DTSTAMP:20260424T105613
CREATED:20260317T165142Z
LAST-MODIFIED:20260317T165938Z
UID:10002082-1778005800-1778011200@lavozdeklamath.com
SUMMARY:Online Active Parenting of Pre-Teens and Teenagers 6 Week Series on Tuesday Nights
DESCRIPTION:Klamath County Take Root Parenting Connection\nOnline Active Parenting of Pre-Teens and Teenagers 6 Week Series\n\n\n\nOnline on Tuesday nights —  Starting April 14 through May 18\, 2026\n\n\n\n\n\n\n\n\n\n\n\n\n\nActive Parenting Of Pre-Teens & Teenagers\nFacilitated by T Church\nWith Take Root!\n\nJoin us\, and we will explore:\nMethods of respectful discipline\nSkills for clear\, honest communication\nConcrete strategies to prevent risky behaviors\nHow to be an encouraging parent\n\n\n…and much more.\n\n\n\nRegister for free: https://tinyurl.com/TRteens26
URL:https://lavozdeklamath.com/event/online-active-parenting-of-pre-teens-and-teenagers-6-week-series-on-tuesday-nights/2026-05-05/
LOCATION:Online Workshop
CATEGORIES:Klamath County Event,Klamath Falls Community Event,Klamath Falls Event,Virtual
ATTACH;FMTTYPE=image/png:https://lavozdeklamath.com/wp-content/uploads/2026/03/kf-paretning-class.png
END:VEVENT
BEGIN:VEVENT
DTSTART;TZID=America/Los_Angeles:20260508T163000
DTEND;TZID=America/Los_Angeles:20260508T180000
DTSTAMP:20260424T105613
CREATED:20260423T172100Z
LAST-MODIFIED:20260423T172204Z
UID:10002104-1778257800-1778263200@lavozdeklamath.com
SUMMARY:Taller de preparación para el jardín de infancia – 8 de mayo
DESCRIPTION:¿Le gustaría recibir algunos consejos útiles para ayudar a su hijo a prepararse para el jardín de infancia?\nSi es así\, ¡este taller es para ti! Gloria Rodríguez te explicará cómo preparar mejor a tu pequeño para el jardín de infancia.\nRegístrese aquí: https://tinyurl.com/m2efx8kk o llame al 541-670-6123\n 
URL:https://lavozdeklamath.com/event/getting-ready-for-kindergarten-workshop-may-8/
LOCATION:Klamath Community College Building 2\, 7390 S 6th Street\, Klamath Falls\, OR\, 97603\, United States
CATEGORIES:Klamath County Event,Klamath Falls Community Event,Klamath Falls Event
ATTACH;FMTTYPE=image/png:https://lavozdeklamath.com/wp-content/uploads/2026/04/kdn-g.png
END:VEVENT
BEGIN:VEVENT
DTSTART;TZID=America/Los_Angeles:20260512T183000
DTEND;TZID=America/Los_Angeles:20260512T200000
DTSTAMP:20260424T105613
CREATED:20260317T165142Z
LAST-MODIFIED:20260317T165938Z
UID:10002084-1778610600-1778616000@lavozdeklamath.com
SUMMARY:Online Active Parenting of Pre-Teens and Teenagers 6 Week Series on Tuesday Nights
DESCRIPTION:Klamath County Take Root Parenting Connection\nOnline Active Parenting of Pre-Teens and Teenagers 6 Week Series\n\n\n\nOnline on Tuesday nights —  Starting April 14 through May 18\, 2026\n\n\n\n\n\n\n\n\n\n\n\n\n\nActive Parenting Of Pre-Teens & Teenagers\nFacilitated by T Church\nWith Take Root!\n\nJoin us\, and we will explore:\nMethods of respectful discipline\nSkills for clear\, honest communication\nConcrete strategies to prevent risky behaviors\nHow to be an encouraging parent\n\n\n…and much more.\n\n\n\nRegister for free: https://tinyurl.com/TRteens26
URL:https://lavozdeklamath.com/event/online-active-parenting-of-pre-teens-and-teenagers-6-week-series-on-tuesday-nights/2026-05-12/
LOCATION:Online Workshop
CATEGORIES:Klamath County Event,Klamath Falls Community Event,Klamath Falls Event,Virtual
ATTACH;FMTTYPE=image/png:https://lavozdeklamath.com/wp-content/uploads/2026/03/kf-paretning-class.png
END:VEVENT
BEGIN:VEVENT
DTSTART;TZID=America/Los_Angeles:20260519T183000
DTEND;TZID=America/Los_Angeles:20260519T200000
DTSTAMP:20260424T105613
CREATED:20260317T165142Z
LAST-MODIFIED:20260317T165938Z
UID:10002086-1779215400-1779220800@lavozdeklamath.com
SUMMARY:Online Active Parenting of Pre-Teens and Teenagers 6 Week Series on Tuesday Nights
DESCRIPTION:Klamath County Take Root Parenting Connection\nOnline Active Parenting of Pre-Teens and Teenagers 6 Week Series\n\n\n\nOnline on Tuesday nights —  Starting April 14 through May 18\, 2026\n\n\n\n\n\n\n\n\n\n\n\n\n\nActive Parenting Of Pre-Teens & Teenagers\nFacilitated by T Church\nWith Take Root!\n\nJoin us\, and we will explore:\nMethods of respectful discipline\nSkills for clear\, honest communication\nConcrete strategies to prevent risky behaviors\nHow to be an encouraging parent\n\n\n…and much more.\n\n\n\nRegister for free: https://tinyurl.com/TRteens26
URL:https://lavozdeklamath.com/event/online-active-parenting-of-pre-teens-and-teenagers-6-week-series-on-tuesday-nights/2026-05-19/
LOCATION:Online Workshop
CATEGORIES:Klamath County Event,Klamath Falls Community Event,Klamath Falls Event,Virtual
ATTACH;FMTTYPE=image/png:https://lavozdeklamath.com/wp-content/uploads/2026/03/kf-paretning-class.png
END:VEVENT
BEGIN:VEVENT
DTSTART;TZID=America/Los_Angeles:20260520T180000
DTEND;TZID=America/Los_Angeles:20260520T193000
DTSTAMP:20260424T105613
CREATED:20260414T194015Z
LAST-MODIFIED:20260414T194544Z
UID:10002092-1779300000-1779305400@lavozdeklamath.com
SUMMARY:Abreindo Puertas en Español – Evento Virtual
DESCRIPTION:Conexión para padres Take Root del condado de Klamath\n\n\n\n\n\n\n\n\n\n\nEsta es una serie virtual de 10 semanas que busca entrenar para…\n\n\n\n\n\n\n\n\npadres de niños de 0 a 5 años para convertirse en líderes\n\n\n\n\n\n\n\n\nAseguradoras y defensores de los derechos de sus hijos. Presentado por Kay Ortega.\n\n\n\n\n\nUbicación:  Evento virtual \nFecha y hora:  Miércoles\, 20 de mayo de 2026\, 18:00 h – Miércoles\, 22 de julio de 2026\, 19:30 h \nOrganizador:  Take Root Parenting Connection\, (541) 670-6123\, lbarajas@desd.k12.or.us \n\n\n\n\n\n>>>>>>      Regístrate aquí : https://tinyurl.com/ys8bpjt3
URL:https://lavozdeklamath.com/event/abreindo-puertas-en-espanol-virtual-event/2026-05-20/
LOCATION:VIRTUAL
CATEGORIES:Health and Wellness,Klamath County Event,Klamath Falls Community Event,Klamath Falls Event
ATTACH;FMTTYPE=image/png:https://lavozdeklamath.com/wp-content/uploads/2026/04/abriendo-Puertas-may-thru-jul-2026.png
END:VEVENT
BEGIN:VEVENT
DTSTART;TZID=America/Los_Angeles:20260527T180000
DTEND;TZID=America/Los_Angeles:20260527T193000
DTSTAMP:20260424T105613
CREATED:20260414T194015Z
LAST-MODIFIED:20260414T194544Z
UID:10002093-1779904800-1779910200@lavozdeklamath.com
SUMMARY:Abreindo Puertas en Español – Evento Virtual
DESCRIPTION:Conexión para padres Take Root del condado de Klamath\n\n\n\n\n\n\n\n\n\n\nEsta es una serie virtual de 10 semanas que busca entrenar para…\n\n\n\n\n\n\n\n\npadres de niños de 0 a 5 años para convertirse en líderes\n\n\n\n\n\n\n\n\nAseguradoras y defensores de los derechos de sus hijos. Presentado por Kay Ortega.\n\n\n\n\n\nUbicación:  Evento virtual \nFecha y hora:  Miércoles\, 20 de mayo de 2026\, 18:00 h – Miércoles\, 22 de julio de 2026\, 19:30 h \nOrganizador:  Take Root Parenting Connection\, (541) 670-6123\, lbarajas@desd.k12.or.us \n\n\n\n\n\n>>>>>>      Regístrate aquí : https://tinyurl.com/ys8bpjt3
URL:https://lavozdeklamath.com/event/abreindo-puertas-en-espanol-virtual-event/2026-05-27/
LOCATION:VIRTUAL
CATEGORIES:Health and Wellness,Klamath County Event,Klamath Falls Community Event,Klamath Falls Event
ATTACH;FMTTYPE=image/png:https://lavozdeklamath.com/wp-content/uploads/2026/04/abriendo-Puertas-may-thru-jul-2026.png
END:VEVENT
BEGIN:VEVENT
DTSTART;TZID=America/Los_Angeles:20260603T180000
DTEND;TZID=America/Los_Angeles:20260603T193000
DTSTAMP:20260424T105614
CREATED:20260414T194015Z
LAST-MODIFIED:20260414T194544Z
UID:10002094-1780509600-1780515000@lavozdeklamath.com
SUMMARY:Abreindo Puertas en Español – Evento Virtual
DESCRIPTION:Conexión para padres Take Root del condado de Klamath\n\n\n\n\n\n\n\n\n\n\nEsta es una serie virtual de 10 semanas que busca entrenar para…\n\n\n\n\n\n\n\n\npadres de niños de 0 a 5 años para convertirse en líderes\n\n\n\n\n\n\n\n\nAseguradoras y defensores de los derechos de sus hijos. Presentado por Kay Ortega.\n\n\n\n\n\nUbicación:  Evento virtual \nFecha y hora:  Miércoles\, 20 de mayo de 2026\, 18:00 h – Miércoles\, 22 de julio de 2026\, 19:30 h \nOrganizador:  Take Root Parenting Connection\, (541) 670-6123\, lbarajas@desd.k12.or.us \n\n\n\n\n\n>>>>>>      Regístrate aquí : https://tinyurl.com/ys8bpjt3
URL:https://lavozdeklamath.com/event/abreindo-puertas-en-espanol-virtual-event/2026-06-03/
LOCATION:VIRTUAL
CATEGORIES:Health and Wellness,Klamath County Event,Klamath Falls Community Event,Klamath Falls Event
ATTACH;FMTTYPE=image/png:https://lavozdeklamath.com/wp-content/uploads/2026/04/abriendo-Puertas-may-thru-jul-2026.png
END:VEVENT
BEGIN:VEVENT
DTSTART;TZID=America/Los_Angeles:20260610T180000
DTEND;TZID=America/Los_Angeles:20260610T193000
DTSTAMP:20260424T105614
CREATED:20260414T194015Z
LAST-MODIFIED:20260414T194544Z
UID:10002095-1781114400-1781119800@lavozdeklamath.com
SUMMARY:Abreindo Puertas en Español – Evento Virtual
DESCRIPTION:Conexión para padres Take Root del condado de Klamath\n\n\n\n\n\n\n\n\n\n\nEsta es una serie virtual de 10 semanas que busca entrenar para…\n\n\n\n\n\n\n\n\npadres de niños de 0 a 5 años para convertirse en líderes\n\n\n\n\n\n\n\n\nAseguradoras y defensores de los derechos de sus hijos. Presentado por Kay Ortega.\n\n\n\n\n\nUbicación:  Evento virtual \nFecha y hora:  Miércoles\, 20 de mayo de 2026\, 18:00 h – Miércoles\, 22 de julio de 2026\, 19:30 h \nOrganizador:  Take Root Parenting Connection\, (541) 670-6123\, lbarajas@desd.k12.or.us \n\n\n\n\n\n>>>>>>      Regístrate aquí : https://tinyurl.com/ys8bpjt3
URL:https://lavozdeklamath.com/event/abreindo-puertas-en-espanol-virtual-event/2026-06-10/
LOCATION:VIRTUAL
CATEGORIES:Health and Wellness,Klamath County Event,Klamath Falls Community Event,Klamath Falls Event
ATTACH;FMTTYPE=image/png:https://lavozdeklamath.com/wp-content/uploads/2026/04/abriendo-Puertas-may-thru-jul-2026.png
END:VEVENT
BEGIN:VEVENT
DTSTART;TZID=America/Los_Angeles:20260617T180000
DTEND;TZID=America/Los_Angeles:20260617T193000
DTSTAMP:20260424T105614
CREATED:20260414T194015Z
LAST-MODIFIED:20260414T194544Z
UID:10002096-1781719200-1781724600@lavozdeklamath.com
SUMMARY:Abreindo Puertas en Español – Evento Virtual
DESCRIPTION:Conexión para padres Take Root del condado de Klamath\n\n\n\n\n\n\n\n\n\n\nEsta es una serie virtual de 10 semanas que busca entrenar para…\n\n\n\n\n\n\n\n\npadres de niños de 0 a 5 años para convertirse en líderes\n\n\n\n\n\n\n\n\nAseguradoras y defensores de los derechos de sus hijos. Presentado por Kay Ortega.\n\n\n\n\n\nUbicación:  Evento virtual \nFecha y hora:  Miércoles\, 20 de mayo de 2026\, 18:00 h – Miércoles\, 22 de julio de 2026\, 19:30 h \nOrganizador:  Take Root Parenting Connection\, (541) 670-6123\, lbarajas@desd.k12.or.us \n\n\n\n\n\n>>>>>>      Regístrate aquí : https://tinyurl.com/ys8bpjt3
URL:https://lavozdeklamath.com/event/abreindo-puertas-en-espanol-virtual-event/2026-06-17/
LOCATION:VIRTUAL
CATEGORIES:Health and Wellness,Klamath County Event,Klamath Falls Community Event,Klamath Falls Event
ATTACH;FMTTYPE=image/png:https://lavozdeklamath.com/wp-content/uploads/2026/04/abriendo-Puertas-may-thru-jul-2026.png
END:VEVENT
BEGIN:VEVENT
DTSTART;TZID=America/Los_Angeles:20260624T180000
DTEND;TZID=America/Los_Angeles:20260624T193000
DTSTAMP:20260424T105614
CREATED:20260414T194015Z
LAST-MODIFIED:20260414T194544Z
UID:10002097-1782324000-1782329400@lavozdeklamath.com
SUMMARY:Abreindo Puertas en Español – Evento Virtual
DESCRIPTION:Conexión para padres Take Root del condado de Klamath\n\n\n\n\n\n\n\n\n\n\nEsta es una serie virtual de 10 semanas que busca entrenar para…\n\n\n\n\n\n\n\n\npadres de niños de 0 a 5 años para convertirse en líderes\n\n\n\n\n\n\n\n\nAseguradoras y defensores de los derechos de sus hijos. Presentado por Kay Ortega.\n\n\n\n\n\nUbicación:  Evento virtual \nFecha y hora:  Miércoles\, 20 de mayo de 2026\, 18:00 h – Miércoles\, 22 de julio de 2026\, 19:30 h \nOrganizador:  Take Root Parenting Connection\, (541) 670-6123\, lbarajas@desd.k12.or.us \n\n\n\n\n\n>>>>>>      Regístrate aquí : https://tinyurl.com/ys8bpjt3
URL:https://lavozdeklamath.com/event/abreindo-puertas-en-espanol-virtual-event/2026-06-24/
LOCATION:VIRTUAL
CATEGORIES:Health and Wellness,Klamath County Event,Klamath Falls Community Event,Klamath Falls Event
ATTACH;FMTTYPE=image/png:https://lavozdeklamath.com/wp-content/uploads/2026/04/abriendo-Puertas-may-thru-jul-2026.png
END:VEVENT
BEGIN:VEVENT
DTSTART;TZID=America/Los_Angeles:20260701T180000
DTEND;TZID=America/Los_Angeles:20260701T193000
DTSTAMP:20260424T105614
CREATED:20260414T194015Z
LAST-MODIFIED:20260414T194544Z
UID:10002098-1782928800-1782934200@lavozdeklamath.com
SUMMARY:Abreindo Puertas en Español – Evento Virtual
DESCRIPTION:Conexión para padres Take Root del condado de Klamath\n\n\n\n\n\n\n\n\n\n\nEsta es una serie virtual de 10 semanas que busca entrenar para…\n\n\n\n\n\n\n\n\npadres de niños de 0 a 5 años para convertirse en líderes\n\n\n\n\n\n\n\n\nAseguradoras y defensores de los derechos de sus hijos. Presentado por Kay Ortega.\n\n\n\n\n\nUbicación:  Evento virtual \nFecha y hora:  Miércoles\, 20 de mayo de 2026\, 18:00 h – Miércoles\, 22 de julio de 2026\, 19:30 h \nOrganizador:  Take Root Parenting Connection\, (541) 670-6123\, lbarajas@desd.k12.or.us \n\n\n\n\n\n>>>>>>      Regístrate aquí : https://tinyurl.com/ys8bpjt3
URL:https://lavozdeklamath.com/event/abreindo-puertas-en-espanol-virtual-event/2026-07-01/
LOCATION:VIRTUAL
CATEGORIES:Health and Wellness,Klamath County Event,Klamath Falls Community Event,Klamath Falls Event
ATTACH;FMTTYPE=image/png:https://lavozdeklamath.com/wp-content/uploads/2026/04/abriendo-Puertas-may-thru-jul-2026.png
END:VEVENT
BEGIN:VEVENT
DTSTART;TZID=America/Los_Angeles:20260708T180000
DTEND;TZID=America/Los_Angeles:20260708T193000
DTSTAMP:20260424T105614
CREATED:20260414T194015Z
LAST-MODIFIED:20260414T194544Z
UID:10002099-1783533600-1783539000@lavozdeklamath.com
SUMMARY:Abreindo Puertas en Español – Evento Virtual
DESCRIPTION:Conexión para padres Take Root del condado de Klamath\n\n\n\n\n\n\n\n\n\n\nEsta es una serie virtual de 10 semanas que busca entrenar para…\n\n\n\n\n\n\n\n\npadres de niños de 0 a 5 años para convertirse en líderes\n\n\n\n\n\n\n\n\nAseguradoras y defensores de los derechos de sus hijos. Presentado por Kay Ortega.\n\n\n\n\n\nUbicación:  Evento virtual \nFecha y hora:  Miércoles\, 20 de mayo de 2026\, 18:00 h – Miércoles\, 22 de julio de 2026\, 19:30 h \nOrganizador:  Take Root Parenting Connection\, (541) 670-6123\, lbarajas@desd.k12.or.us \n\n\n\n\n\n>>>>>>      Regístrate aquí : https://tinyurl.com/ys8bpjt3
URL:https://lavozdeklamath.com/event/abreindo-puertas-en-espanol-virtual-event/2026-07-08/
LOCATION:VIRTUAL
CATEGORIES:Health and Wellness,Klamath County Event,Klamath Falls Community Event,Klamath Falls Event
ATTACH;FMTTYPE=image/png:https://lavozdeklamath.com/wp-content/uploads/2026/04/abriendo-Puertas-may-thru-jul-2026.png
END:VEVENT
BEGIN:VEVENT
DTSTART;TZID=America/Los_Angeles:20260715T180000
DTEND;TZID=America/Los_Angeles:20260715T193000
DTSTAMP:20260424T105614
CREATED:20260414T194015Z
LAST-MODIFIED:20260414T194544Z
UID:10002100-1784138400-1784143800@lavozdeklamath.com
SUMMARY:Abreindo Puertas en Español – Evento Virtual
DESCRIPTION:Conexión para padres Take Root del condado de Klamath\n\n\n\n\n\n\n\n\n\n\nEsta es una serie virtual de 10 semanas que busca entrenar para…\n\n\n\n\n\n\n\n\npadres de niños de 0 a 5 años para convertirse en líderes\n\n\n\n\n\n\n\n\nAseguradoras y defensores de los derechos de sus hijos. Presentado por Kay Ortega.\n\n\n\n\n\nUbicación:  Evento virtual \nFecha y hora:  Miércoles\, 20 de mayo de 2026\, 18:00 h – Miércoles\, 22 de julio de 2026\, 19:30 h \nOrganizador:  Take Root Parenting Connection\, (541) 670-6123\, lbarajas@desd.k12.or.us \n\n\n\n\n\n>>>>>>      Regístrate aquí : https://tinyurl.com/ys8bpjt3
URL:https://lavozdeklamath.com/event/abreindo-puertas-en-espanol-virtual-event/2026-07-15/
LOCATION:VIRTUAL
CATEGORIES:Health and Wellness,Klamath County Event,Klamath Falls Community Event,Klamath Falls Event
ATTACH;FMTTYPE=image/png:https://lavozdeklamath.com/wp-content/uploads/2026/04/abriendo-Puertas-may-thru-jul-2026.png
END:VEVENT
BEGIN:VEVENT
DTSTART;TZID=America/Los_Angeles:20260722T180000
DTEND;TZID=America/Los_Angeles:20260722T193000
DTSTAMP:20260424T105614
CREATED:20260414T194015Z
LAST-MODIFIED:20260414T194544Z
UID:10002101-1784743200-1784748600@lavozdeklamath.com
SUMMARY:Abreindo Puertas en Español – Evento Virtual
DESCRIPTION:Conexión para padres Take Root del condado de Klamath\n\n\n\n\n\n\n\n\n\n\nEsta es una serie virtual de 10 semanas que busca entrenar para…\n\n\n\n\n\n\n\n\npadres de niños de 0 a 5 años para convertirse en líderes\n\n\n\n\n\n\n\n\nAseguradoras y defensores de los derechos de sus hijos. Presentado por Kay Ortega.\n\n\n\n\n\nUbicación:  Evento virtual \nFecha y hora:  Miércoles\, 20 de mayo de 2026\, 18:00 h – Miércoles\, 22 de julio de 2026\, 19:30 h \nOrganizador:  Take Root Parenting Connection\, (541) 670-6123\, lbarajas@desd.k12.or.us \n\n\n\n\n\n>>>>>>      Regístrate aquí : https://tinyurl.com/ys8bpjt3
URL:https://lavozdeklamath.com/event/abreindo-puertas-en-espanol-virtual-event/2026-07-22/
LOCATION:VIRTUAL
CATEGORIES:Health and Wellness,Klamath County Event,Klamath Falls Community Event,Klamath Falls Event
ATTACH;FMTTYPE=image/png:https://lavozdeklamath.com/wp-content/uploads/2026/04/abriendo-Puertas-may-thru-jul-2026.png
END:VEVENT
END:VCALENDAR