BEGIN:VCALENDAR
VERSION:2.0
PRODID:-//La Voz de Klamath - ECPv6.15.20//NONSGML v1.0//EN
CALSCALE:GREGORIAN
METHOD:PUBLISH
X-ORIGINAL-URL:https://lavozdeklamath.com
X-WR-CALDESC:Events for La Voz de Klamath
REFRESH-INTERVAL;VALUE=DURATION:PT1H
X-Robots-Tag:noindex
X-PUBLISHED-TTL:PT1H
BEGIN:VTIMEZONE
TZID:America/Los_Angeles
BEGIN:DAYLIGHT
TZOFFSETFROM:-0800
TZOFFSETTO:-0700
TZNAME:PDT
DTSTART:20220313T100000
END:DAYLIGHT
BEGIN:STANDARD
TZOFFSETFROM:-0700
TZOFFSETTO:-0800
TZNAME:PST
DTSTART:20221106T090000
END:STANDARD
BEGIN:DAYLIGHT
TZOFFSETFROM:-0800
TZOFFSETTO:-0700
TZNAME:PDT
DTSTART:20230312T100000
END:DAYLIGHT
BEGIN:STANDARD
TZOFFSETFROM:-0700
TZOFFSETTO:-0800
TZNAME:PST
DTSTART:20231105T090000
END:STANDARD
BEGIN:DAYLIGHT
TZOFFSETFROM:-0800
TZOFFSETTO:-0700
TZNAME:PDT
DTSTART:20240310T100000
END:DAYLIGHT
BEGIN:STANDARD
TZOFFSETFROM:-0700
TZOFFSETTO:-0800
TZNAME:PST
DTSTART:20241103T090000
END:STANDARD
END:VTIMEZONE
BEGIN:VEVENT
DTSTART;TZID=America/Los_Angeles:20231224T110000
DTEND;TZID=America/Los_Angeles:20231224T130000
DTSTAMP:20260424T195625
CREATED:20231208T192830Z
LAST-MODIFIED:20231208T193619Z
UID:10000518-1703415600-1703422800@lavozdeklamath.com
SUMMARY:Sesión de fotos gratuita con Papá Noel en Nochebuena\, el 24 de diciembre de 11.00 a 13.00 h.
DESCRIPTION:Sesión de fotos gratis con Santa en la víspera de Navidad\, 24 de diciembre de 11AM-1PM en Adrian’s Garage en 3225 S 6th St\, Klamath Falls\, OR 97603 \n cortesía de la Defensa de la Familia y Red de Apoyo\, un programa de CO Red de Apoyo a la Discapacidad. Obtenga una foto de familia gratis para llevar a casa. \nTendremos una hora sensorial de 10 am a 11 para cualquiera que necesite un tiempo más tranquilo con Santa. Eddy’s Toy Drive también estará regalando una variedad de juegos de mesa para llevar a casa durante las fiestas. \n \n10 am – 11 am Hora sensorial con cita previa \n11 h – 13 h Abierto al público \n  \nPágina web: www.codsn.org \nVisite FASN en Facebook Facebook \nFacebook en Español: https://www.facebook.com/CODSNenEspanol \nVisítenos en Instagram https://instagram.com/codsn?utm_medium=copy_link \nVisítenos en Tik Tok https://vm.tiktok.com/ZM8W1q9WF/
URL:https://lavozdeklamath.com/event/sesion-de-fotos-gratuita-con-papa-noel-en-nochebuena-el-24-de-diciembre-de-11-00-a-13-00-h/
LOCATION:Adrian’s Garage\, 3225 S 6th St\, Klamath Falls\, OR\, 97603\, United States
CATEGORIES:Family Friendly Event,Holiday Event
ATTACH;FMTTYPE=image/png:https://lavozdeklamath.com/wp-content/uploads/2023/12/Santa-in-spanish-Klamath-Falls-Winter-Photo-Shoot-SP-12.24.2023-1.png
END:VEVENT
END:VCALENDAR