BEGIN:VCALENDAR
VERSION:2.0
PRODID:-//La Voz de Klamath - ECPv6.15.20//NONSGML v1.0//EN
CALSCALE:GREGORIAN
METHOD:PUBLISH
X-ORIGINAL-URL:https://lavozdeklamath.com
X-WR-CALDESC:Events for La Voz de Klamath
REFRESH-INTERVAL;VALUE=DURATION:PT1H
X-Robots-Tag:noindex
X-PUBLISHED-TTL:PT1H
BEGIN:VTIMEZONE
TZID:America/Los_Angeles
BEGIN:DAYLIGHT
TZOFFSETFROM:-0800
TZOFFSETTO:-0700
TZNAME:PDT
DTSTART:20230312T100000
END:DAYLIGHT
BEGIN:STANDARD
TZOFFSETFROM:-0700
TZOFFSETTO:-0800
TZNAME:PST
DTSTART:20231105T090000
END:STANDARD
BEGIN:DAYLIGHT
TZOFFSETFROM:-0800
TZOFFSETTO:-0700
TZNAME:PDT
DTSTART:20240310T100000
END:DAYLIGHT
BEGIN:STANDARD
TZOFFSETFROM:-0700
TZOFFSETTO:-0800
TZNAME:PST
DTSTART:20241103T090000
END:STANDARD
BEGIN:DAYLIGHT
TZOFFSETFROM:-0800
TZOFFSETTO:-0700
TZNAME:PDT
DTSTART:20250309T100000
END:DAYLIGHT
BEGIN:STANDARD
TZOFFSETFROM:-0700
TZOFFSETTO:-0800
TZNAME:PST
DTSTART:20251102T090000
END:STANDARD
END:VTIMEZONE
BEGIN:VEVENT
DTSTART;TZID=America/Los_Angeles:20241113T100000
DTEND;TZID=America/Los_Angeles:20241113T130000
DTSTAMP:20260424T153956
CREATED:20241101T170645Z
LAST-MODIFIED:20241101T170645Z
UID:10001404-1731492000-1731502800@lavozdeklamath.com
SUMMARY:Alcance comunitario: Vacunas gratis contra la gripe y COVID GRATIS
DESCRIPTION:Vacunas gratis contra la gribe\, COVID\, y tambien recursos comunitarios \n¡Todos los miembros de la comunidad son bienvenidos! \n  \nMiércoles 13 de Noviembre 2024 10:00am-1:30pm \nClub comunitario de la media luna\n420 Crescent Cutoff Rd Crescent\,OR 97733
URL:https://lavozdeklamath.com/event/alcance-comunitario-vacunas-gratis-contra-la-gripe-y-covid-gratis/
LOCATION:Club comunitario de la media luna\, 420 Crescent Cutoff Rd\, Crescent\, OR\, 97733
ATTACH;FMTTYPE=image/jpeg:https://lavozdeklamath.com/wp-content/uploads/2024/11/alc.jpg
END:VEVENT
END:VCALENDAR