BEGIN:VCALENDAR
VERSION:2.0
PRODID:-//La Voz de Klamath - ECPv6.15.20//NONSGML v1.0//EN
CALSCALE:GREGORIAN
METHOD:PUBLISH
X-WR-CALNAME:La Voz de Klamath
X-ORIGINAL-URL:https://lavozdeklamath.com
X-WR-CALDESC:Events for La Voz de Klamath
REFRESH-INTERVAL;VALUE=DURATION:PT1H
X-Robots-Tag:noindex
X-PUBLISHED-TTL:PT1H
BEGIN:VTIMEZONE
TZID:America/Los_Angeles
BEGIN:DAYLIGHT
TZOFFSETFROM:-0800
TZOFFSETTO:-0700
TZNAME:PDT
DTSTART:20230312T100000
END:DAYLIGHT
BEGIN:STANDARD
TZOFFSETFROM:-0700
TZOFFSETTO:-0800
TZNAME:PST
DTSTART:20231105T090000
END:STANDARD
BEGIN:DAYLIGHT
TZOFFSETFROM:-0800
TZOFFSETTO:-0700
TZNAME:PDT
DTSTART:20240310T100000
END:DAYLIGHT
BEGIN:STANDARD
TZOFFSETFROM:-0700
TZOFFSETTO:-0800
TZNAME:PST
DTSTART:20241103T090000
END:STANDARD
BEGIN:DAYLIGHT
TZOFFSETFROM:-0800
TZOFFSETTO:-0700
TZNAME:PDT
DTSTART:20250309T100000
END:DAYLIGHT
BEGIN:STANDARD
TZOFFSETFROM:-0700
TZOFFSETTO:-0800
TZNAME:PST
DTSTART:20251102T090000
END:STANDARD
END:VTIMEZONE
BEGIN:VEVENT
DTSTART;TZID=America/Los_Angeles:20240416T170000
DTEND;TZID=America/Los_Angeles:20240416T200000
DTSTAMP:20260424T195626
CREATED:20240416T182639Z
LAST-MODIFIED:20240416T182639Z
UID:10001215-1713286800-1713297600@lavozdeklamath.com
SUMMARY:Noche de Medio litro en Garage Tap House
DESCRIPTION:Sorteos-Vasos de pinta gratis por la compra de cerveza Eel River (Solo 21+)\nHasta agotar existencias \nLugar de celebración: Garage Tap House\n5pm-8pm
URL:https://lavozdeklamath.com/event/noche-de-medio-litro-en-garage-tap-house/
LOCATION:Garage Tap House\, 603 S 6th St\, Klamath Falls\, OR\, 97601\, United States
ATTACH;FMTTYPE=image/jpeg:https://lavozdeklamath.com/wp-content/uploads/2024/04/qtq80-itCI5P-e1713291915487.jpeg
END:VEVENT
END:VCALENDAR