BEGIN:VCALENDAR
VERSION:2.0
PRODID:-//La Voz de Klamath - ECPv6.15.20//NONSGML v1.0//EN
CALSCALE:GREGORIAN
METHOD:PUBLISH
X-WR-CALNAME:La Voz de Klamath
X-ORIGINAL-URL:https://lavozdeklamath.com
X-WR-CALDESC:Events for La Voz de Klamath
REFRESH-INTERVAL;VALUE=DURATION:PT1H
X-Robots-Tag:noindex
X-PUBLISHED-TTL:PT1H
BEGIN:VTIMEZONE
TZID:America/Los_Angeles
BEGIN:DAYLIGHT
TZOFFSETFROM:-0800
TZOFFSETTO:-0700
TZNAME:PDT
DTSTART:20220313T100000
END:DAYLIGHT
BEGIN:STANDARD
TZOFFSETFROM:-0700
TZOFFSETTO:-0800
TZNAME:PST
DTSTART:20221106T090000
END:STANDARD
BEGIN:DAYLIGHT
TZOFFSETFROM:-0800
TZOFFSETTO:-0700
TZNAME:PDT
DTSTART:20230312T100000
END:DAYLIGHT
BEGIN:STANDARD
TZOFFSETFROM:-0700
TZOFFSETTO:-0800
TZNAME:PST
DTSTART:20231105T090000
END:STANDARD
BEGIN:DAYLIGHT
TZOFFSETFROM:-0800
TZOFFSETTO:-0700
TZNAME:PDT
DTSTART:20240310T100000
END:DAYLIGHT
BEGIN:STANDARD
TZOFFSETFROM:-0700
TZOFFSETTO:-0800
TZNAME:PST
DTSTART:20241103T090000
END:STANDARD
BEGIN:DAYLIGHT
TZOFFSETFROM:-0800
TZOFFSETTO:-0700
TZNAME:PDT
DTSTART:20250309T100000
END:DAYLIGHT
BEGIN:STANDARD
TZOFFSETFROM:-0700
TZOFFSETTO:-0800
TZNAME:PST
DTSTART:20251102T090000
END:STANDARD
BEGIN:DAYLIGHT
TZOFFSETFROM:-0800
TZOFFSETTO:-0700
TZNAME:PDT
DTSTART:20260308T100000
END:DAYLIGHT
BEGIN:STANDARD
TZOFFSETFROM:-0700
TZOFFSETTO:-0800
TZNAME:PST
DTSTART:20261101T090000
END:STANDARD
END:VTIMEZONE
BEGIN:VEVENT
DTSTART;TZID=America/Los_Angeles:20251206T090000
DTEND;TZID=America/Los_Angeles:20251206T120000
DTSTAMP:20260424T195620
CREATED:20251124T181349Z
LAST-MODIFIED:20251124T184923Z
UID:10001501-1765011600-1765022400@lavozdeklamath.com
SUMMARY:12.ª edición anual de la carrera divertida: Suéter feo 5k
DESCRIPTION:La Carrera de los Suéteres Feos es un evento único que reúne a familias\, amigos y miembros de la comunidad para celebrar la temporada navideña con una pizca de humor y mucho corazón. Ponte tu jersey navideño más extravagante y corre o camina por una ruta designada de 5 km\, creando un alegre espectáculo de espíritu navideño. Este evento\, que se celebra llueva o haga sol\, es para todas las edades y habilidades\, ¡e incluso se anima a las mascotas a vestirse para la ocasión! Únete a nosotros el sábado 6 de diciembre a las 9:00 a. m. en Harbor Links.\n0 $ para niños de 0 a 5 años.\n10 $ para niños de 6 a 12 años.\n30 $ para mayores de 13 años. \n¡Todos los participantes recibirán un regalo GRATIS el día de la carrera!
URL:https://lavozdeklamath.com/event/12-a-edicion-anual-de-la-carrera-divertida-sueter-feo-5k/
LOCATION:Harbor Links 601 Harbor Isle Blvd\, 601 Harbor Isle Blvd\, Klamath Falls\, OR\, United States
CATEGORIES:Klamath Falls Community Event
ATTACH;FMTTYPE=image/jpeg:https://lavozdeklamath.com/wp-content/uploads/2025/11/qtq80-h6HPim-e1764007385427.jpeg
END:VEVENT
BEGIN:VEVENT
DTSTART;TZID=America/Los_Angeles:20240824T080000
DTEND;TZID=America/Los_Angeles:20240824T123000
DTSTAMP:20260424T195620
CREATED:20240724T232427Z
LAST-MODIFIED:20240724T232427Z
UID:10001339-1724486400-1724502600@lavozdeklamath.com
SUMMARY:Torneo de golf en memoria de Bill Collier
DESCRIPTION:Sábado\, 24 de agosto de 2024 \nCombate de 4 hombres para golf\nInscripción:8:00am\nHora de salida: 9am\nLugar de celebración: Campo de golf Harbor Links\nIncluye 18 hoyos de golf\, carrito\, almuerzo y entradas para bebidas y sorteos \nPara inscribirse: www.klamathicesports.org
URL:https://lavozdeklamath.com/event/torneo-de-golf-en-memoria-de-bill-collier/
LOCATION:Harbor Links 601 Harbor Isle Blvd\, 601 Harbor Isle Blvd\, Klamath Falls\, OR\, United States
ATTACH;FMTTYPE=image/jpeg:https://lavozdeklamath.com/wp-content/uploads/2024/07/qtq80-fFeOoc-e1721863457225.jpeg
END:VEVENT
BEGIN:VEVENT
DTSTART;TZID=America/Los_Angeles:20231202T090000
DTEND;TZID=America/Los_Angeles:20231202T130000
DTSTAMP:20260424T195620
CREATED:20231130T175716Z
LAST-MODIFIED:20231130T175800Z
UID:10000514-1701507600-1701522000@lavozdeklamath.com
SUMMARY:Carrera de suéteres feos de Friends of the Children - Klamath Falls
DESCRIPTION:Recoge tus jerséis más feos para la Carrera de los Jerséis Feos de este año. \nCorre una carrera de 5 km o rebusca por la ciudad\, pero sea como sea\, te abrirás paso hacia una diversión helada y un fabuloso botín. Haz sudar a tus amigos\, convence a tu familia para que se apunte a esta carrera amistosa sin cronometraje oficial\, o reúne a tus amigos y familiares para resolver pistas y visitar los negocios locales para conseguir un increíble SWAG.\n¡No podemos esperar y nos encantará ver todos esos jerséis corriendo por ahí! \nFelices Fiestas K Falls\, ¡y a correr hasta 2023!
URL:https://lavozdeklamath.com/event/carrera-de-sueteres-feos-de-friends-of-the-children-klamath-falls/
LOCATION:Harbor Links 601 Harbor Isle Blvd\, 601 Harbor Isle Blvd\, Klamath Falls\, OR\, United States
CATEGORIES:Fundraiser,Run Event
ATTACH;FMTTYPE=image/jpeg:https://lavozdeklamath.com/wp-content/uploads/2023/11/402017943_10159257227076097_5212837602397098563_n.jpg
END:VEVENT
END:VCALENDAR