BEGIN:VCALENDAR
VERSION:2.0
PRODID:-//La Voz de Klamath - ECPv6.15.20//NONSGML v1.0//EN
CALSCALE:GREGORIAN
METHOD:PUBLISH
X-WR-CALNAME:La Voz de Klamath
X-ORIGINAL-URL:https://lavozdeklamath.com
X-WR-CALDESC:Events for La Voz de Klamath
REFRESH-INTERVAL;VALUE=DURATION:PT1H
X-Robots-Tag:noindex
X-PUBLISHED-TTL:PT1H
BEGIN:VTIMEZONE
TZID:America/Los_Angeles
BEGIN:DAYLIGHT
TZOFFSETFROM:-0800
TZOFFSETTO:-0700
TZNAME:PDT
DTSTART:20230312T100000
END:DAYLIGHT
BEGIN:STANDARD
TZOFFSETFROM:-0700
TZOFFSETTO:-0800
TZNAME:PST
DTSTART:20231105T090000
END:STANDARD
BEGIN:DAYLIGHT
TZOFFSETFROM:-0800
TZOFFSETTO:-0700
TZNAME:PDT
DTSTART:20240310T100000
END:DAYLIGHT
BEGIN:STANDARD
TZOFFSETFROM:-0700
TZOFFSETTO:-0800
TZNAME:PST
DTSTART:20241103T090000
END:STANDARD
BEGIN:DAYLIGHT
TZOFFSETFROM:-0800
TZOFFSETTO:-0700
TZNAME:PDT
DTSTART:20250309T100000
END:DAYLIGHT
BEGIN:STANDARD
TZOFFSETFROM:-0700
TZOFFSETTO:-0800
TZNAME:PST
DTSTART:20251102T090000
END:STANDARD
END:VTIMEZONE
BEGIN:VEVENT
DTSTART;TZID=America/Los_Angeles:20240406T090000
DTEND;TZID=America/Los_Angeles:20240406T160000
DTSTAMP:20260424T195544
CREATED:20240201T194408Z
LAST-MODIFIED:20240201T194453Z
UID:10000575-1712394000-1712419200@lavozdeklamath.com
SUMMARY:Reventón de globos en Holiday Jewerly
DESCRIPTION:Es la explosión anual de globos de Holliday Jewelry. Es el evento favorito del año en Holliday Jewelry\, donde escondemos piedras preciosas auténticas dentro de miles de globos. Todo lo que tienes que hacer es coger tus globos y reventarlos para descubrir tus piedras preciosas. \nEste año vamos a meter MÁS piedras preciosas dentro de aún MÁS GLOBOS y durante 3 DÍAS COMPLETOS nuestra tienda estará LLENA de globos. ¡Marca ya tu calendario!\n¡Todo lo que tienes que hacer es comprar un globo por $5\, $20 o $50 y reventarlo! Dentro de cada globo es una piedra preciosa genuina valor de $ 15 a $ 750. Cada globo tiene algo asombroso para encontrar. Encontrará Rubíes\, Zafiros\, Amatistas\, Ópalos\, Granates\, Topacios Azules\, Esmeraldas\, parejas de gemas\, Piedra Lunar tallada\, y mucho\, mucho\, más. ¡¡Un globo especial tiene un diamante de 1/4 quilate por valor de más de $ 650!! \nADEMÁS\, puede ayudar a una buena causa\, ya que el 20% de los ingresos se donará a una organización benéfica local.
URL:https://lavozdeklamath.com/event/reventon-de-globos-en-holiday-jewerly/2024-04-06/
LOCATION:Holiday Jewerly\, 2834 S 6th St\, Klamath Falls\, OR\, 97603\, United States
ATTACH;FMTTYPE=image/jpeg:https://lavozdeklamath.com/wp-content/uploads/2024/02/qtq80-cd7lGX.jpeg
END:VEVENT
BEGIN:VEVENT
DTSTART;TZID=America/Los_Angeles:20240405T090000
DTEND;TZID=America/Los_Angeles:20240405T160000
DTSTAMP:20260424T195544
CREATED:20240201T194408Z
LAST-MODIFIED:20240201T194453Z
UID:10000574-1712307600-1712332800@lavozdeklamath.com
SUMMARY:Reventón de globos en Holiday Jewerly
DESCRIPTION:Es la explosión anual de globos de Holliday Jewelry. Es el evento favorito del año en Holliday Jewelry\, donde escondemos piedras preciosas auténticas dentro de miles de globos. Todo lo que tienes que hacer es coger tus globos y reventarlos para descubrir tus piedras preciosas. \nEste año vamos a meter MÁS piedras preciosas dentro de aún MÁS GLOBOS y durante 3 DÍAS COMPLETOS nuestra tienda estará LLENA de globos. ¡Marca ya tu calendario!\n¡Todo lo que tienes que hacer es comprar un globo por $5\, $20 o $50 y reventarlo! Dentro de cada globo es una piedra preciosa genuina valor de $ 15 a $ 750. Cada globo tiene algo asombroso para encontrar. Encontrará Rubíes\, Zafiros\, Amatistas\, Ópalos\, Granates\, Topacios Azules\, Esmeraldas\, parejas de gemas\, Piedra Lunar tallada\, y mucho\, mucho\, más. ¡¡Un globo especial tiene un diamante de 1/4 quilate por valor de más de $ 650!! \nADEMÁS\, puede ayudar a una buena causa\, ya que el 20% de los ingresos se donará a una organización benéfica local.
URL:https://lavozdeklamath.com/event/reventon-de-globos-en-holiday-jewerly/2024-04-05/
LOCATION:Holiday Jewerly\, 2834 S 6th St\, Klamath Falls\, OR\, 97603\, United States
ATTACH;FMTTYPE=image/jpeg:https://lavozdeklamath.com/wp-content/uploads/2024/02/qtq80-cd7lGX.jpeg
END:VEVENT
BEGIN:VEVENT
DTSTART;TZID=America/Los_Angeles:20240404T090000
DTEND;TZID=America/Los_Angeles:20240404T160000
DTSTAMP:20260424T195544
CREATED:20240201T194408Z
LAST-MODIFIED:20240201T194453Z
UID:10000573-1712221200-1712246400@lavozdeklamath.com
SUMMARY:Reventón de globos en Holiday Jewerly
DESCRIPTION:Es la explosión anual de globos de Holliday Jewelry. Es el evento favorito del año en Holliday Jewelry\, donde escondemos piedras preciosas auténticas dentro de miles de globos. Todo lo que tienes que hacer es coger tus globos y reventarlos para descubrir tus piedras preciosas. \nEste año vamos a meter MÁS piedras preciosas dentro de aún MÁS GLOBOS y durante 3 DÍAS COMPLETOS nuestra tienda estará LLENA de globos. ¡Marca ya tu calendario!\n¡Todo lo que tienes que hacer es comprar un globo por $5\, $20 o $50 y reventarlo! Dentro de cada globo es una piedra preciosa genuina valor de $ 15 a $ 750. Cada globo tiene algo asombroso para encontrar. Encontrará Rubíes\, Zafiros\, Amatistas\, Ópalos\, Granates\, Topacios Azules\, Esmeraldas\, parejas de gemas\, Piedra Lunar tallada\, y mucho\, mucho\, más. ¡¡Un globo especial tiene un diamante de 1/4 quilate por valor de más de $ 650!! \nADEMÁS\, puede ayudar a una buena causa\, ya que el 20% de los ingresos se donará a una organización benéfica local.
URL:https://lavozdeklamath.com/event/reventon-de-globos-en-holiday-jewerly/2024-04-04/
LOCATION:Holiday Jewerly\, 2834 S 6th St\, Klamath Falls\, OR\, 97603\, United States
ATTACH;FMTTYPE=image/jpeg:https://lavozdeklamath.com/wp-content/uploads/2024/02/qtq80-cd7lGX.jpeg
END:VEVENT
END:VCALENDAR