BEGIN:VCALENDAR
VERSION:2.0
PRODID:-//La Voz de Klamath - ECPv6.15.20//NONSGML v1.0//EN
CALSCALE:GREGORIAN
METHOD:PUBLISH
X-WR-CALNAME:La Voz de Klamath
X-ORIGINAL-URL:https://lavozdeklamath.com
X-WR-CALDESC:Events for La Voz de Klamath
REFRESH-INTERVAL;VALUE=DURATION:PT1H
X-Robots-Tag:noindex
X-PUBLISHED-TTL:PT1H
BEGIN:VTIMEZONE
TZID:America/Los_Angeles
BEGIN:DAYLIGHT
TZOFFSETFROM:-0800
TZOFFSETTO:-0700
TZNAME:PDT
DTSTART:20220313T100000
END:DAYLIGHT
BEGIN:STANDARD
TZOFFSETFROM:-0700
TZOFFSETTO:-0800
TZNAME:PST
DTSTART:20221106T090000
END:STANDARD
BEGIN:DAYLIGHT
TZOFFSETFROM:-0800
TZOFFSETTO:-0700
TZNAME:PDT
DTSTART:20230312T100000
END:DAYLIGHT
BEGIN:STANDARD
TZOFFSETFROM:-0700
TZOFFSETTO:-0800
TZNAME:PST
DTSTART:20231105T090000
END:STANDARD
BEGIN:DAYLIGHT
TZOFFSETFROM:-0800
TZOFFSETTO:-0700
TZNAME:PDT
DTSTART:20240310T100000
END:DAYLIGHT
BEGIN:STANDARD
TZOFFSETFROM:-0700
TZOFFSETTO:-0800
TZNAME:PST
DTSTART:20241103T090000
END:STANDARD
BEGIN:DAYLIGHT
TZOFFSETFROM:-0800
TZOFFSETTO:-0700
TZNAME:PDT
DTSTART:20250309T100000
END:DAYLIGHT
BEGIN:STANDARD
TZOFFSETFROM:-0700
TZOFFSETTO:-0800
TZNAME:PST
DTSTART:20251102T090000
END:STANDARD
BEGIN:DAYLIGHT
TZOFFSETFROM:-0800
TZOFFSETTO:-0700
TZNAME:PDT
DTSTART:20260308T100000
END:DAYLIGHT
BEGIN:STANDARD
TZOFFSETFROM:-0700
TZOFFSETTO:-0800
TZNAME:PST
DTSTART:20261101T090000
END:STANDARD
BEGIN:DAYLIGHT
TZOFFSETFROM:-0800
TZOFFSETTO:-0700
TZNAME:PDT
DTSTART:20270314T100000
END:DAYLIGHT
BEGIN:STANDARD
TZOFFSETFROM:-0700
TZOFFSETTO:-0800
TZNAME:PST
DTSTART:20271107T090000
END:STANDARD
END:VTIMEZONE
BEGIN:VEVENT
DTSTART;TZID=America/Los_Angeles:20260329T100000
DTEND;TZID=America/Los_Angeles:20260329T160000
DTSTAMP:20260424T181645
CREATED:20260227T003104Z
LAST-MODIFIED:20260227T003104Z
UID:10002055-1774778400-1774800000@lavozdeklamath.com
SUMMARY:Serie Espíritu Mercado: Edición de Pascua
DESCRIPTION:¡Ya está aquí el calendario completo de los Series de Mercados de Espíritu 2026 en el Klamath Basin Senior Center! Apoya lo local y celebra la comunidad durante todo el año\n🗓️ Fechas 2026:🌸 29 de marzo – Edición de Pascua🌼 19 de abril 👔 21 de junio ☀️ 12 de julio📚 13 de septiembre 🦃 22 de noviembre 🎄 20 de diciembre \n⏰ 10 a.m. – 4 p.m.📍 2045 Arthur St.\, Klamath Falls \nMás de 30 vendedores locales\, productos hechos a mano\, repostería y recursos comunitarios. \n📣 Vendedores: Espacios $20 (no reembolsables) \nOrganizadora: Tori Hayman Creations  \nhttps://www.torihaymancreations.com/ 
URL:https://lavozdeklamath.com/event/serie-espiritu-mercado-edicion-de-pascua/
LOCATION:Klamath Basin Senior Citizens Center\, 2045 Arthur Street\, Klamath Falls\, OR\, 97603\, United States
CATEGORIES:Klamath County Event,Klamath Falls Community Event,Klamath Falls Event
ATTACH;FMTTYPE=image/jpeg:https://lavozdeklamath.com/wp-content/uploads/2026/02/qtq80-KQtrIJ-e1772152123816.jpeg
END:VEVENT
BEGIN:VEVENT
DTSTART;TZID=America/Los_Angeles:20240204T120000
DTEND;TZID=America/Los_Angeles:20240204T170000
DTSTAMP:20260424T181645
CREATED:20240201T185827Z
LAST-MODIFIED:20240201T185827Z
UID:10000571-1707048000-1707066000@lavozdeklamath.com
SUMMARY:Bingo para Familias
DESCRIPTION:¡El domingo\, 4 de febrero traiga a su familia y jugar al bingo en el Centro de Mayores aquí en Klamath Falls!\nAbierto a las 12:00 pm\nPrimera llamada a las 13:30. \nLos niños mayores de 7 años son bienvenidos\, pero deben ir acompañados por uno de sus padres o un tutor legal\, o tener una nota de uno de ellos.\nCompra: 1 de todos los juegos $10. No hay bola caliente. Pago: Paquete de juegos $50\, juegos especiales $80\, doble acción $99\, blackout $300.\nBolsas de regalos y rifa para los niños. \nEste evento financia programas en el Centro de Mayores 
URL:https://lavozdeklamath.com/event/bingo-para-familias/
LOCATION:Klamath Basin Senior Citizens Center\, 2045 Arthur Street\, Klamath Falls\, OR\, 97603\, United States
ATTACH;FMTTYPE=image/jpeg:https://lavozdeklamath.com/wp-content/uploads/2024/02/qtq80-7Yh1hr-e1706813785961.jpeg
END:VEVENT
BEGIN:VEVENT
DTSTART;TZID=America/Los_Angeles:20240108T090000
DTEND;TZID=America/Los_Angeles:20240108T100000
DTSTAMP:20260424T181645
CREATED:20240104T171402Z
LAST-MODIFIED:20240104T171402Z
UID:10000539-1704704400-1704708000@lavozdeklamath.com
SUMMARY:Grupo de apoyo a cuidadores de enfermos de Alzheimer
DESCRIPTION:¿Es usted cuidador de un ser querido con demencia o Alzehimer? Le invitamos a unirse a un grupo de apoyo gratuito\, semanal y de una hora de duración para aprender consejos\, conectar con otros cuidadores\, compartir conocimientos y trabajar en su propio cuidado personal. \nLocalizado en el Centro de Mayores: 2045 Arthur St Klamath Falls\, OR (tambien puedes conectarte por Zoom) \n  \n 
URL:https://lavozdeklamath.com/event/grupo-de-apoyo-a-cuidadores-de-enfermos-de-alzheimer/
LOCATION:Klamath Basin Senior Citizens Center\, 2045 Arthur Street\, Klamath Falls\, OR\, 97603\, United States
ATTACH;FMTTYPE=image/jpeg:https://lavozdeklamath.com/wp-content/uploads/2024/01/qtq80-fjkh1i-e1704388268102.jpeg
END:VEVENT
BEGIN:VEVENT
DTSTART;TZID=America/Los_Angeles:20231008T120000
DTEND;TZID=America/Los_Angeles:20231008T170000
DTSTAMP:20260424T181645
CREATED:20230925T220109Z
LAST-MODIFIED:20230925T220109Z
UID:10000443-1696766400-1696784400@lavozdeklamath.com
SUMMARY:Bingo para la familia
DESCRIPTION:Este evento es para todas las edades y no tiene costo. \n 
URL:https://lavozdeklamath.com/event/bingo-para-la-familia/
LOCATION:Klamath Basin Senior Citizens Center\, 2045 Arthur Street\, Klamath Falls\, OR\, 97603\, United States
ATTACH;FMTTYPE=image/jpeg:https://lavozdeklamath.com/wp-content/uploads/2023/09/qtq80-YXNAXD-e1695679264431.jpeg
END:VEVENT
END:VCALENDAR