BEGIN:VCALENDAR
VERSION:2.0
PRODID:-//La Voz de Klamath - ECPv6.15.20//NONSGML v1.0//EN
CALSCALE:GREGORIAN
METHOD:PUBLISH
X-ORIGINAL-URL:https://lavozdeklamath.com
X-WR-CALDESC:Events for La Voz de Klamath
REFRESH-INTERVAL;VALUE=DURATION:PT1H
X-Robots-Tag:noindex
X-PUBLISHED-TTL:PT1H
BEGIN:VTIMEZONE
TZID:America/Los_Angeles
BEGIN:DAYLIGHT
TZOFFSETFROM:-0800
TZOFFSETTO:-0700
TZNAME:PDT
DTSTART:20250309T100000
END:DAYLIGHT
BEGIN:STANDARD
TZOFFSETFROM:-0700
TZOFFSETTO:-0800
TZNAME:PST
DTSTART:20251102T090000
END:STANDARD
BEGIN:DAYLIGHT
TZOFFSETFROM:-0800
TZOFFSETTO:-0700
TZNAME:PDT
DTSTART:20260308T100000
END:DAYLIGHT
BEGIN:STANDARD
TZOFFSETFROM:-0700
TZOFFSETTO:-0800
TZNAME:PST
DTSTART:20261101T090000
END:STANDARD
BEGIN:DAYLIGHT
TZOFFSETFROM:-0800
TZOFFSETTO:-0700
TZNAME:PDT
DTSTART:20270314T100000
END:DAYLIGHT
BEGIN:STANDARD
TZOFFSETFROM:-0700
TZOFFSETTO:-0800
TZNAME:PST
DTSTART:20271107T090000
END:STANDARD
END:VTIMEZONE
BEGIN:VEVENT
DTSTART;TZID=America/Los_Angeles:20260308T100000
DTEND;TZID=America/Los_Angeles:20260308T160000
DTSTAMP:20260424T190909
CREATED:20260303T190327Z
LAST-MODIFIED:20260303T191203Z
UID:10002060-1772964000-1772985600@lavozdeklamath.com
SUMMARY:Exposición de Hogar y Exteriores de Klamath Basin > Viernes 6 de marzo – Domingo 8 de marzo
DESCRIPTION:Home & Outdoor Expo es el evento más importante del sur de Oregón para propietarios y futuros propietarios de viviendas\, ya sea que esté comprando\, construyendo\, remodelando o simplemente soñando.\n\nEste evento de tres días está repleto de expertos locales de la industria de la vivienda listos para ayudarlo a diseñar la cocina de sus sueños\, elegir el contratista adecuado\, actualizar sus ventanas\, elegir el color de pintura perfecto o descubrir lo último en energía solar\, paisajismo\, pisos\, techos y más.\n\n ¿Buscas profesionales de confianza? Conoce a los mejores constructores\, remodeladores\, diseñadores y proveedores de la región\, todos en un mismo lugar.\n Y no nos detenemos en la puerta principal. La Expo también celebra la vida y el disfrute en la Cuenca: desde artículos para exteriores hasta diseño de jardines\, actividades recreativas y mejoras para el patio\, todo está aquí.\n\n\n Lo que encontrará en la Expo: Clases y demostraciones en vivo Área para niños con actividades Vendedores de alimentos y bebidas locales Organizaciones comunitarias Puestos de estilo de vida al aire libre Obsequios y especiales de espectáculos Diversión familiar e inspiración para todos los presupuestos\n\n\n Ya sea que esté listo para contratar a un profesional\, recopilar ideas o inspirarse sobre lo que es posible en su hogar o patio trasero\, la Home & Outdoor Expo es donde encontrará las respuestas (y los expertos).\n\n Fechas y horarios: Ubicación: Recinto ferial y centro de eventos del condado de Klamath. Entrada: $5 adultos | GRATIS niños | $4 compra anticipada en línea (próximamente).\n• Viernes 6 de marzo | 14:00 – 20:00• Sábado 7 de marzo | 9:00 – 18:00• Domingo 8 de marzo | 10:00 – 16:00\n\n Descubre. Explora. Inspira. \n\n ¡No te pierdas el mejor evento del año para el hogar y el aire libre! Anota en tu calendario\, invita a tus amigos y prepárate para transformar tu hogar y espacio al aire libre con los mejores productos\, servicios e ideas de Klamath Basin.
URL:https://lavozdeklamath.com/event/klamath-basin-home-outdoor-expo/2026-03-08/
LOCATION:Klamath County Event Center\, 3531 S 6th St\, OR\, 97601\, United States
CATEGORIES:Family Friendly Event,Klamath County Event,Klamath Falls Community Event,Klamath Falls Event
ATTACH;FMTTYPE=image/png:https://lavozdeklamath.com/wp-content/uploads/2026/03/k-f-ex.png
END:VEVENT
BEGIN:VEVENT
DTSTART;TZID=America/Los_Angeles:20260307T090000
DTEND;TZID=America/Los_Angeles:20260307T180000
DTSTAMP:20260424T190909
CREATED:20260303T190327Z
LAST-MODIFIED:20260303T191203Z
UID:10002059-1772874000-1772906400@lavozdeklamath.com
SUMMARY:Exposición de Hogar y Exteriores de Klamath Basin > Viernes 6 de marzo – Domingo 8 de marzo
DESCRIPTION:Home & Outdoor Expo es el evento más importante del sur de Oregón para propietarios y futuros propietarios de viviendas\, ya sea que esté comprando\, construyendo\, remodelando o simplemente soñando.\n\nEste evento de tres días está repleto de expertos locales de la industria de la vivienda listos para ayudarlo a diseñar la cocina de sus sueños\, elegir el contratista adecuado\, actualizar sus ventanas\, elegir el color de pintura perfecto o descubrir lo último en energía solar\, paisajismo\, pisos\, techos y más.\n\n ¿Buscas profesionales de confianza? Conoce a los mejores constructores\, remodeladores\, diseñadores y proveedores de la región\, todos en un mismo lugar.\n Y no nos detenemos en la puerta principal. La Expo también celebra la vida y el disfrute en la Cuenca: desde artículos para exteriores hasta diseño de jardines\, actividades recreativas y mejoras para el patio\, todo está aquí.\n\n\n Lo que encontrará en la Expo: Clases y demostraciones en vivo Área para niños con actividades Vendedores de alimentos y bebidas locales Organizaciones comunitarias Puestos de estilo de vida al aire libre Obsequios y especiales de espectáculos Diversión familiar e inspiración para todos los presupuestos\n\n\n Ya sea que esté listo para contratar a un profesional\, recopilar ideas o inspirarse sobre lo que es posible en su hogar o patio trasero\, la Home & Outdoor Expo es donde encontrará las respuestas (y los expertos).\n\n Fechas y horarios: Ubicación: Recinto ferial y centro de eventos del condado de Klamath. Entrada: $5 adultos | GRATIS niños | $4 compra anticipada en línea (próximamente).\n• Viernes 6 de marzo | 14:00 – 20:00• Sábado 7 de marzo | 9:00 – 18:00• Domingo 8 de marzo | 10:00 – 16:00\n\n Descubre. Explora. Inspira. \n\n ¡No te pierdas el mejor evento del año para el hogar y el aire libre! Anota en tu calendario\, invita a tus amigos y prepárate para transformar tu hogar y espacio al aire libre con los mejores productos\, servicios e ideas de Klamath Basin.
URL:https://lavozdeklamath.com/event/klamath-basin-home-outdoor-expo/2026-03-07/
LOCATION:Klamath County Event Center\, 3531 S 6th St\, OR\, 97601\, United States
CATEGORIES:Family Friendly Event,Klamath County Event,Klamath Falls Community Event,Klamath Falls Event
ATTACH;FMTTYPE=image/png:https://lavozdeklamath.com/wp-content/uploads/2026/03/k-f-ex.png
END:VEVENT
BEGIN:VEVENT
DTSTART;TZID=America/Los_Angeles:20260306T140000
DTEND;TZID=America/Los_Angeles:20260306T200000
DTSTAMP:20260424T190909
CREATED:20260303T190327Z
LAST-MODIFIED:20260303T191203Z
UID:10002058-1772805600-1772827200@lavozdeklamath.com
SUMMARY:Exposición de Hogar y Exteriores de Klamath Basin > Viernes 6 de marzo – Domingo 8 de marzo
DESCRIPTION:Home & Outdoor Expo es el evento más importante del sur de Oregón para propietarios y futuros propietarios de viviendas\, ya sea que esté comprando\, construyendo\, remodelando o simplemente soñando.\n\nEste evento de tres días está repleto de expertos locales de la industria de la vivienda listos para ayudarlo a diseñar la cocina de sus sueños\, elegir el contratista adecuado\, actualizar sus ventanas\, elegir el color de pintura perfecto o descubrir lo último en energía solar\, paisajismo\, pisos\, techos y más.\n\n ¿Buscas profesionales de confianza? Conoce a los mejores constructores\, remodeladores\, diseñadores y proveedores de la región\, todos en un mismo lugar.\n Y no nos detenemos en la puerta principal. La Expo también celebra la vida y el disfrute en la Cuenca: desde artículos para exteriores hasta diseño de jardines\, actividades recreativas y mejoras para el patio\, todo está aquí.\n\n\n Lo que encontrará en la Expo: Clases y demostraciones en vivo Área para niños con actividades Vendedores de alimentos y bebidas locales Organizaciones comunitarias Puestos de estilo de vida al aire libre Obsequios y especiales de espectáculos Diversión familiar e inspiración para todos los presupuestos\n\n\n Ya sea que esté listo para contratar a un profesional\, recopilar ideas o inspirarse sobre lo que es posible en su hogar o patio trasero\, la Home & Outdoor Expo es donde encontrará las respuestas (y los expertos).\n\n Fechas y horarios: Ubicación: Recinto ferial y centro de eventos del condado de Klamath. Entrada: $5 adultos | GRATIS niños | $4 compra anticipada en línea (próximamente).\n• Viernes 6 de marzo | 14:00 – 20:00• Sábado 7 de marzo | 9:00 – 18:00• Domingo 8 de marzo | 10:00 – 16:00\n\n Descubre. Explora. Inspira. \n\n ¡No te pierdas el mejor evento del año para el hogar y el aire libre! Anota en tu calendario\, invita a tus amigos y prepárate para transformar tu hogar y espacio al aire libre con los mejores productos\, servicios e ideas de Klamath Basin.
URL:https://lavozdeklamath.com/event/klamath-basin-home-outdoor-expo/2026-03-06/
LOCATION:Klamath County Event Center\, 3531 S 6th St\, OR\, 97601\, United States
CATEGORIES:Family Friendly Event,Klamath County Event,Klamath Falls Community Event,Klamath Falls Event
ATTACH;FMTTYPE=image/png:https://lavozdeklamath.com/wp-content/uploads/2026/03/k-f-ex.png
END:VEVENT
BEGIN:VEVENT
DTSTART;TZID=America/Los_Angeles:20260131T163000
DTEND;TZID=America/Los_Angeles:20260131T200000
DTSTAMP:20260424T190909
CREATED:20260120T192519Z
LAST-MODIFIED:20260120T192813Z
UID:10001515-1769877000-1769889600@lavozdeklamath.com
SUMMARY:Home Run Crab Feed\, evento recaudador de fondos para el equipo atlético de la escuela secundaria Henley
DESCRIPTION:Comida para cangrejos Home Run \n\nEl 31 de enero de 2026\, las puertas se abrirán a las 4:30 p. m. en el centro de eventos del condado de Klamath.\nLa cena incluye bufé libre de cangrejo\, ensalada César y panecillos. También hay una opción de pizza por $15 que incluye refresco o agua. Los tickets de pizza se compran en la taquilla.\nSe venderá cerveza y vino en el evento.\n$60 por entradas individuales y $420 por una mesa de ocho.\nTambién puedes comprar entradas de tu jugador de béisbol o sóftbol favorito de Henley.\n  \nHenley Crab Feed es una recaudación de fondos anual para  los deportes de la escuela secundaria Henley  (béisbol y sóftbol)\, que se lleva a cabo en el  Centro de eventos del condado de Klamath en Klamath Falls. \n\n\nDetalles clave:\n\n\nDe qué se trata:  Una recaudación de fondos para los equipos deportivos de la escuela secundaria Henley.\n\n\nCuándo: 31 de enero de 2026 –   puertas abren a las 16:30 h\n\n\nDónde:  Centro de eventos del condado de Klamath\, 3531 S 6th St Klamath Falls\, OR.\n\n\nCosto:  Alrededor de $60 por boleto o $420 para una mesa de 8.\n\n\nQué se sirve:  cangrejo\, mantequilla derretida\, ensalada César\, patatas al horno\, panecillos\, refrescos.\n\n\nCómo comprar entradas:  a través de los jugadores\,  Barney’s Family Market (Midland) o  REACH Inc. 
URL:https://lavozdeklamath.com/event/14530/
LOCATION:Klamath County Event Center\, 3531 S 6th St\, OR\, 97601\, United States
CATEGORIES:Family Friendly Event,Fundraiser,Klamath County Event,Klamath Falls Community Event,Klamath Falls Event
ATTACH;FMTTYPE=image/png:https://lavozdeklamath.com/wp-content/uploads/2026/01/crab.png
END:VEVENT
END:VCALENDAR