BEGIN:VCALENDAR
VERSION:2.0
PRODID:-//La Voz de Klamath - ECPv6.15.20//NONSGML v1.0//EN
CALSCALE:GREGORIAN
METHOD:PUBLISH
X-WR-CALNAME:La Voz de Klamath
X-ORIGINAL-URL:https://lavozdeklamath.com
X-WR-CALDESC:Events for La Voz de Klamath
REFRESH-INTERVAL;VALUE=DURATION:PT1H
X-Robots-Tag:noindex
X-PUBLISHED-TTL:PT1H
BEGIN:VTIMEZONE
TZID:America/Los_Angeles
BEGIN:DAYLIGHT
TZOFFSETFROM:-0800
TZOFFSETTO:-0700
TZNAME:PDT
DTSTART:20220313T100000
END:DAYLIGHT
BEGIN:STANDARD
TZOFFSETFROM:-0700
TZOFFSETTO:-0800
TZNAME:PST
DTSTART:20221106T090000
END:STANDARD
BEGIN:DAYLIGHT
TZOFFSETFROM:-0800
TZOFFSETTO:-0700
TZNAME:PDT
DTSTART:20230312T100000
END:DAYLIGHT
BEGIN:STANDARD
TZOFFSETFROM:-0700
TZOFFSETTO:-0800
TZNAME:PST
DTSTART:20231105T090000
END:STANDARD
BEGIN:DAYLIGHT
TZOFFSETFROM:-0800
TZOFFSETTO:-0700
TZNAME:PDT
DTSTART:20240310T100000
END:DAYLIGHT
BEGIN:STANDARD
TZOFFSETFROM:-0700
TZOFFSETTO:-0800
TZNAME:PST
DTSTART:20241103T090000
END:STANDARD
BEGIN:DAYLIGHT
TZOFFSETFROM:-0800
TZOFFSETTO:-0700
TZNAME:PDT
DTSTART:20250309T100000
END:DAYLIGHT
BEGIN:STANDARD
TZOFFSETFROM:-0700
TZOFFSETTO:-0800
TZNAME:PST
DTSTART:20251102T090000
END:STANDARD
END:VTIMEZONE
BEGIN:VEVENT
DTSTART;TZID=America/Los_Angeles:20241031T150000
DTEND;TZID=America/Los_Angeles:20241031T190000
DTSTAMP:20260424T173510
CREATED:20240909T194655Z
LAST-MODIFIED:20240909T194655Z
UID:10001366-1730386800-1730401200@lavozdeklamath.com
SUMMARY:4º Truco o trato anual
DESCRIPTION:4º Truco o trato anual \nLugar: Klamath Fairgrounds\nHora: 31 de octubre 3pm-7pm
URL:https://lavozdeklamath.com/event/4o-truco-o-trato-anual/
LOCATION:Klamath County Fairgrounds\, 3531 S.6th Street\, Klamath Falls\, OR\, 97603\, United States
ATTACH;FMTTYPE=image/jpeg:https://lavozdeklamath.com/wp-content/uploads/2024/09/qtq80-LpqWUM-e1725911175371.jpeg
END:VEVENT
BEGIN:VEVENT
DTSTART;TZID=America/Los_Angeles:20241005T100000
DTEND;TZID=America/Los_Angeles:20241005T130000
DTSTAMP:20260424T173510
CREATED:20240924T213427Z
LAST-MODIFIED:20240924T213427Z
UID:10001376-1728122400-1728133200@lavozdeklamath.com
SUMMARY:El séptimo baby shower anual de la comunidad del condado de Klamath se llevará a cabo el sábado 5 de octubre de 2024
DESCRIPTION:El  séptimo  baby shower comunitario anual del condado de Klamath  será el sábado 5 de octubre de 2024.\nDe 10:00 a. m. a 1:00 p. m. en el recinto ferial del condado de Klamath\, Linman Hall.\n  \n¡Es una feria informativa presentada por Cascade Health Alliance y otros socios de salud locales que atienden a niños y familias en el condado de Klamath! \n  \n¡Todas las mujeres embarazadas y sus parejas\, y los padres de bebés desde el nacimiento hasta el año de edad son bienvenidos! \n  \n¡Regalos\, alimentos e información sobre nutrición\, cobertura de salud\, información sobre vivienda\, clases para padres\, parteras y mucho más! \n  \nSéptimo baby shower comunitario anual\, el sábado 5 de octubre\, de 10 a. m. a 1 p. m.\, en el recinto ferial del condado de Klamath\, Linman Hall. ¡Esperamos verte allí! \n  \n \n 
URL:https://lavozdeklamath.com/event/el-septimo-baby-shower-anual-de-la-comunidad-del-condado-de-klamath-se-llevara-a-cabo-el-sabado-5-de-octubre-de-2024/
LOCATION:Klamath County Fairgrounds\, 3531 S.6th Street\, Klamath Falls\, OR\, 97603\, United States
CATEGORIES:Family Friendly Event,Health and Wellness,Klamath County Event,Klamath Falls Community Event,Klamath Falls Event
ATTACH;FMTTYPE=image/png:https://lavozdeklamath.com/wp-content/uploads/2024/09/community-baby-shower-spanish-1.png
END:VEVENT
BEGIN:VEVENT
DTSTART;TZID=America/Los_Angeles:20240918T090000
DTEND;TZID=America/Los_Angeles:20240918T190000
DTSTAMP:20260424T173510
CREATED:20240909T195143Z
LAST-MODIFIED:20240909T195533Z
UID:10001367-1726650000-1726686000@lavozdeklamath.com
SUMMARY:EXPOSICION RURAL DE NEGOCIOS 2024
DESCRIPTION:¡Únase a nosotros en la Exposición de Negocios Rurales el miércoles 18 de septiembre en el Linman Hall en los terrenos de la feria del condado de Klamath! Este evento dinámico está diseñado para empoderar y conectar a los dueños de negocios a través de una serie de talleres interesantes y una exposición animada. Obtenga conocimientos valiosos sobre temas como mercado técnico digital\, como reclutar empleados y servicios en juntas directivas sin fines de lucro\, todos diseñados para ayudar a su empresa a prosperar en el competitivo mercado actual. \n\n\nNo pierda esta oportunidad de establecer contactos con más de 50 propietarios de empresas\, mostrar sus productos y servicios y recibir exposición en nuestros materiales de marketing. Reciba descuentos por inscripción anticipada\, asegure su lugar ahora y sea parte de un evento que promete elevar su negocio a nuevas alturas. \n\nTerrenos de la Feria del Condado de Klamath \n\n\n3531 S. 6th St \n\n\nKlamath Falls\, OR 97603 \n\n\nLinman Hall \n\n\nContacto del Evento \n\n\nDarla Sharp \n\n\nEnviar correo electrónico \n\n\nMiércoles\, Septiembre 18\, 2024 (9:00 AM – 7:00 PM) \n\n\nPuedes registrar aqui: https://business.klamath.org/events/Details/2024-rural-business-expo-1145796?sourceTypeId=Website
URL:https://lavozdeklamath.com/event/exposicion-rural-de-negocios-2024/
LOCATION:Klamath County Fairgrounds\, 3531 S.6th Street\, Klamath Falls\, OR\, 97603\, United States
CATEGORIES:Klamath Falls Community Event
ATTACH;FMTTYPE=image/jpeg:https://lavozdeklamath.com/wp-content/uploads/2024/09/qtq80-ONUDEE-e1725911473310.jpeg
END:VEVENT
BEGIN:VEVENT
DTSTART;TZID=America/Los_Angeles:20240802T180000
DTEND;TZID=America/Los_Angeles:20240802T200000
DTSTAMP:20260424T173510
CREATED:20240731T010501Z
LAST-MODIFIED:20240731T010501Z
UID:10001346-1722621600-1722628800@lavozdeklamath.com
SUMMARY:Espectáculo del Insanity Fest
DESCRIPTION:Viernes\, 2 de agosto en Feria del Condado de Klamath\nApertura de puertas: 6pm \nPara ver boletos: https://www.etix.com/ticket/p/45663745/insanity-fest-thrill-show-newport-klamath-county-fairgrounds
URL:https://lavozdeklamath.com/event/espectaculo-del-insanity-fest/
LOCATION:Klamath County Fairgrounds\, 3531 S.6th Street\, Klamath Falls\, OR\, 97603\, United States
ATTACH;FMTTYPE=image/jpeg:https://lavozdeklamath.com/wp-content/uploads/2024/07/qtq80-WRZH2d-e1722387879252.jpeg
END:VEVENT
BEGIN:VEVENT
DTSTART;TZID=America/Los_Angeles:20240621T170000
DTEND;TZID=America/Los_Angeles:20240621T170000
DTSTAMP:20260424T173510
CREATED:20240527T235648Z
LAST-MODIFIED:20240527T235648Z
UID:10001322-1718989200-1718989200@lavozdeklamath.com
SUMMARY:Josh Ward en la Feria
DESCRIPTION:Un concierto country para el verano\, entradas en Eventbrite. \nEste evento es para Junio 21\,2024 las puertas abren a las 5pm
URL:https://lavozdeklamath.com/event/josh-ward-en-la-feria/
LOCATION:Klamath County Fairgrounds\, 3531 S.6th Street\, Klamath Falls\, OR\, 97603\, United States
ATTACH;FMTTYPE=image/png:https://lavozdeklamath.com/wp-content/uploads/2024/05/jw.png
END:VEVENT
BEGIN:VEVENT
DTSTART;TZID=America/Los_Angeles:20240601T080000
DTEND;TZID=America/Los_Angeles:20240601T170000
DTSTAMP:20260424T173510
CREATED:20240508T165711Z
LAST-MODIFIED:20240508T165711Z
UID:10001233-1717228800-1717261200@lavozdeklamath.com
SUMMARY:Beneficio para la cuenca de Klamath
DESCRIPTION:Únase a nosotros este año\, sólo un día\, el 1 de Junio\, para la 11ª Cena Benéfica Anual y Exposición de Coches de la Cuenca. ¡DIVERSIÓN PARA TODA LA FAMILIA! El evento se celebrará en el recinto ferial del condado de Klamath. Encontrarás tiendas de estilo boutique\, camiones de comida y una zona infantil ampliada con un castillo hinchable\, pintacaras y mucho más.\nEl objetivo de Benefit for the Basin es mejorar nuestra comunidad apoyando a los jóvenes\, la educación\, la comunidad y el recinto ferial del condado de Klamath. Entendemos que esta es una gran tarea\, nos lo tomamos en serio\, y aunque esto puede ser una gota en el mar\, sentimos que cada gota cuenta. El 100% de la recaudación de Benefit for the Basin se destina a apoyar a la juventud\, la educación\, la comunidad y el recinto ferial del condado de Klamath. \nSituado en el recinto ferial del condado de Klamath \n¡Esperamos verle en nuestros eventos de este año! \n-Exposición de coches \n-Zona infantil \n-Vendedores \n-Camiones \n-Carreras de arrastre invitacionales \n-Cena con subasta silenciosa y en vivo \nPuedes visitar este sitio para mas detalles: https://www.benefitforthebasin.com/
URL:https://lavozdeklamath.com/event/beneficio-para-la-cuenca-de-klamath-2/
LOCATION:Klamath County Fairgrounds\, 3531 S.6th Street\, Klamath Falls\, OR\, 97603\, United States
ATTACH;FMTTYPE=image/jpeg:https://lavozdeklamath.com/wp-content/uploads/2024/05/qtq80-r2H3ny-e1715187248375.jpeg
END:VEVENT
BEGIN:VEVENT
DTSTART;TZID=America/Los_Angeles:20240511T190000
DTEND;TZID=America/Los_Angeles:20240511T203000
DTSTAMP:20260424T173510
CREATED:20240508T161022Z
LAST-MODIFIED:20240508T161022Z
UID:10001230-1715454000-1715459400@lavozdeklamath.com
SUMMARY:Circo sobre hielo
DESCRIPTION:El gran Circo Sobre Hielo te invita a esta aventura helada con todos tus personajes favoritos y asombrosos números circenses. Disfruta junto a tu familia de las actuaciones de nuestros jugglers🤹‍♂️\, equilibrist🤸‍♀️\, payasos🤡 y sensacionales patinadores sobre hielo.⛸❄ \nBoletos: $15 niños -$25 adultos \nPuedes comprar aqui: https://www.eventbrite.com/e/circus-on-ice-klamath-falls-or-tickets-888073320207
URL:https://lavozdeklamath.com/event/circo-sobre-hielo-2/2024-05-11/2/
LOCATION:Klamath County Fairgrounds\, 3531 S.6th Street\, Klamath Falls\, OR\, 97603\, United States
CATEGORIES:Klamath Falls Community Event
ATTACH;FMTTYPE=image/png:https://lavozdeklamath.com/wp-content/uploads/2024/05/c.png
END:VEVENT
BEGIN:VEVENT
DTSTART;TZID=America/Los_Angeles:20240511T163000
DTEND;TZID=America/Los_Angeles:20240511T180000
DTSTAMP:20260424T173510
CREATED:20240508T161022Z
LAST-MODIFIED:20240508T161022Z
UID:10001229-1715445000-1715450400@lavozdeklamath.com
SUMMARY:Circo sobre hielo
DESCRIPTION:El gran Circo Sobre Hielo te invita a esta aventura helada con todos tus personajes favoritos y asombrosos números circenses. Disfruta junto a tu familia de las actuaciones de nuestros jugglers🤹‍♂️\, equilibrist🤸‍♀️\, payasos🤡 y sensacionales patinadores sobre hielo.⛸❄ \nBoletos: $15 niños -$25 adultos \nPuedes comprar aqui: https://www.eventbrite.com/e/circus-on-ice-klamath-falls-or-tickets-888073320207
URL:https://lavozdeklamath.com/event/circo-sobre-hielo-2/2024-05-11/1/
LOCATION:Klamath County Fairgrounds\, 3531 S.6th Street\, Klamath Falls\, OR\, 97603\, United States
CATEGORIES:Klamath Falls Community Event
ATTACH;FMTTYPE=image/png:https://lavozdeklamath.com/wp-content/uploads/2024/05/c.png
END:VEVENT
BEGIN:VEVENT
DTSTART;TZID=America/Los_Angeles:20240417T100000
DTEND;TZID=America/Los_Angeles:20240417T170000
DTSTAMP:20260424T173510
CREATED:20240416T185228Z
LAST-MODIFIED:20240416T185228Z
UID:10001220-1713348000-1713373200@lavozdeklamath.com
SUMMARY:Feria de Empleo del Condado de Klamath
DESCRIPTION:¿Estás buscando trabajo? ¡Ven a la Feria de Empleo! ¡Tenemos muchos empleadores potenciales que quieren conocerte! Este podría ser tu boleto para encontrar el trabajo de tus sueños\, ¡nunca se sabe! No es necesario inscribirse. \nCuando: Miércoles 17 de Abril de 2024 \nDonde: Recinto ferial/centro de eventos del condado de Klamath
URL:https://lavozdeklamath.com/event/feria-de-empleo-del-condado-de-klamath/
LOCATION:Klamath County Fairgrounds\, 3531 S.6th Street\, Klamath Falls\, OR\, 97603\, United States
ATTACH;FMTTYPE=image/jpeg:https://lavozdeklamath.com/wp-content/uploads/2024/04/qtq80-s58GQ8.jpeg
END:VEVENT
BEGIN:VEVENT
DTSTART;TZID=America/Los_Angeles:20240330T190000
DTEND;TZID=America/Los_Angeles:20240330T220000
DTSTAMP:20260424T173510
CREATED:20240228T224647Z
LAST-MODIFIED:20240228T224647Z
UID:10001009-1711825200-1711836000@lavozdeklamath.com
SUMMARY:Series de Combates en Vivo en Arena Wars
DESCRIPTION:Este 30 de Marzo en el Klamath County Fairgrounds va a ver luchas en vivo de varios tecnicas: \n\nKickboxing en jaula\nLucha por Sumisión\nA puño limpio\nBoxeo\n\nLas puertas abren a las 5:30pm y las peleas empiezan a las 7:00pm. \nPara boletos contacte al 541-880-2243 \n 
URL:https://lavozdeklamath.com/event/series-de-combates-en-vivo-en-arena-wars/
LOCATION:Klamath County Fairgrounds\, 3531 S.6th Street\, Klamath Falls\, OR\, 97603\, United States
ATTACH;FMTTYPE=image/jpeg:https://lavozdeklamath.com/wp-content/uploads/2024/02/aw.jpg
END:VEVENT
BEGIN:VEVENT
DTSTART;TZID=America/Los_Angeles:20240301T080000
DTEND;TZID=America/Los_Angeles:20240301T170000
DTSTAMP:20260424T173510
CREATED:20240104T173810Z
LAST-MODIFIED:20240104T173810Z
UID:10000540-1709280000-1709312400@lavozdeklamath.com
SUMMARY:La Locura de los Monster Trucks
DESCRIPTION:EL MONSTER TRUCK INSANITY TOUR TRAE DE NUEVO LA LOCURA AL CONDADO DE KLAMATH. \nEl Monster Truck Insanity Tour convertirá el Centro de eventos recinto ferial del condado de Klamath en un CAMPO DE BATALLA con 2 GRANDES espectáculos el viernes 1 de marzo y el sábado 2 de marzo de 2024. ¡No te pierdas esta INSANA alineación de MONSTRUOS mientras compiten en el estilo de Oregon habilidades shootout\, heads up battle bracket racing\, y loco de alto vuelo\, barro lanzando freestyle! \nLa alineación de monster trucks de Klamath Falls cuenta con algunos de los mejores camiones de todo Estados Unidos. \nPronto más detalles. Para ser el primero en comprar las entradas\, visite este enlace
URL:https://lavozdeklamath.com/event/la-locura-de-los-monster-trucks/2024-03-01/
LOCATION:Klamath County Fairgrounds\, 3531 S.6th Street\, Klamath Falls\, OR\, 97603\, United States
ATTACH;FMTTYPE=image/png:https://lavozdeklamath.com/wp-content/uploads/2024/01/mt.png
END:VEVENT
BEGIN:VEVENT
DTSTART;TZID=America/Los_Angeles:20231203T100000
DTEND;TZID=America/Los_Angeles:20231203T150000
DTSTAMP:20260424T173510
CREATED:20231024T221653Z
LAST-MODIFIED:20231024T221653Z
UID:10000496-1701597600-1701615600@lavozdeklamath.com
SUMMARY:Quota Bazar de Navidad
DESCRIPTION:Este mercado tendra varios puestos y articulos de Navidad. \nEntradas gratuitas (Se aceptan donaciones de pijamas NUEVOS para niños de crianza)
URL:https://lavozdeklamath.com/event/quota-bazar-de-navidad/2023-12-03/
LOCATION:Klamath County Fairgrounds\, 3531 S.6th Street\, Klamath Falls\, OR\, 97603\, United States
ATTACH;FMTTYPE=image/jpeg:https://lavozdeklamath.com/wp-content/uploads/2023/10/qtq80-IVwgm8-e1698185597739.jpeg
END:VEVENT
BEGIN:VEVENT
DTSTART;TZID=America/Los_Angeles:20231202T090000
DTEND;TZID=America/Los_Angeles:20231202T170000
DTSTAMP:20260424T173510
CREATED:20231024T221653Z
LAST-MODIFIED:20231024T221653Z
UID:10000495-1701507600-1701536400@lavozdeklamath.com
SUMMARY:Quota Bazar de Navidad
DESCRIPTION:Este mercado tendra varios puestos y articulos de Navidad. \nEntradas gratuitas (Se aceptan donaciones de pijamas NUEVOS para niños de crianza)
URL:https://lavozdeklamath.com/event/quota-bazar-de-navidad/2023-12-02/
LOCATION:Klamath County Fairgrounds\, 3531 S.6th Street\, Klamath Falls\, OR\, 97603\, United States
ATTACH;FMTTYPE=image/jpeg:https://lavozdeklamath.com/wp-content/uploads/2023/10/qtq80-IVwgm8-e1698185597739.jpeg
END:VEVENT
BEGIN:VEVENT
DTSTART;TZID=America/Los_Angeles:20231031T150000
DTEND;TZID=America/Los_Angeles:20231031T190000
DTSTAMP:20260424T173510
CREATED:20231010T230336Z
LAST-MODIFIED:20231010T230336Z
UID:10000463-1698764400-1698778800@lavozdeklamath.com
SUMMARY:3er Anual Dulces en Cajuela
DESCRIPTION:Ven a pedir dulce o truco con mas de 30 organizaciones comunitarias. \nTodos son bienvenidos.  \nPara mas informacion o reservar para la hora de tranquilidad: 541-851-2360 o contacte a Heidi heidi.gaither@klamathcounty.org
URL:https://lavozdeklamath.com/event/3er-anual-dulces-en-cajuela/
LOCATION:Klamath County Fairgrounds\, 3531 S.6th Street\, Klamath Falls\, OR\, 97603\, United States
ATTACH;FMTTYPE=image/jpeg:https://lavozdeklamath.com/wp-content/uploads/2023/10/eve.jpg
END:VEVENT
BEGIN:VEVENT
DTSTART;TZID=America/Los_Angeles:20231030T173000
DTEND;TZID=America/Los_Angeles:20231030T220000
DTSTAMP:20260424T173510
CREATED:20231024T214908Z
LAST-MODIFIED:20231024T214908Z
UID:10000493-1698687000-1698703200@lavozdeklamath.com
SUMMARY:Pesadilla en la Feria-¡LABERINTO de TERROR!
DESCRIPTION:Trae a toda la familia. Solo $5 por persona más una lata de comida para el banco de alimentos.
URL:https://lavozdeklamath.com/event/pesadilla-en-la-feria-laberinto-de-terror/
LOCATION:Klamath County Fairgrounds\, 3531 S.6th Street\, Klamath Falls\, OR\, 97603\, United States
ATTACH;FMTTYPE=image/jpeg:https://lavozdeklamath.com/wp-content/uploads/2023/10/qtq80-QdzQs6-e1698179716999.jpeg
END:VEVENT
BEGIN:VEVENT
DTSTART;TZID=America/Los_Angeles:20231021T080000
DTEND;TZID=America/Los_Angeles:20231022T170000
DTSTAMP:20260424T173510
CREATED:20230925T224902Z
LAST-MODIFIED:20230925T224902Z
UID:10000454-1697875200-1697994000@lavozdeklamath.com
SUMMARY:541 Brincolines 1ª Anual Festival de la calabaza
DESCRIPTION:Este evento familiar tiene la entrada gratis y dura dos dias.  \nSabado\, Octubre 21 – 10am-5pm \nDomingo\, Octubre 22- 10am-4pm \nContará con: \nParcela de calabazas\nCasas de brinco\nTira del tractor\nBolera de calabazas\nCalabaza Put-Put\nPintura de caras\nFotos de Otoño\nVendedores\nCamiones de comida \n 
URL:https://lavozdeklamath.com/event/541-brincolines-1a-anual-festival-de-la-calabaza/
LOCATION:Klamath County Fairgrounds\, 3531 S.6th Street\, Klamath Falls\, OR\, 97603\, United States
ATTACH;FMTTYPE=image/jpeg:https://lavozdeklamath.com/wp-content/uploads/2023/09/qtq80-O0M7eF-e1695681860853.jpeg
END:VEVENT
BEGIN:VEVENT
DTSTART;TZID=America/Los_Angeles:20230708T070000
DTEND;TZID=America/Los_Angeles:20230708T163000
DTSTAMP:20260424T173510
CREATED:20230630T202652Z
LAST-MODIFIED:20230630T202652Z
UID:10000406-1688799600-1688833800@lavozdeklamath.com
SUMMARY:Beneficio para la Cuenca de Klamath
DESCRIPTION:Acompáñenos este año en la 10ª Cena Benéfica Anual y Exposición de Automóviles de Basin. DIVERSIÓN PARA TODA LA FAMILIA Encontrará tiendas de estilo boutique\, camiones de comida y una zona infantil ampliada con un castillo hinchable\, pintura de caras y mucho más. \nEl objetivo de Benefit for the Basin es mejorar nuestra comunidad apoyando a los jóvenes\, la educación\, la comunidad y el recinto ferial del condado de Klamath. Entendemos que esta es una gran tarea\, nos lo tomamos en serio\, y aunque esto puede ser una gota en el mar\, sentimos que cada gota cuenta. El 100% de la recaudación de Benefit for the Basin se destina a apoyar a la juventud\, la educación\, la comunidad y el recinto ferial del condado de Klamath. \nEsperamos verle en nuestros eventos de este año. \nViernes\, 7 de Julio: \n1 pm – 4 pm Car Show Parking (entrada sur)\n5 pm – 7 pm Happier Hours\n5 pm Se abre la subasta silenciosa\n7 pm Cena \nSábado 8 de Julio \n7.00 – 9.00 Aparcamiento del Salón del Automóvil\n8 am Apertura de vendedores\n9 am Puertas abiertas al público\n9:30 Ceremonia de apertura\n10h Drag Race por invitación\n11am -12 pm & 1 pm – 2 pm Sesión de autógrafos con Dave y Kev-Dog\n15:30 Trofeos y premios
URL:https://lavozdeklamath.com/event/beneficio-para-la-cuenca-de-klamath/2023-07-08/
LOCATION:Klamath County Fairgrounds\, 3531 S.6th Street\, Klamath Falls\, OR\, 97603\, United States
ATTACH;FMTTYPE=image/jpeg:https://lavozdeklamath.com/wp-content/uploads/2023/06/benefit.jpg
END:VEVENT
BEGIN:VEVENT
DTSTART;TZID=America/Los_Angeles:20230707T130000
DTEND;TZID=America/Los_Angeles:20230707T210000
DTSTAMP:20260424T173510
CREATED:20230630T202652Z
LAST-MODIFIED:20230630T202652Z
UID:10000405-1688734800-1688763600@lavozdeklamath.com
SUMMARY:Beneficio para la Cuenca de Klamath
DESCRIPTION:Acompáñenos este año en la 10ª Cena Benéfica Anual y Exposición de Automóviles de Basin. DIVERSIÓN PARA TODA LA FAMILIA Encontrará tiendas de estilo boutique\, camiones de comida y una zona infantil ampliada con un castillo hinchable\, pintura de caras y mucho más. \nEl objetivo de Benefit for the Basin es mejorar nuestra comunidad apoyando a los jóvenes\, la educación\, la comunidad y el recinto ferial del condado de Klamath. Entendemos que esta es una gran tarea\, nos lo tomamos en serio\, y aunque esto puede ser una gota en el mar\, sentimos que cada gota cuenta. El 100% de la recaudación de Benefit for the Basin se destina a apoyar a la juventud\, la educación\, la comunidad y el recinto ferial del condado de Klamath. \nEsperamos verle en nuestros eventos de este año. \nViernes\, 7 de Julio: \n1 pm – 4 pm Car Show Parking (entrada sur)\n5 pm – 7 pm Happier Hours\n5 pm Se abre la subasta silenciosa\n7 pm Cena \nSábado 8 de Julio \n7.00 – 9.00 Aparcamiento del Salón del Automóvil\n8 am Apertura de vendedores\n9 am Puertas abiertas al público\n9:30 Ceremonia de apertura\n10h Drag Race por invitación\n11am -12 pm & 1 pm – 2 pm Sesión de autógrafos con Dave y Kev-Dog\n15:30 Trofeos y premios
URL:https://lavozdeklamath.com/event/beneficio-para-la-cuenca-de-klamath/2023-07-07/
LOCATION:Klamath County Fairgrounds\, 3531 S.6th Street\, Klamath Falls\, OR\, 97603\, United States
ATTACH;FMTTYPE=image/jpeg:https://lavozdeklamath.com/wp-content/uploads/2023/06/benefit.jpg
END:VEVENT
BEGIN:VEVENT
DTSTART;TZID=America/Los_Angeles:20230502T190000
DTEND;TZID=America/Los_Angeles:20230502T203000
DTSTAMP:20260424T173510
CREATED:20230430T193004Z
LAST-MODIFIED:20230430T193031Z
UID:10000132-1683054000-1683059400@lavozdeklamath.com
SUMMARY:Circo sobre hielo
DESCRIPTION:El gran Circo Sobre Hielo le invita a esta aventura helada con todos sus personajes favoritos y asombrosos números circenses. Disfruta junto a tu familia de las actuaciones de nuestros malabaristas\, equilibristas\, payasos y sensacionales patinadores sobre hielo. \nMartes\, 2 de Mayo\, 2023\nHorario de espectáculos: 4:30pm & 7pm \nEntradas: $14.99 \nEntradas limitadas – ¡Date prisa en conseguir la tuya! \n\n\n*Los patinadores sobre hielo actuarán sobre superficies de hielo sintético.
URL:https://lavozdeklamath.com/event/circo-sobre-hielo/2023-05-02/2/
LOCATION:Klamath County Fairgrounds\, 3531 S.6th Street\, Klamath Falls\, OR\, 97603\, United States
ATTACH;FMTTYPE=image/jpeg:https://lavozdeklamath.com/wp-content/uploads/2023/04/Circus-On-Ice.jpg
END:VEVENT
BEGIN:VEVENT
DTSTART;TZID=America/Los_Angeles:20230502T163000
DTEND;TZID=America/Los_Angeles:20230502T180000
DTSTAMP:20260424T173510
CREATED:20230430T193004Z
LAST-MODIFIED:20230430T193031Z
UID:10000131-1683045000-1683050400@lavozdeklamath.com
SUMMARY:Circo sobre hielo
DESCRIPTION:El gran Circo Sobre Hielo le invita a esta aventura helada con todos sus personajes favoritos y asombrosos números circenses. Disfruta junto a tu familia de las actuaciones de nuestros malabaristas\, equilibristas\, payasos y sensacionales patinadores sobre hielo. \nMartes\, 2 de Mayo\, 2023\nHorario de espectáculos: 4:30pm & 7pm \nEntradas: $14.99 \nEntradas limitadas – ¡Date prisa en conseguir la tuya! \n\n\n*Los patinadores sobre hielo actuarán sobre superficies de hielo sintético.
URL:https://lavozdeklamath.com/event/circo-sobre-hielo/2023-05-02/1/
LOCATION:Klamath County Fairgrounds\, 3531 S.6th Street\, Klamath Falls\, OR\, 97603\, United States
ATTACH;FMTTYPE=image/jpeg:https://lavozdeklamath.com/wp-content/uploads/2023/04/Circus-On-Ice.jpg
END:VEVENT
BEGIN:VEVENT
DTSTART;TZID=America/Los_Angeles:20230419T100000
DTEND;TZID=America/Los_Angeles:20230419T160000
DTSTAMP:20260424T173510
CREATED:20230412T214721Z
LAST-MODIFIED:20230412T214916Z
UID:10000118-1681898400-1681920000@lavozdeklamath.com
SUMMARY:Feria de empleo del condado de Klamath 2023
DESCRIPTION:Miercoles 19 de Abril – 10am a 4pm \n¿Estás buscando trabajo? ¡Ven a nuestra Feria de Empleo! ¡Tenemos muchos empleadores potenciales que quieren conocerte! Este podría ser tu boleto para encontrar el trabajo de tus sueños\, ¡nunca se sabe! \n 
URL:https://lavozdeklamath.com/event/feria-de-empleo-del-condado-de-klamath-2023/
LOCATION:Klamath County Fairgrounds\, 3531 S.6th Street\, Klamath Falls\, OR\, 97603\, United States
ATTACH;FMTTYPE=image/jpeg:https://lavozdeklamath.com/wp-content/uploads/2023/04/qtq80-fFBiHt.jpeg
END:VEVENT
END:VCALENDAR