BEGIN:VCALENDAR
VERSION:2.0
PRODID:-//La Voz de Klamath - ECPv6.15.20//NONSGML v1.0//EN
CALSCALE:GREGORIAN
METHOD:PUBLISH
X-ORIGINAL-URL:https://lavozdeklamath.com
X-WR-CALDESC:Events for La Voz de Klamath
REFRESH-INTERVAL;VALUE=DURATION:PT1H
X-Robots-Tag:noindex
X-PUBLISHED-TTL:PT1H
BEGIN:VTIMEZONE
TZID:America/Los_Angeles
BEGIN:DAYLIGHT
TZOFFSETFROM:-0800
TZOFFSETTO:-0700
TZNAME:PDT
DTSTART:20220313T100000
END:DAYLIGHT
BEGIN:STANDARD
TZOFFSETFROM:-0700
TZOFFSETTO:-0800
TZNAME:PST
DTSTART:20221106T090000
END:STANDARD
BEGIN:DAYLIGHT
TZOFFSETFROM:-0800
TZOFFSETTO:-0700
TZNAME:PDT
DTSTART:20230312T100000
END:DAYLIGHT
BEGIN:STANDARD
TZOFFSETFROM:-0700
TZOFFSETTO:-0800
TZNAME:PST
DTSTART:20231105T090000
END:STANDARD
BEGIN:DAYLIGHT
TZOFFSETFROM:-0800
TZOFFSETTO:-0700
TZNAME:PDT
DTSTART:20240310T100000
END:DAYLIGHT
BEGIN:STANDARD
TZOFFSETFROM:-0700
TZOFFSETTO:-0800
TZNAME:PST
DTSTART:20241103T090000
END:STANDARD
BEGIN:DAYLIGHT
TZOFFSETFROM:-0800
TZOFFSETTO:-0700
TZNAME:PDT
DTSTART:20250309T100000
END:DAYLIGHT
BEGIN:STANDARD
TZOFFSETFROM:-0700
TZOFFSETTO:-0800
TZNAME:PST
DTSTART:20251102T090000
END:STANDARD
BEGIN:DAYLIGHT
TZOFFSETFROM:-0800
TZOFFSETTO:-0700
TZNAME:PDT
DTSTART:20260308T100000
END:DAYLIGHT
BEGIN:STANDARD
TZOFFSETFROM:-0700
TZOFFSETTO:-0800
TZNAME:PST
DTSTART:20261101T090000
END:STANDARD
END:VTIMEZONE
BEGIN:VEVENT
DTSTART;TZID=America/Los_Angeles:20250118T143000
DTEND;TZID=America/Los_Angeles:20250118T163000
DTSTAMP:20260424T171136
CREATED:20250110T232035Z
LAST-MODIFIED:20250110T232035Z
UID:10001441-1737210600-1737217800@lavozdeklamath.com
SUMMARY:Beber y Esténcil
DESCRIPTION:Un Evento de Beber y Esténcil tendrá lugar el sábado\, 18 de enero de 2:30pm-4:30pm en Mia’s & Pia’s Pizzeria & Brewhouse. \nTendrás que traer tu propia camiseta para decorar y podrás elegir entre 6 diseños y colores diferentes. $25 cada persona. \nPuedes reservar tu cita aqui: https://www.studio23designz.com/workshops/tee-workshop?fbclid=IwZXh0bgNhZW0CMTAAAR3Ce5Aj83_NdW3IiS8rWZKuupfxnUBlRnrwJGzjO8C5qFvMp6flSU4M0TY_aem_3QnX9730rqwbmyTQpi5v1w
URL:https://lavozdeklamath.com/event/beber-y-estencil/
LOCATION:Mia’s & Pia’s Pizzeria\, 3545 Summers Ln\,\, Klamath Falls\,\, OR\, 97603\, United States
ATTACH;FMTTYPE=image/jpeg:https://lavozdeklamath.com/wp-content/uploads/2025/01/qtq80-qfvfJK-e1736551148299.jpeg
END:VEVENT
BEGIN:VEVENT
DTSTART;TZID=America/Los_Angeles:20241027T153000
DTEND;TZID=America/Los_Angeles:20241027T170000
DTSTAMP:20260424T171136
CREATED:20241025T163218Z
LAST-MODIFIED:20241025T163301Z
UID:10001397-1730043000-1730048400@lavozdeklamath.com
SUMMARY:Sorbo y Esténcil
DESCRIPTION:Relájate el Domingo 27 de Octubre en Mia’s & Pia’s Brewhouse con un día de «Sorbo y Esténcil»\, una introducción a las plantillas de serigrafía de 15:30 a 17:00.
URL:https://lavozdeklamath.com/event/sorbo-y-estencil/
LOCATION:Mia’s & Pia’s Pizzeria\, 3545 Summers Ln\,\, Klamath Falls\,\, OR\, 97603\, United States
ATTACH;FMTTYPE=image/jpeg:https://lavozdeklamath.com/wp-content/uploads/2024/10/qtq80-tHApCs-e1729873929890.jpeg
END:VEVENT
BEGIN:VEVENT
DTSTART;TZID=America/Los_Angeles:20240418T180000
DTEND;TZID=America/Los_Angeles:20240418T200000
DTSTAMP:20260424T171136
CREATED:20240416T183740Z
LAST-MODIFIED:20240416T183740Z
UID:10001218-1713463200-1713470400@lavozdeklamath.com
SUMMARY:EN VIVO: Los Hermanos Reed
DESCRIPTION:Todas las edades estan bienvenidas a escuchar en vivo a Los Hermanos Reed. Tocaran en Mia’s y Pia’s Pizzeria el 18 de Abril de 6 a 8pm. \n  \n 
URL:https://lavozdeklamath.com/event/en-vivo-los-hermanos-reed/
LOCATION:Mia’s & Pia’s Pizzeria\, 3545 Summers Ln\,\, Klamath Falls\,\, OR\, 97603\, United States
ATTACH;FMTTYPE=image/png:https://lavozdeklamath.com/wp-content/uploads/2024/04/breed.png
END:VEVENT
BEGIN:VEVENT
DTSTART;TZID=America/Los_Angeles:20240330T180000
DTEND;TZID=America/Los_Angeles:20240330T200000
DTSTAMP:20260424T171136
CREATED:20240327T231641Z
LAST-MODIFIED:20240327T231641Z
UID:10001132-1711821600-1711828800@lavozdeklamath.com
SUMMARY:Música en vivo: Joel Martin
DESCRIPTION:Este 30 de Marzo a las 6pm tocara Joel Martin en la Pizzeria Mia’s y Pia’s. Todos bienvenidos.
URL:https://lavozdeklamath.com/event/musica-en-vivo-joel-martin/
LOCATION:Mia’s & Pia’s Pizzeria\, 3545 Summers Ln\,\, Klamath Falls\,\, OR\, 97603\, United States
ATTACH;FMTTYPE=image/png:https://lavozdeklamath.com/wp-content/uploads/2024/03/jm.png
END:VEVENT
BEGIN:VEVENT
DTSTART;TZID=America/Los_Angeles:20240120T190000
DTEND;TZID=America/Los_Angeles:20240120T213000
DTSTAMP:20260424T171136
CREATED:20240119T004724Z
LAST-MODIFIED:20240119T004724Z
UID:10000547-1705777200-1705786200@lavozdeklamath.com
SUMMARY:Las Rosa Lees en la Cervecería de Mia y Pia
DESCRIPTION:Ven a divertirte este Sabado\, Enero 20 2024 con una de las bandas de bluegrass más prometedoras de Oregón. \nLas Rosa Lees unen el amor por la música bluegrass\, old-time y de raíces con mucha instrumentación inventiva y dulces armonías a tres y cuatro voces. La banda interpreta una mezcla de canciones originales y americanas favoritas\, desde números bailables llenos de energía hasta escalofriantes baladas vocales.\nCon Jessie Monter al violín\, Rachel Buklad al banjo\, Holly Hurley al bajo y Bekkah McAlvage a la guitarra. \nNo olviden traer sus zapatos de baile. \n 
URL:https://lavozdeklamath.com/event/las-rosa-lees-en-la-cerveceria-de-mia-y-pia/
LOCATION:Mia’s & Pia’s Pizzeria\, 3545 Summers Ln\,\, Klamath Falls\,\, OR\, 97603\, United States
ATTACH;FMTTYPE=image/png:https://lavozdeklamath.com/wp-content/uploads/2024/01/rl.png
END:VEVENT
BEGIN:VEVENT
DTSTART;TZID=America/Los_Angeles:20230730T120000
DTEND;TZID=America/Los_Angeles:20230730T120000
DTSTAMP:20260424T171136
CREATED:20230725T200643Z
LAST-MODIFIED:20230725T200643Z
UID:10000426-1690718400-1690718400@lavozdeklamath.com
SUMMARY:Series de Música de verano el patio: Lou Levison
DESCRIPTION:Cada Domingo en el patio de Mia’s y Pia’s Pizzeria habrá conciertos por varios artistas.
URL:https://lavozdeklamath.com/event/series-de-musica-de-verano-el-patio-lou-levison/
LOCATION:Mia’s & Pia’s Pizzeria\, 3545 Summers Ln\,\, Klamath Falls\,\, OR\, 97603\, United States
ATTACH;FMTTYPE=image/jpeg:https://lavozdeklamath.com/wp-content/uploads/2023/07/qtq80-oG8bvX-e1690315555351.jpeg
END:VEVENT
END:VCALENDAR