BEGIN:VCALENDAR
VERSION:2.0
PRODID:-//La Voz de Klamath - ECPv6.15.20//NONSGML v1.0//EN
CALSCALE:GREGORIAN
METHOD:PUBLISH
X-WR-CALNAME:La Voz de Klamath
X-ORIGINAL-URL:https://lavozdeklamath.com
X-WR-CALDESC:Events for La Voz de Klamath
REFRESH-INTERVAL;VALUE=DURATION:PT1H
X-Robots-Tag:noindex
X-PUBLISHED-TTL:PT1H
BEGIN:VTIMEZONE
TZID:America/Los_Angeles
BEGIN:DAYLIGHT
TZOFFSETFROM:-0800
TZOFFSETTO:-0700
TZNAME:PDT
DTSTART:20220313T100000
END:DAYLIGHT
BEGIN:STANDARD
TZOFFSETFROM:-0700
TZOFFSETTO:-0800
TZNAME:PST
DTSTART:20221106T090000
END:STANDARD
BEGIN:DAYLIGHT
TZOFFSETFROM:-0800
TZOFFSETTO:-0700
TZNAME:PDT
DTSTART:20230312T100000
END:DAYLIGHT
BEGIN:STANDARD
TZOFFSETFROM:-0700
TZOFFSETTO:-0800
TZNAME:PST
DTSTART:20231105T090000
END:STANDARD
BEGIN:DAYLIGHT
TZOFFSETFROM:-0800
TZOFFSETTO:-0700
TZNAME:PDT
DTSTART:20240310T100000
END:DAYLIGHT
BEGIN:STANDARD
TZOFFSETFROM:-0700
TZOFFSETTO:-0800
TZNAME:PST
DTSTART:20241103T090000
END:STANDARD
END:VTIMEZONE
BEGIN:VEVENT
DTSTART;TZID=America/Los_Angeles:20230826T110000
DTEND;TZID=America/Los_Angeles:20230826T160000
DTSTAMP:20260424T130816
CREATED:20230430T201728Z
LAST-MODIFIED:20230430T201728Z
UID:10000133-1693047600-1693065600@lavozdeklamath.com
SUMMARY:Primer Día Anual de Zae
DESCRIPTION:El objetivo con el Día de Zae es concienciar sobre la seguridad de los asientos de seguridad en memoria de Zahavah Townsend.\nAsí como proporcionar un evento divertido para los niños\, ¡Ven y disfruta con nosotros de un gran evento divertido! \nRegalo de sillas de coche después del seminario.\nEl seminario tratará sobre la seguridad de los asientos de seguridad para niños\, así como otros consejos de seguridad. \nEste evento tendra un DJ en vivo para los niños\, barbacoa\, pintacaras\, artes y artesanias\, casa inflable\, y tatuajes temporales. \nSe necesitan vendedores y patrocinadores. \nPóngase en contacto con 458-232-5420
URL:https://lavozdeklamath.com/event/primer-dia-anual-de-zae/
LOCATION:Veterans Park\, 10 George Nurse Wy\, Klamath Falls\, OR\, 97601\, United States
ATTACH;FMTTYPE=image/jpeg:https://lavozdeklamath.com/wp-content/uploads/2023/04/ZaeDay-0814.jpg
ORGANIZER;CN="Forever5":MAILTO:zaeforever5@gmail.com
END:VEVENT
END:VCALENDAR